BEGIN:VCALENDAR
VERSION:2.0
PRODID:-//Wandelstadt Esslingen - ECPv6.15.20//NONSGML v1.0//EN
CALSCALE:GREGORIAN
METHOD:PUBLISH
X-ORIGINAL-URL:https://wandelstadt-esslingen.de
X-WR-CALDESC:Veranstaltungen für Wandelstadt Esslingen
REFRESH-INTERVAL;VALUE=DURATION:PT1H
X-Robots-Tag:noindex
X-PUBLISHED-TTL:PT1H
BEGIN:VTIMEZONE
TZID:Europe/Berlin
BEGIN:DAYLIGHT
TZOFFSETFROM:+0100
TZOFFSETTO:+0200
TZNAME:CEST
DTSTART:20250330T010000
END:DAYLIGHT
BEGIN:STANDARD
TZOFFSETFROM:+0200
TZOFFSETTO:+0100
TZNAME:CET
DTSTART:20251026T010000
END:STANDARD
BEGIN:DAYLIGHT
TZOFFSETFROM:+0100
TZOFFSETTO:+0200
TZNAME:CEST
DTSTART:20260329T010000
END:DAYLIGHT
BEGIN:STANDARD
TZOFFSETFROM:+0200
TZOFFSETTO:+0100
TZNAME:CET
DTSTART:20261025T010000
END:STANDARD
BEGIN:DAYLIGHT
TZOFFSETFROM:+0100
TZOFFSETTO:+0200
TZNAME:CEST
DTSTART:20270328T010000
END:DAYLIGHT
BEGIN:STANDARD
TZOFFSETFROM:+0200
TZOFFSETTO:+0100
TZNAME:CET
DTSTART:20271031T010000
END:STANDARD
END:VTIMEZONE
BEGIN:VEVENT
DTSTART;TZID=Europe/Berlin:20260507T120000
DTEND;TZID=Europe/Berlin:20260517T180000
DTSTAMP:20260421T230417
CREATED:20260323T152546Z
LAST-MODIFIED:20260323T152546Z
UID:10009274-1778155200-1779040800@wandelstadt-esslingen.de
SUMMARY:Wahl des Bürgerausschuss Oberesslingen 2026-2029
DESCRIPTION:Vorstellung wie auch Wahl der Kandidierenden für die Bürgerausschüsse finden über das Online-Portal statt. \n\n\nWahlberechtigt sind: \n\n\n\n\nPersonen ab 16 Jahren\ndie im Gebiet des jeweiligen Bürgerausschusses wohnen\n\n\n\n\nInteressierte reichen ihre Bewerbung um eine Kandidatur sowie ein Kurzportrait auf der Online-Plattform ein\, nach Ende der Einreichungsfrist prüft die Verwaltung die Wählbarkeit der Kandidatinnen und Kandidaten. \n\n\nEtwa zwei Wochen bis wenige Tage vor der Versammlung läuft die Online-Abstimmung. Jeder Wahlberechtigte hat so viele Stimmen\, wie es Sitze im Bürgerausschuss gibt. \n\n\nDarüber hinaus kann auch vor Beginn der Einwohnerversammlung vor Ort abgestimmt werden. Wer die Abstimmung vor Ort nutzt\, muss seine Wahlberechtigung mit einem gültigen Ausweisdokument nachweisen. In der Versammlung selbst wird nur noch das Wahlergebnis bekannt gegeben. \nWahl vor Ort\nVon 18 Uhr bis 18:45 Uhr können Sie vor der Einwohnerversammlung am 21.05.2026 noch wählen! Bringen Sie dazu einen gültigen Ausweis mit.
URL:https://wandelstadt-esslingen.de/event/wahl-des-buergerausschuss-oberesslingen-2026-2029/
LOCATION:online
CATEGORIES:Beteiligung
END:VEVENT
BEGIN:VEVENT
DTSTART;TZID=Europe/Berlin:20260508T193000
DTEND;TZID=Europe/Berlin:20260508T220000
DTSTAMP:20260421T230417
CREATED:20260218T105425Z
LAST-MODIFIED:20260218T105425Z
UID:10008915-1778268600-1778277600@wandelstadt-esslingen.de
SUMMARY:Der Brettheim-Prozess
DESCRIPTION:Brettheim im Hohenloher Land\, Frühjahr 1945: Seit Tagen sind die Artilleriegeschütze der Alliierten in der Ferne zu hören. Die deutschen Soldaten haben sich längst zurückgezogen. Doch die SS verlangt von den Dorfbewohnern\, Panzersperren zu errichten und das Reich bis zum letzten Mann zu verteidigen. Vier bewaffnete Hitlerjungen schickt man nach Brettheim. Dort werden sie von ein paar Einwohnern\, die den sinnlosen Widerstand stoppen wollen\, entwaffnet. Die Brettheimer werden verhört und ihnen droht ein Standgericht wegen Wehrkraftzersetzung. So werden am Ende drei Männer zum Tode verurteilt und am 10. April 1945\, wenige Tage bevor die Amerikaner das Dorf einnehmen\, erhängt. Der Vorfall wurde nach dem Krieg zwischen 1948 und 1960 in mehreren Prozessen aufgearbeitet\, in denen sich der lange Arm der nationalsozialistischen Gesinnung noch immer zeigte. \n80 Jahre nach Ende des Zweiten Weltkriegs drohen die Ereignisse der letzten Kriegstage in Vergessenheit zu geraten. Grund genug\, das im April 1995 an der WLB uraufgeführte Stück „Die Männer von Brettheim“ noch einmal in einer Neufassung des Autors auf die Bühne zu bringen.
URL:https://wandelstadt-esslingen.de/event/der-brettheim-prozess/2026-05-08/
LOCATION:Württembergische Landesbühne – Schauspielhaus mit Podium 1 & 2\, Ritterstraße 11\, Esslingen\, Deutschland
CATEGORIES:Kulturveranstaltung,Live-Veranstaltung
END:VEVENT
END:VCALENDAR