BEGIN:VCALENDAR
VERSION:2.0
PRODID:-//Wandelstadt Esslingen - ECPv6.15.20//NONSGML v1.0//EN
CALSCALE:GREGORIAN
METHOD:PUBLISH
X-WR-CALNAME:Wandelstadt Esslingen
X-ORIGINAL-URL:https://wandelstadt-esslingen.de
X-WR-CALDESC:Veranstaltungen für Wandelstadt Esslingen
REFRESH-INTERVAL;VALUE=DURATION:PT1H
X-Robots-Tag:noindex
X-PUBLISHED-TTL:PT1H
BEGIN:VTIMEZONE
TZID:Europe/Berlin
BEGIN:DAYLIGHT
TZOFFSETFROM:+0100
TZOFFSETTO:+0200
TZNAME:CEST
DTSTART:20250330T010000
END:DAYLIGHT
BEGIN:STANDARD
TZOFFSETFROM:+0200
TZOFFSETTO:+0100
TZNAME:CET
DTSTART:20251026T010000
END:STANDARD
BEGIN:DAYLIGHT
TZOFFSETFROM:+0100
TZOFFSETTO:+0200
TZNAME:CEST
DTSTART:20260329T010000
END:DAYLIGHT
BEGIN:STANDARD
TZOFFSETFROM:+0200
TZOFFSETTO:+0100
TZNAME:CET
DTSTART:20261025T010000
END:STANDARD
BEGIN:DAYLIGHT
TZOFFSETFROM:+0100
TZOFFSETTO:+0200
TZNAME:CEST
DTSTART:20270328T010000
END:DAYLIGHT
BEGIN:STANDARD
TZOFFSETFROM:+0200
TZOFFSETTO:+0100
TZNAME:CET
DTSTART:20271031T010000
END:STANDARD
END:VTIMEZONE
BEGIN:VEVENT
DTSTART;TZID=Europe/Berlin:20260507T090000
DTEND;TZID=Europe/Berlin:20260507T110000
DTSTAMP:20260422T001306
CREATED:20250627T221735Z
LAST-MODIFIED:20250627T221735Z
UID:10005777-1778144400-1778151600@wandelstadt-esslingen.de
SUMMARY:TAT + RAT · Senioren und Seniorinnen helfen
DESCRIPTION:Wobei wir helfen!\nWir unterstützen Sie bei anfallenden Arbeiten\, bei denen „tatkräftige Hilfe“ oder „guter Rat“ benötigt wird. \nBeispiele unserer Tätigkeiten\n▷ Reparaturen im Haushalt \n• Tropfende Wasserhähne\n• Leuchten montieren oder Leuchtmittel austauschen\n• Möbelscharniere reparieren\n• Haltegriffe montieren\n• Montage von Kleinmöbeln\n• und vieles mehr \n▷ Lösung technischer Probleme \n• Digitale Geräte wie Telefon\, Drucker\, Router\, stationärer PC etc.\n• Grundeinstellung Fernseher etc.\n• Bedienungsanleitungen erklären \n▷ Hilfe bei Formularen und beim Verfassen von Schriftstücken\n▷ Beratung wenn Sie unsicher sind\, ob \n• wenige Handgriffe ausreichen\, um das Problem zu beheben\n• ein Kundendienst gerufen werden sollte\n• eine Ersatzbeschaffung sinnvoll schein \nSie erreichen uns persönlich und telefonisch\ndonnerstags von 9 – 11 Uhr\n0711 357420\nAnrufbeantworter wird wöchentlich abgehört. \nSie erreichen uns online\ntatundrat@forum-esslingen.de\nforum-esslingen.de
URL:https://wandelstadt-esslingen.de/event/tat-rat-%c2%b7-senioren-und-seniorinnen-helfen/2026-05-07/
LOCATION:Forum Esslingen in der Schelztorstraße 38\, 73728 Esslingen\, Schelztorstraße 38\, Esslingen\, 73728\, Deutschland
END:VEVENT
BEGIN:VEVENT
DTSTART;TZID=Europe/Berlin:20260507T120000
DTEND;TZID=Europe/Berlin:20260517T180000
DTSTAMP:20260422T001306
CREATED:20260323T152546Z
LAST-MODIFIED:20260323T152546Z
UID:10009274-1778155200-1779040800@wandelstadt-esslingen.de
SUMMARY:Wahl des Bürgerausschuss Oberesslingen 2026-2029
DESCRIPTION:Vorstellung wie auch Wahl der Kandidierenden für die Bürgerausschüsse finden über das Online-Portal statt. \n\n\nWahlberechtigt sind: \n\n\n\n\nPersonen ab 16 Jahren\ndie im Gebiet des jeweiligen Bürgerausschusses wohnen\n\n\n\n\nInteressierte reichen ihre Bewerbung um eine Kandidatur sowie ein Kurzportrait auf der Online-Plattform ein\, nach Ende der Einreichungsfrist prüft die Verwaltung die Wählbarkeit der Kandidatinnen und Kandidaten. \n\n\nEtwa zwei Wochen bis wenige Tage vor der Versammlung läuft die Online-Abstimmung. Jeder Wahlberechtigte hat so viele Stimmen\, wie es Sitze im Bürgerausschuss gibt. \n\n\nDarüber hinaus kann auch vor Beginn der Einwohnerversammlung vor Ort abgestimmt werden. Wer die Abstimmung vor Ort nutzt\, muss seine Wahlberechtigung mit einem gültigen Ausweisdokument nachweisen. In der Versammlung selbst wird nur noch das Wahlergebnis bekannt gegeben. \nWahl vor Ort\nVon 18 Uhr bis 18:45 Uhr können Sie vor der Einwohnerversammlung am 21.05.2026 noch wählen! Bringen Sie dazu einen gültigen Ausweis mit.
URL:https://wandelstadt-esslingen.de/event/wahl-des-buergerausschuss-oberesslingen-2026-2029/
LOCATION:online
CATEGORIES:Beteiligung
END:VEVENT
BEGIN:VEVENT
DTSTART;TZID=Europe/Berlin:20260507T150000
DTEND;TZID=Europe/Berlin:20260507T170000
DTSTAMP:20260422T001306
CREATED:20250329T050120Z
LAST-MODIFIED:20250329T050120Z
UID:10005056-1778166000-1778173200@wandelstadt-esslingen.de
SUMMARY:Gesprächskreis Aktuelles Zeitgeschehen
DESCRIPTION:Jeden Donnerstag von 15 : 00 – 17 : 00 Uhr\nOffener Treff – Gesprächskreis Aktuelles Zeitgeschehen\n In lockerer Runde und in einer Atmosphäre der gegenseitigen Toleranz und\ndes Respekts tauschen wir unsere Meinungen und Fragen hinsichtlich aktueller\nThemen (Politik\, Gesellschaft etc.) aus\, wobei wir offen für jedes Alter und jede\nKultur sind.\nVerschiedene Referent:innen und Gastteilnehmende klären zudem in unregel\nmäßigen Abständen zu speziellen Themen auf. Ebenso fließen Haltungen und\nMeinungen verschiedenster Alters- und Bevölkerungsgruppen ein.\nDiskutieren Sie mit uns – wir freuen uns auf Sie!\n Kontakt:\n Matthias Pallmert\,  gaz@mgh-es.de\nOrt: Mehrgenerationen- und Bürgerhaus\, Weilstr. 8
URL:https://wandelstadt-esslingen.de/event/gespraechskreis-aktuelles-zeitgeschehen/2026-05-07/
LOCATION:Mehrgenerationenhaus Esslingen\, Weilstraße 8\, Esslingen
END:VEVENT
BEGIN:VEVENT
DTSTART;TZID=Europe/Berlin:20260507T180000
DTEND;TZID=Europe/Berlin:20260507T200000
DTSTAMP:20260422T001306
CREATED:20250329T050707Z
LAST-MODIFIED:20250329T050707Z
UID:10005148-1778176800-1778184000@wandelstadt-esslingen.de
SUMMARY:Orte des Zuhörens
DESCRIPTION:Donnerstags \n18 : 00 – 20 : 00 Uhr\nOrte des Zuhörens – Caritas-Zentrum Esslingen\n Geschulte haupt- und ehrenamtliche Mitarbeiter:innen nehmen sich Zeit zum\nZuhören. Sie bieten ein offenes Ohr für alle Anliegen in sozialen und finanziellen\nFragen\, Unterstützung bei Anträgen und Bewerbungen sowie Hilfe im Umgang\nmit Behörden. Vertraulich und kostenlos!\nKontakt: Caritas Fils-Neckar-Alb\, Anniko Benedek\,  0711 3969 – 5422
URL:https://wandelstadt-esslingen.de/event/orte-des-zuhoerens/2026-05-07/
LOCATION:Caritas-Zentrum Esslingen\, Mettinger Str. 123\, Esslingen am Neckar\, 73728\, Deutschland
END:VEVENT
BEGIN:VEVENT
DTSTART;TZID=Europe/Berlin:20260507T180000
DTEND;TZID=Europe/Berlin:20260507T200000
DTSTAMP:20260422T001306
CREATED:20260106T200911Z
LAST-MODIFIED:20260106T200911Z
UID:10008343-1778176800-1778184000@wandelstadt-esslingen.de
SUMMARY:ReparaturCafé Zollberg
DESCRIPTION:ReparaturCafé – Gebrauchsgegenstände aller Art gemeinsam reparieren. \nDer Fön bleibt kalt? Die Hose hat ein Loch? Das Radio ist verstummt?\nDas Stuhlbein wackelt? Die CD springt? Der Mixer rührt sich nicht mehr? \nOb Kleidung\, Elektrogeräte oder andere Gebrauchsgegenstände – das ReparaturCafé bietet neben dem nötigen Werkzeug auch Materialien\, Tips und tatkräftige Hilfe um defekten Dingen aller Art ein zweites Leben einzuhauchen. Mit unseren freiwilligen Reparatur-Spezialistinnen und -Spezialisten ist die erste Hemmschwelle vor dem Ansetzen von Schraubendreher\, Lötkolben oder Schneiderschere schnell überwunden und schon bald folgt die Erkenntnis: Kaputt muss nicht das Ende sein\, und so kompliziert ist das Reparieren ja gar nicht! So lassen sich Rohstoffe\, Ressourcen und nicht zuletzt auch Geld sparen\, man hilft oder lässt sich helfen\, lernt immer etwas dazu\, trifft nette Menschen oder trinkt einfach nur einen Kaffee. Für die Leckereien an der Cafétheke kooperieren wir mit foodsharing Esslingen\, einer Freiwilligenorganisation die Lebensmittel vor dem Wegwerfen rettet. Die Teilnahme am ReparaturCafé ist übrigens kostenlos\, wir freuen uns aber selbstverständlich über Spenden.
URL:https://wandelstadt-esslingen.de/event/reparaturcafe-zollberg-4/2026-05-07/
LOCATION:Gartengeschoss des Ev. Pfarrhaus am Zollberg\, Neuffenstr. 16\, Esslingen\, 73734
ATTACH;FMTTYPE=image/jpeg:https://wandelstadt-esslingen.de/wp-content/uploads/2024/10/RC-Logo_nur_raeder_quadratisch.jpg
END:VEVENT
BEGIN:VEVENT
DTSTART;TZID=Europe/Berlin:20260507T190000
DTEND;TZID=Europe/Berlin:20260507T190000
DTSTAMP:20260422T001306
CREATED:20240628T160749Z
LAST-MODIFIED:20240629T175416Z
UID:10003660-1778180400-1778180400@wandelstadt-esslingen.de
SUMMARY:Fahrradwerkstatt
DESCRIPTION:Wir unterstützen Dich\, wenn Dein Fahrrad nicht mehr tut was es soll.\nFalls Ihr Interesse und Bedarf an unserer Fahrradwerkstatt habt\, meldet Euch per Mail: info@komma. \nVerantwortlich für die Werkstatt ist der Motorradclub Kuhle Wampe. Sie sind ein basisdemokratisch organisierter Motorradclub mit Sitz im Komma und sie betreiben eine Zweiradwerkstatt. Jeden Donnerstag ist die Fahrradwerkstatt geöffnet – bei gutem Wetter wird möglicherweise auch gegrillt.
URL:https://wandelstadt-esslingen.de/event/fahrrad-werkstatt/2026-05-07/
LOCATION:KOMMA\, Maille 5-9\, Esslingen\, Deutschland
END:VEVENT
END:VCALENDAR