BEGIN:VCALENDAR
VERSION:2.0
PRODID:-//Wandelstadt Esslingen - ECPv6.15.20//NONSGML v1.0//EN
CALSCALE:GREGORIAN
METHOD:PUBLISH
X-WR-CALNAME:Wandelstadt Esslingen
X-ORIGINAL-URL:https://wandelstadt-esslingen.de
X-WR-CALDESC:Veranstaltungen für Wandelstadt Esslingen
REFRESH-INTERVAL;VALUE=DURATION:PT1H
X-Robots-Tag:noindex
X-PUBLISHED-TTL:PT1H
BEGIN:VTIMEZONE
TZID:Europe/Berlin
BEGIN:DAYLIGHT
TZOFFSETFROM:+0100
TZOFFSETTO:+0200
TZNAME:CEST
DTSTART:20250330T010000
END:DAYLIGHT
BEGIN:STANDARD
TZOFFSETFROM:+0200
TZOFFSETTO:+0100
TZNAME:CET
DTSTART:20251026T010000
END:STANDARD
BEGIN:DAYLIGHT
TZOFFSETFROM:+0100
TZOFFSETTO:+0200
TZNAME:CEST
DTSTART:20260329T010000
END:DAYLIGHT
BEGIN:STANDARD
TZOFFSETFROM:+0200
TZOFFSETTO:+0100
TZNAME:CET
DTSTART:20261025T010000
END:STANDARD
BEGIN:DAYLIGHT
TZOFFSETFROM:+0100
TZOFFSETTO:+0200
TZNAME:CEST
DTSTART:20270328T010000
END:DAYLIGHT
BEGIN:STANDARD
TZOFFSETFROM:+0200
TZOFFSETTO:+0100
TZNAME:CET
DTSTART:20271031T010000
END:STANDARD
END:VTIMEZONE
BEGIN:VEVENT
DTSTART;TZID=Europe/Berlin:20260427T170000
DTEND;TZID=Europe/Berlin:20260427T190000
DTSTAMP:20260421T211504
CREATED:20260106T204854Z
LAST-MODIFIED:20260106T205452Z
UID:10008627-1777309200-1777316400@wandelstadt-esslingen.de
SUMMARY:Linux-Sprechstunde
DESCRIPTION:Linux-Sprechstunde in der essembly \nHier findest du Antworten auf alle Fragen zum Umstieg auf Linux und ausserdem Hilfe\, falls es nach dem Umstieg Probleme geben sollte:\nessembly\, Milchstrasse 17 in 73728 Esslingen \nMehr Infos zum Linux-Café\, zum Ablauf der Neuinstallation\, zu den nötigen und empfohlenen Vorbereitungen und ganz allgemein zu Freier Software findest du hier: \nwww.linuxcafe-esslingen.de \n#EndOf10 #DigitalIndependenceDay #DIDit #DUTgemacht
URL:https://wandelstadt-esslingen.de/event/linux-sprechstunde-2/2026-04-27/
LOCATION:essembly\, Milchstrasse 17\, Esslingen\, 73728\, Deutschland
ATTACH;FMTTYPE=image/jpeg:https://wandelstadt-esslingen.de/wp-content/uploads/2026/01/endof10_linux_windows-logo.jpg
END:VEVENT
BEGIN:VEVENT
DTSTART;TZID=Europe/Berlin:20260427T173000
DTEND;TZID=Europe/Berlin:20260427T190000
DTSTAMP:20260421T211504
CREATED:20260326T174734Z
LAST-MODIFIED:20260326T174734Z
UID:10009289-1777311000-1777316400@wandelstadt-esslingen.de
SUMMARY:Als wäre es leicht
DESCRIPTION:90 Minuten | FSK 12 (Deskriptoren: Sprache)  | deutsche OriginalfassungAD Filmtipp Mit Untertiteln für Gehörlose und Schwerhörige (SDH)\nDie Hörfilmfassung (AD) ist über die Greta App verfügbar und kann bereits im Vorfeld heruntergeladen werden \n\nKati ist gehörlos\, Florian ist blind. Sie arbeitet mit der Kamera\, er kommentiert ehrenamtlich die Spiele des FC St. Pauli im Stadion. Als sie sich im Dialoghaus Hamburg begegnen\, entsteht zwischen ihnen eine Beziehung\, die ihren eigenen Weg der Verständigung finden muss – jenseits von Sehen und Hören. Doch unterschiedliche Lebenswelten\, Missverständnisse und die Erwartungen ihres Umfelds stellen ihre Nähe immer wieder auf die Probe. \nIn seinem Spielfilmdebüt erzählt Milan Skrobanek diese ungewöhnliche Liebesgeschichte mit großer Sensibilität und leisen humorvollen Momenten.
URL:https://wandelstadt-esslingen.de/event/als-waere-es-leicht/2026-04-27/
LOCATION:Kommunales Kino\, Maille 4-9\, Esslingen\, 73728\, Deutschland
CATEGORIES:Kulturveranstaltung
END:VEVENT
BEGIN:VEVENT
DTSTART;TZID=Europe/Berlin:20260427T183000
DTEND;TZID=Europe/Berlin:20260427T210000
DTSTAMP:20260421T211504
CREATED:20250922T183102Z
LAST-MODIFIED:20260303T190526Z
UID:10009173-1777314600-1777323600@wandelstadt-esslingen.de
SUMMARY:Teamtreffen Wandelstadt Esslingen
DESCRIPTION:Du hast ein Herz für gute Nachrichten und willst zeigen\, was in Esslingen alles in Bewegung ist? Dann komm in unser Team und hilf mit\, die Good News des Wandels sichtbar zu machen!\nOb Website-Gestaltung mit WordPress\, Content pflegen\, Newsletter basteln oder Social Media bespielen – wir freuen uns über Menschen\, die Lust haben\, sich auszuprobieren oder ihr Wissen mit uns zu teilen. \nOder Du bist in Esslingen engagiert und wünschst Dir mehr Aufmerksamkeit oder helfende Hände für dein Projekt? Dann nimm gerne Kontakt mit uns auf und komme zu einem unserer Treffen! Wir freuen uns Dich kennenzulernen und gemeinsam zu überlegen\, wie wir deiner Initiative mehr Licht geben können. \nBei uns geht es um eine Kultur des Miteinanders und darum\, mit Freude etwas Sinnvolles auf die Beine zu stellen. Ehrenamt mit Herz eben. \nWir treffen uns alle zwei Wochen montagabends im Forum für Bürgerengagement\, Schelztorstr. 38. Beginn um 18:00 zu einem optionalen gemeinsamen Abendessen oder ab 18:30\, um direkt zu starten. Ende ist pünktlich um 21 Uhr. \nHast du noch Fragen? Dann schreib uns gerne eine Mail oder schau in unsere FAQ.\nDu möchtest zu einem Treffen kommen? Dann melde Dich bitte verbindlich an unter info@wandelstadt-esslingen.de \nWir freuen uns darauf\, Dich kennenzulernen! \n \n 
URL:https://wandelstadt-esslingen.de/event/teamtreffen-wandelstadt-esslingen/2026-04-27/
LOCATION:Forum Esslingen – Zentrum für Bürgerengagement\, Schelztorstraße 38\, Esslingen\, Deutschland
ORGANIZER;CN="Wandelstadt Esslingen":MAILTO:info@wandelstadt-esslingen.de
END:VEVENT
END:VCALENDAR