BEGIN:VCALENDAR
VERSION:2.0
PRODID:-//Wandelstadt Esslingen - ECPv6.15.20//NONSGML v1.0//EN
CALSCALE:GREGORIAN
METHOD:PUBLISH
X-ORIGINAL-URL:https://wandelstadt-esslingen.de
X-WR-CALDESC:Veranstaltungen für Wandelstadt Esslingen
REFRESH-INTERVAL;VALUE=DURATION:PT1H
X-Robots-Tag:noindex
X-PUBLISHED-TTL:PT1H
BEGIN:VTIMEZONE
TZID:Europe/Berlin
BEGIN:DAYLIGHT
TZOFFSETFROM:+0100
TZOFFSETTO:+0200
TZNAME:CEST
DTSTART:20250330T010000
END:DAYLIGHT
BEGIN:STANDARD
TZOFFSETFROM:+0200
TZOFFSETTO:+0100
TZNAME:CET
DTSTART:20251026T010000
END:STANDARD
BEGIN:DAYLIGHT
TZOFFSETFROM:+0100
TZOFFSETTO:+0200
TZNAME:CEST
DTSTART:20260329T010000
END:DAYLIGHT
BEGIN:STANDARD
TZOFFSETFROM:+0200
TZOFFSETTO:+0100
TZNAME:CET
DTSTART:20261025T010000
END:STANDARD
BEGIN:DAYLIGHT
TZOFFSETFROM:+0100
TZOFFSETTO:+0200
TZNAME:CEST
DTSTART:20270328T010000
END:DAYLIGHT
BEGIN:STANDARD
TZOFFSETFROM:+0200
TZOFFSETTO:+0100
TZNAME:CET
DTSTART:20271031T010000
END:STANDARD
END:VTIMEZONE
BEGIN:VEVENT
DTSTART;TZID=Europe/Berlin:20260424T170000
DTEND;TZID=Europe/Berlin:20260425T235900
DTSTAMP:20260421T230418
CREATED:20260328T181809Z
LAST-MODIFIED:20260328T181809Z
UID:10009303-1777050000-1777161540@wandelstadt-esslingen.de
SUMMARY:Festival Vielfalt – Ein inklusives Kulturfestival in Esslingen
DESCRIPTION:Am 24. und 25. April 2026 wird im KOMMA Esslingen ein offener\, barrierearmer Begegnungsort entstehen\, an dem Menschen jeden Alters mit und ohne Behinderung gemeinsam Kultur erleben\, sich begegnen und Vielfalt feiern können. Das Festival ist ein Ort der Begegnung auf Augenhöhe\, an dem Barrieren abgebaut und gesellschaftliches Miteinander gestärkt werden. \nEuch erwartet ein buntes\, niedrigschwelliges Programm mit Stand-up-Comedy\, verschiedenen Live-Acts und vielen weiteren Highlights. Dazu gehören ein Kinoabend\, eine inklusive Disco\, kreative Workshops\, eine Tombola\, ein gemütlicher Cafébereich sowie Essensstände und ein Foodtruck. \nMit dem Festival Vielfalt möchten wir zeigen\, wie lebendig\, selbstverständlich und bereichernd gelebte Inklusion sein kann. Wir sind eine Projektgruppe der Hochschule Esslingen und laden euch hiermit herzlich ein! \nLasst uns gemeinsam zwei Tage Vielfalt feiern!\nKommt gerne vorbei\, wir freuen uns auf euch – weitere Infos folgen! \nDer Eintritt ist frei.
URL:https://wandelstadt-esslingen.de/event/festival-vielfalt-ein-inklusives-kulturfestival-in-esslingen/
LOCATION:KOMMA Esslingen\, Maille 5-9\, Esslingen\, 73728\, Deutschland
CATEGORIES:Kulturveranstaltung,Live-Veranstaltung
END:VEVENT
BEGIN:VEVENT
DTSTART;TZID=Europe/Berlin:20260425T100000
DTEND;TZID=Europe/Berlin:20260425T120000
DTSTAMP:20260421T230418
CREATED:20260106T204238Z
LAST-MODIFIED:20260106T205521Z
UID:10008525-1777111200-1777118400@wandelstadt-esslingen.de
SUMMARY:Linux-Sprechstunde
DESCRIPTION:Linux-Sprechstunde in der essembly \nHier findest du Antworten auf alle Fragen zum Umstieg auf Linux und ausserdem Hilfe\, falls es nach dem Umstieg Probleme geben sollte:\nessembly\, Milchstrasse 17 in 73728 Esslingen \nMehr Infos zum Linux-Café\, zum Ablauf der Neuinstallation\, zu den nötigen und empfohlenen Vorbereitungen und ganz allgemein zu Freier Software findest du hier: \nwww.linuxcafe-esslingen.de \n#EndOf10 #DigitalIndependenceDay #DIDit #DUTgemacht
URL:https://wandelstadt-esslingen.de/event/linux-sprechstunde/2026-04-25/
LOCATION:essembly\, Milchstrasse 17\, Esslingen\, 73728\, Deutschland
ATTACH;FMTTYPE=image/jpeg:https://wandelstadt-esslingen.de/wp-content/uploads/2026/01/endof10_linux_windows-logo.jpg
END:VEVENT
BEGIN:VEVENT
DTSTART;TZID=Europe/Berlin:20260425T110000
DTEND;TZID=Europe/Berlin:20260425T153000
DTSTAMP:20260421T230418
CREATED:20260122T145239Z
LAST-MODIFIED:20260123T074806Z
UID:10008726-1777114800-1777131000@wandelstadt-esslingen.de
SUMMARY:Vielfalt Hülsenfrüchte - gesunde und bunte Proteinquelle nicht nur für Veganer:innen
DESCRIPTION:
URL:https://wandelstadt-esslingen.de/event/vielfalt-huelsenfruechte-gesunde-und-bunte-proteinquelle-nicht-nur-fuer-veganerinnen/
LOCATION:Berufsschulzentrum Esslingen\, Urbanstraße 28\, Esslingen\, Baden-Württemberg\, 73728\, Deutschland
ORGANIZER;CN="Volkshochschule Esslingen":MAILTO:info@vhs-esslingen.de
END:VEVENT
BEGIN:VEVENT
DTSTART;TZID=Europe/Berlin:20260425T180000
DTEND;TZID=Europe/Berlin:20260425T193000
DTSTAMP:20260421T230418
CREATED:20260326T174734Z
LAST-MODIFIED:20260326T174734Z
UID:10009287-1777140000-1777145400@wandelstadt-esslingen.de
SUMMARY:Als wäre es leicht
DESCRIPTION:90 Minuten | FSK 12 (Deskriptoren: Sprache)  | deutsche OriginalfassungAD Filmtipp Mit Untertiteln für Gehörlose und Schwerhörige (SDH)\nDie Hörfilmfassung (AD) ist über die Greta App verfügbar und kann bereits im Vorfeld heruntergeladen werden \n\nKati ist gehörlos\, Florian ist blind. Sie arbeitet mit der Kamera\, er kommentiert ehrenamtlich die Spiele des FC St. Pauli im Stadion. Als sie sich im Dialoghaus Hamburg begegnen\, entsteht zwischen ihnen eine Beziehung\, die ihren eigenen Weg der Verständigung finden muss – jenseits von Sehen und Hören. Doch unterschiedliche Lebenswelten\, Missverständnisse und die Erwartungen ihres Umfelds stellen ihre Nähe immer wieder auf die Probe. \nIn seinem Spielfilmdebüt erzählt Milan Skrobanek diese ungewöhnliche Liebesgeschichte mit großer Sensibilität und leisen humorvollen Momenten.
URL:https://wandelstadt-esslingen.de/event/als-waere-es-leicht/2026-04-25/
LOCATION:Kommunales Kino\, Maille 4-9\, Esslingen\, 73728\, Deutschland
CATEGORIES:Kulturveranstaltung
END:VEVENT
END:VCALENDAR