BEGIN:VCALENDAR
VERSION:2.0
PRODID:-//Wandelstadt Esslingen - ECPv6.15.20//NONSGML v1.0//EN
CALSCALE:GREGORIAN
METHOD:PUBLISH
X-ORIGINAL-URL:https://wandelstadt-esslingen.de
X-WR-CALDESC:Veranstaltungen für Wandelstadt Esslingen
REFRESH-INTERVAL;VALUE=DURATION:PT1H
X-Robots-Tag:noindex
X-PUBLISHED-TTL:PT1H
BEGIN:VTIMEZONE
TZID:Europe/Berlin
BEGIN:DAYLIGHT
TZOFFSETFROM:+0100
TZOFFSETTO:+0200
TZNAME:CEST
DTSTART:20250330T010000
END:DAYLIGHT
BEGIN:STANDARD
TZOFFSETFROM:+0200
TZOFFSETTO:+0100
TZNAME:CET
DTSTART:20251026T010000
END:STANDARD
BEGIN:DAYLIGHT
TZOFFSETFROM:+0100
TZOFFSETTO:+0200
TZNAME:CEST
DTSTART:20260329T010000
END:DAYLIGHT
BEGIN:STANDARD
TZOFFSETFROM:+0200
TZOFFSETTO:+0100
TZNAME:CET
DTSTART:20261025T010000
END:STANDARD
BEGIN:DAYLIGHT
TZOFFSETFROM:+0100
TZOFFSETTO:+0200
TZNAME:CEST
DTSTART:20270328T010000
END:DAYLIGHT
BEGIN:STANDARD
TZOFFSETFROM:+0200
TZOFFSETTO:+0100
TZNAME:CET
DTSTART:20271031T010000
END:STANDARD
END:VTIMEZONE
BEGIN:VEVENT
DTSTART;TZID=Europe/Berlin:20260417T090000
DTEND;TZID=Europe/Berlin:20260417T110000
DTSTAMP:20260425T023651
CREATED:20260327T110726Z
LAST-MODIFIED:20260327T110726Z
UID:10009297-1776416400-1776423600@wandelstadt-esslingen.de
SUMMARY:Freitagssprechstunde
DESCRIPTION:Rufen Sie an! Vorstandsmitglieder vom StadtSeniorenRat haben von 9 bis 11 Uhr ein offenes Ohr für alle Anliegen von Seniorinnen sowie Senioren und vermitteln auch Termine bei der Esslinger Initiative zur Erstellung von Vorsorgepapieren wie Vollmachten und Patientenverfügungen: Telefon 0711 357420
URL:https://wandelstadt-esslingen.de/event/freitagssprechstunde-35/
LOCATION:Forum Esslingen in der Schelztorstraße 38\, 73728 Esslingen\, Schelztorstraße 38\, Esslingen\, 73728\, Deutschland
ATTACH;FMTTYPE=image/jpeg:https://wandelstadt-esslingen.de/wp-content/uploads/2025/05/Telefonieren.jpg
END:VEVENT
BEGIN:VEVENT
DTSTART;TZID=Europe/Berlin:20260417T180000
DTEND;TZID=Europe/Berlin:20260417T180000
DTSTAMP:20260425T023651
CREATED:20221010T204011Z
LAST-MODIFIED:20221010T204011Z
UID:10005592-1776448800-1776448800@wandelstadt-esslingen.de
SUMMARY:Critical Mass
DESCRIPTION:Critical Mass ist eine weltweite Fahrrad­bewegung\, um eine Alternative zum motorisi­erten Individual­verkehr aufzu­zeigen. Grundlage bildet Paragraph 27 der Straßenverkehrs-Ordnung. \nBei der Critical Mass Esslingen treffen sich jeden 3. Freitag im Monat Radfahrerinnen und Radfahrer zur gemeinsamen Fahrrad­ausfahrt durch Esslingen. Treffpunkt ist um 18:00 Uhr auf dem Bahnhofsvorplatz. Im Anschluss findet oft noch ein Erfahrungsaustausch beim „Radlerstammtisch“ statt.
URL:https://wandelstadt-esslingen.de/event/critical-mass-2/2026-04-17/
LOCATION:Bahnhofsvorplatz\, Esslingen
ORGANIZER;CN="Critical Mass":MAILTO:schugra@posteo.de
END:VEVENT
BEGIN:VEVENT
DTSTART;TZID=Europe/Berlin:20260417T180000
DTEND;TZID=Europe/Berlin:20260417T200000
DTSTAMP:20260425T023651
CREATED:20260323T140242Z
LAST-MODIFIED:20260323T144254Z
UID:10009263-1776448800-1776456000@wandelstadt-esslingen.de
SUMMARY:Jugendbeteiligung
DESCRIPTION:<p>Willst du mitbestimmen\, wie das neue Quartierszentrum Mettingen aussieht und welche Angebote es f&uuml;r Jugendliche geben soll? Dann komm vorbei! Hier kannst du deine Ideen einbringen\, deine W&uuml;nsche teilen und direkt mit dem Projektteam ins Gespr&auml;ch kommen. Ob Freizeit\, Workshops oder coole Treffpunkte &ndash; eure Meinung z&auml;hlt!</p>
URL:https://wandelstadt-esslingen.de/event/jugendbeteiligung/
LOCATION:Quartierszentrum Mettingen\, Rosenstraße 44\, Esslingen\, Deutschland
END:VEVENT
BEGIN:VEVENT
DTSTART;TZID=Europe/Berlin:20260417T180000
DTEND;TZID=Europe/Berlin:20260417T210000
DTSTAMP:20260425T023651
CREATED:20260323T140242Z
LAST-MODIFIED:20260323T145742Z
UID:10009266-1776448800-1776459600@wandelstadt-esslingen.de
SUMMARY:Esslinger Suppkultur – Mach mit!
DESCRIPTION:Aktionsprogramm zum Theodor-Haecker-Preis 2026 \nDie Esslinger Suppkultur ist ein interkulturelles Theaterprojekt für ankommende und schon immer dagewesene Menschen in Esslingen. Jeden Freitag gibt es von 18 bis 20 Uhr einen Theaterworkshop. Ab 20 Uhr werden alle Teilnehmenden zum gemeinsamen Suppe-Essen eingeladen. Alle sind willkommen. Alles ist kostenlos.
URL:https://wandelstadt-esslingen.de/event/esslinger-suppkultur-mach-mit/
LOCATION:Alte Spinnerei\, Maille 3\, Esslingen am Neckar\, 73728\, Deutschland
END:VEVENT
BEGIN:VEVENT
DTSTART;TZID=Europe/Berlin:20260417T183000
DTEND;TZID=Europe/Berlin:20260417T210000
DTSTAMP:20260425T023651
CREATED:20260326T174050Z
LAST-MODIFIED:20260326T174050Z
UID:10009284-1776450600-1776459600@wandelstadt-esslingen.de
SUMMARY:Aufstand der Jugend
DESCRIPTION:Fr | 17.04.2026 | 18.30 Uhr \n111 Minuten | FSK 6  | deutsche Originalfassung Special > Film & Talk Im Anschluss an die Vorführung lädt Regisseur Simon Marian Hoffmann im Rahmen seiner bundesweiten Kinotour zum Generationendialog über Demokratie\, politische Teilhabe und Zukunftsfragen ein. \n\nModeriert wird der Abend von MEHR DEMOKRATIE e.V. \nNach seinem Dokumentarfilm BILDUNGSGANG\, der die Perspektive junger Menschen auf das Bildungssystem ins Zentrum stellte\, richtet Hoffmann den Blick nun auf politische Mitbestimmung. AUFSTAND DER JUGEND begleitet eine diverse Gruppe Jugendlicher\, die sich Gehör verschaffen wollen: Mit Kampagnen\, Performances und Protestaktionen fordern sie das Recht ein\, über ihre Zukunft mitzuentscheiden. \n„Wir haben im Politikgeschehen des Deutschen Bundestages einen Rat der Ältesten\, aber keinen Rat der Jüngsten.“ kritisiert Hoffmann. Deswegen ist eine Forderung des Films\, ein „Deutscher Jugendrat“\, der aus allen Jugendlichen der Bundesrepublik ausgelost wird und gemeinsam die Politik in Zukunftsfragen berät.
URL:https://wandelstadt-esslingen.de/event/aufstand-der-jugend/
LOCATION:Kommunales Kino\, Maille 4-9\, Esslingen\, 73728\, Deutschland
CATEGORIES:Kulturveranstaltung,Podiumsdiskussion
END:VEVENT
END:VCALENDAR