BEGIN:VCALENDAR
VERSION:2.0
PRODID:-//Wandelstadt Esslingen - ECPv6.15.20//NONSGML v1.0//EN
CALSCALE:GREGORIAN
METHOD:PUBLISH
X-ORIGINAL-URL:https://wandelstadt-esslingen.de
X-WR-CALDESC:Veranstaltungen für Wandelstadt Esslingen
REFRESH-INTERVAL;VALUE=DURATION:PT1H
X-Robots-Tag:noindex
X-PUBLISHED-TTL:PT1H
BEGIN:VTIMEZONE
TZID:Europe/Berlin
BEGIN:DAYLIGHT
TZOFFSETFROM:+0100
TZOFFSETTO:+0200
TZNAME:CEST
DTSTART:20250330T010000
END:DAYLIGHT
BEGIN:STANDARD
TZOFFSETFROM:+0200
TZOFFSETTO:+0100
TZNAME:CET
DTSTART:20251026T010000
END:STANDARD
BEGIN:DAYLIGHT
TZOFFSETFROM:+0100
TZOFFSETTO:+0200
TZNAME:CEST
DTSTART:20260329T010000
END:DAYLIGHT
BEGIN:STANDARD
TZOFFSETFROM:+0200
TZOFFSETTO:+0100
TZNAME:CET
DTSTART:20261025T010000
END:STANDARD
BEGIN:DAYLIGHT
TZOFFSETFROM:+0100
TZOFFSETTO:+0200
TZNAME:CEST
DTSTART:20270328T010000
END:DAYLIGHT
BEGIN:STANDARD
TZOFFSETFROM:+0200
TZOFFSETTO:+0100
TZNAME:CET
DTSTART:20271031T010000
END:STANDARD
END:VTIMEZONE
BEGIN:VEVENT
DTSTART;TZID=Europe/Berlin:20260402T120000
DTEND;TZID=Europe/Berlin:20260412T180000
DTSTAMP:20260421T211818
CREATED:20260323T152210Z
LAST-MODIFIED:20260323T152319Z
UID:10009273-1775131200-1776016800@wandelstadt-esslingen.de
SUMMARY:Wahl des Bürgerausschuss Innenstadt 2026-2029
DESCRIPTION:Vorstellung wie auch Wahl der Kandidierenden für die Bürgerausschüsse finden über das Online-Portal statt. \n\n\nWahlberechtigt sind: \n\n\n\n\nPersonen ab 16 Jahren\ndie im Gebiet des jeweiligen Bürgerausschusses wohnen\n\n\n\n\nInteressierte reichen ihre Bewerbung um eine Kandidatur sowie ein Kurzportrait auf der Online-Plattform ein\, nach Ende der Einreichungsfrist prüft die Verwaltung die Wählbarkeit der Kandidatinnen und Kandidaten. \n\n\nEtwa zwei Wochen bis wenige Tage vor der Versammlung läuft die Online-Abstimmung. Jeder Wahlberechtigte hat so viele Stimmen\, wie es Sitze im Bürgerausschuss gibt. \n\n\nDarüber hinaus kann auch vor Beginn der Einwohnerversammlung vor Ort abgestimmt werden. Wer die Abstimmung vor Ort nutzt\, muss seine Wahlberechtigung mit einem gültigen Ausweisdokument nachweisen. In der Versammlung selbst wird nur noch das Wahlergebnis bekannt gegeben. \nWahl vor Ort\nVon 18 Uhr bis 18:45 Uhr können Sie vor der Einwohnerversammlung am 16.04.2026 noch wählen! Bringen Sie dazu einen gültigen Ausweis mit.
URL:https://wandelstadt-esslingen.de/event/wahl-des-buergerausschuss-innenstadt-2026-2029/
LOCATION:online
CATEGORIES:Beteiligung
END:VEVENT
BEGIN:VEVENT
DTSTART;TZID=Europe/Berlin:20260407T143000
DTEND;TZID=Europe/Berlin:20260407T160000
DTSTAMP:20260421T211818
CREATED:20260327T111133Z
LAST-MODIFIED:20260327T111133Z
UID:10009299-1775572200-1775577600@wandelstadt-esslingen.de
SUMMARY:Offenes Singen
DESCRIPTION:Unter dem Motto “Gemeinsam singen macht Freu(n)de lädt der StadtSeniorenRat herzlich alle zum offenen Singen ein. Gerhard Haug begleitet am Klavier.
URL:https://wandelstadt-esslingen.de/event/offenes-singen-11/
LOCATION:Gemeindezentrum Hainbachtal\, Talstraße 52\, Esslingen
ATTACH;FMTTYPE=image/jpeg:https://wandelstadt-esslingen.de/wp-content/uploads/2025/05/Logo-SSR.jpg
END:VEVENT
BEGIN:VEVENT
DTSTART;TZID=Europe/Berlin:20260407T191500
DTEND;TZID=Europe/Berlin:20260407T201500
DTSTAMP:20260421T211818
CREATED:20240520T091234Z
LAST-MODIFIED:20260106T174409Z
UID:10008254-1775589300-1775592900@wandelstadt-esslingen.de
SUMMARY:Inklusive Lachyoga-Gruppe
DESCRIPTION:Lachen ist nicht nur gesund\, sondern auch ansteckend. Und genau darum geht es bei Lachyoga. Gemeinsam lachen und sich gut fühlen\, Stress abbauen und entspannen. Zudem stärkt Lachen die Gesundheit. \n\n\n\n\n\nWann:\nDienstags von 19:15 – 20:15 Uhr\nEinstieg jederzeit möglich!\nKeine Anmeldung erforderlich.\n\n\n\nFür wen:\nFür (fast) jeden geeignet\, da Lachyoga keine schwierigen körperlichen Übungen beinhaltet.\n(siehe Details zur Barrierefreiheit)\n\n\nKursleitung:\nSusanne Klaus (Lachyoga Master Trainerin\, Stuttgarter Lachschule)\n\n\nKosten:\nkeine (freiwillige Spendenbasis)\n\n\nMitzubringen:\netwas zum Trinken
URL:https://wandelstadt-esslingen.de/event/inklusive-lachyoga-gruppe/2026-04-07/
LOCATION:Forum Esslingen – Zentrum für Bürgerengagement\, Schelztorstraße 38\, Esslingen\, Deutschland
ATTACH;FMTTYPE=image/jpeg:https://wandelstadt-esslingen.de/wp-content/uploads/2024/05/Lachyoga-Gruppe_Forum-Esslingen_16-9-scaled.jpg
ORGANIZER;CN="InklusivES - Der Esslinger Stammtisch zum Thema Inklusion":MAILTO:c.lira@inklusives.de
END:VEVENT
END:VCALENDAR