BEGIN:VCALENDAR
VERSION:2.0
PRODID:-//Wandelstadt Esslingen - ECPv6.15.20//NONSGML v1.0//EN
CALSCALE:GREGORIAN
METHOD:PUBLISH
X-WR-CALNAME:Wandelstadt Esslingen
X-ORIGINAL-URL:https://wandelstadt-esslingen.de
X-WR-CALDESC:Veranstaltungen für Wandelstadt Esslingen
REFRESH-INTERVAL;VALUE=DURATION:PT1H
X-Robots-Tag:noindex
X-PUBLISHED-TTL:PT1H
BEGIN:VTIMEZONE
TZID:Europe/Berlin
BEGIN:DAYLIGHT
TZOFFSETFROM:+0100
TZOFFSETTO:+0200
TZNAME:CEST
DTSTART:20250330T010000
END:DAYLIGHT
BEGIN:STANDARD
TZOFFSETFROM:+0200
TZOFFSETTO:+0100
TZNAME:CET
DTSTART:20251026T010000
END:STANDARD
BEGIN:DAYLIGHT
TZOFFSETFROM:+0100
TZOFFSETTO:+0200
TZNAME:CEST
DTSTART:20260329T010000
END:DAYLIGHT
BEGIN:STANDARD
TZOFFSETFROM:+0200
TZOFFSETTO:+0100
TZNAME:CET
DTSTART:20261025T010000
END:STANDARD
BEGIN:DAYLIGHT
TZOFFSETFROM:+0100
TZOFFSETTO:+0200
TZNAME:CEST
DTSTART:20270328T010000
END:DAYLIGHT
BEGIN:STANDARD
TZOFFSETFROM:+0200
TZOFFSETTO:+0100
TZNAME:CET
DTSTART:20271031T010000
END:STANDARD
END:VTIMEZONE
BEGIN:VEVENT
DTSTART;TZID=Europe/Berlin:20260314T090000
DTEND;TZID=Europe/Berlin:20260314T170000
DTSTAMP:20260421T233807
CREATED:20260224T164354Z
LAST-MODIFIED:20260224T164411Z
UID:10009152-1773478800-1773507600@wandelstadt-esslingen.de
SUMMARY:ES putzt
DESCRIPTION:Esslinger Putzaktion am Samstag\, 14. März 2026 ab 9 Uhr \nSämtliche Arbeitsgeräte von den Handschuhen\, Zangen bis hin zu den Fahrzeugen und Containern stellt die Stadt Esslingen. Als Dankeschön an alle fleißigen Helfer gibt es zum Abschluss ein Vesper.\nAlle können mitmachen: Einfach hier online anmelden!
URL:https://wandelstadt-esslingen.de/event/es-putzt/
CATEGORIES:Cleanup
END:VEVENT
BEGIN:VEVENT
DTSTART;TZID=Europe/Berlin:20260314T100000
DTEND;TZID=Europe/Berlin:20260314T120000
DTSTAMP:20260421T233807
CREATED:20260106T204238Z
LAST-MODIFIED:20260106T205521Z
UID:10008519-1773482400-1773489600@wandelstadt-esslingen.de
SUMMARY:Linux-Sprechstunde
DESCRIPTION:Linux-Sprechstunde in der essembly \nHier findest du Antworten auf alle Fragen zum Umstieg auf Linux und ausserdem Hilfe\, falls es nach dem Umstieg Probleme geben sollte:\nessembly\, Milchstrasse 17 in 73728 Esslingen \nMehr Infos zum Linux-Café\, zum Ablauf der Neuinstallation\, zu den nötigen und empfohlenen Vorbereitungen und ganz allgemein zu Freier Software findest du hier: \nwww.linuxcafe-esslingen.de \n#EndOf10 #DigitalIndependenceDay #DIDit #DUTgemacht
URL:https://wandelstadt-esslingen.de/event/linux-sprechstunde/2026-03-14/
LOCATION:essembly\, Milchstrasse 17\, Esslingen\, 73728\, Deutschland
ATTACH;FMTTYPE=image/jpeg:https://wandelstadt-esslingen.de/wp-content/uploads/2026/01/endof10_linux_windows-logo.jpg
END:VEVENT
BEGIN:VEVENT
DTSTART;TZID=Europe/Berlin:20260314T100000
DTEND;TZID=Europe/Berlin:20260314T120000
DTSTAMP:20260421T233807
CREATED:20260224T163241Z
LAST-MODIFIED:20260224T163241Z
UID:10009150-1773482400-1773489600@wandelstadt-esslingen.de
SUMMARY:Warentauschtag "Bring mit - hol ab"
DESCRIPTION:Es ist mal wieder so weit: Das Frühjahr kommt und man hat Lust auf Veränderung. \nDa kommt der Warentauschtag-Termin von „BRING MIT – HOL AB!“ gerade recht\, wenn in Schränken\, Keller\, Garagen wieder mal Platz geschaffen werden soll für Neues. \nAm Freitag nehmen wir in der Hohenkreuzhalle gut erhaltene und saubere Waren an\, die dann am Samstag kostenlos an Interessierte wieder abgeben werden. Die Waren müssen von einer Person zu tragen sein\, – größere Gegenstände können an unserer Pinnwand oder online bei esslingen.verschenkmarkt.info angeboten werden. \nElektrogeräte werden vor Ort geprüft. Bildbände\, Lexika\, CD´s\, Videokassetten TV-Geräte u. ä. können wir leider nicht annehmen. \nWas wir angenommen haben\, muss nach der Veranstaltung nicht wieder abgeholt werden. Man kann entweder nur bringen oder nur holen oder beides.
URL:https://wandelstadt-esslingen.de/event/warentauschtag-bring-mit-hol-ab-2/
LOCATION:Hohenkreuzhalle Esslingen\, Hohenkreuzweg 34\, Esslingen
CATEGORIES:Infoveranstaltung,Verkaufsveranstaltung,Vernetzungsveranstaltung
END:VEVENT
BEGIN:VEVENT
DTSTART;TZID=Europe/Berlin:20260314T103000
DTEND;TZID=Europe/Berlin:20260314T103000
DTSTAMP:20260421T233807
CREATED:20260224T162734Z
LAST-MODIFIED:20260224T162734Z
UID:10009138-1773484200-1773484200@wandelstadt-esslingen.de
SUMMARY:Veganes Frühstück
DESCRIPTION:Frühstück Die Linke lädt zum veganen Frühstück ein! Ein sicherer Ort zum Austausch über persönliche Erfahrungen und feministische Themen – von FLINTA* für FLINTA*. Veranstaltungsort : Kreisbüro Die Linke\, Altenbergweg 3\, 73733 Esslingen am Neckar
URL:https://wandelstadt-esslingen.de/event/veganes-fruehstueck/
LOCATION:Kreisbüro DIE LINKE\, Altenbergweg 3\, Esslingen - Mettingen\, Deutschland
END:VEVENT
END:VCALENDAR