BEGIN:VCALENDAR
VERSION:2.0
PRODID:-//Wandelstadt Esslingen - ECPv6.15.20//NONSGML v1.0//EN
CALSCALE:GREGORIAN
METHOD:PUBLISH
X-ORIGINAL-URL:https://wandelstadt-esslingen.de
X-WR-CALDESC:Veranstaltungen für Wandelstadt Esslingen
REFRESH-INTERVAL;VALUE=DURATION:PT1H
X-Robots-Tag:noindex
X-PUBLISHED-TTL:PT1H
BEGIN:VTIMEZONE
TZID:Europe/Berlin
BEGIN:DAYLIGHT
TZOFFSETFROM:+0100
TZOFFSETTO:+0200
TZNAME:CEST
DTSTART:20250330T010000
END:DAYLIGHT
BEGIN:STANDARD
TZOFFSETFROM:+0200
TZOFFSETTO:+0100
TZNAME:CET
DTSTART:20251026T010000
END:STANDARD
BEGIN:DAYLIGHT
TZOFFSETFROM:+0100
TZOFFSETTO:+0200
TZNAME:CEST
DTSTART:20260329T010000
END:DAYLIGHT
BEGIN:STANDARD
TZOFFSETFROM:+0200
TZOFFSETTO:+0100
TZNAME:CET
DTSTART:20261025T010000
END:STANDARD
BEGIN:DAYLIGHT
TZOFFSETFROM:+0100
TZOFFSETTO:+0200
TZNAME:CEST
DTSTART:20270328T010000
END:DAYLIGHT
BEGIN:STANDARD
TZOFFSETFROM:+0200
TZOFFSETTO:+0100
TZNAME:CET
DTSTART:20271031T010000
END:STANDARD
END:VTIMEZONE
BEGIN:VEVENT
DTSTART;TZID=Europe/Berlin:20260307T090000
DTEND;TZID=Europe/Berlin:20260307T090000
DTSTAMP:20260421T203204
CREATED:20260302T194606Z
LAST-MODIFIED:20260302T194642Z
UID:10009168-1772874000-1772874000@wandelstadt-esslingen.de
SUMMARY:Krötenwanderung Esslingen: Zaunaufbau
DESCRIPTION:Die NABU-Gruppe Esslingen hilft seit vielen Jahren den Erdkröten dabei\, unverletzt aus dem Palmenwald in Esslingen-Weil über die Straße zu ihrem Laichgewässer zu gelangen. \nFür die Betreuung des Zauns\, die täglichen Kontrolleinsätze vom 7. bis voraussichtlich 28. März brauchen wir viele fleißige Helferinnen und Helfer. \nDie Einsatzzeiten sind licht- und wetterabhängig und werden zentral von Ellen Micheel\, NABU\, koordiniert. \nAnmeldung und weitere Informationen. \nTermin für den Aufbau des Zauns: Samstag\, 7. März\, 9 Uhr \nTreffpunkt: Fischzucht Brünner\, Wannenrain 12\, Esslingen-Weil. Erreichbar mit Buslinie 102/103.
URL:https://wandelstadt-esslingen.de/event/kroetenwanderung-esslingen-zaunaufbau/
LOCATION:Fischzucht Brünner\, Wannenrain 12\, Esslingen Am Neckar\, 73733\, Deutschland
END:VEVENT
BEGIN:VEVENT
DTSTART;TZID=Europe/Berlin:20260307T093000
DTEND;TZID=Europe/Berlin:20260307T120000
DTSTAMP:20260421T203204
CREATED:20251120T174518Z
LAST-MODIFIED:20260219T093509Z
UID:10007215-1772875800-1772884800@wandelstadt-esslingen.de
SUMMARY:Baumschnitt - Agendagruppe Streuobstwiesen
DESCRIPTION:Bei gutem Wetter trifft sich die Streuobstwiesengruppe zum Baumschnitt. Neue Helfer:innen sind herzlich willkommen! Für Infos zum Treffpunkt bitte eine Mail an streuobstgruppe@forum-esslingen.de.
URL:https://wandelstadt-esslingen.de/event/baumschnitt-agendagruppe-streuobstwiesen-13/2026-03-07/
ORGANIZER;CN="Agendagruppe Streuobstwiesen":MAILTO:streuobstgruppe@forum-esslingen.de
END:VEVENT
BEGIN:VEVENT
DTSTART;TZID=Europe/Berlin:20260307T100000
DTEND;TZID=Europe/Berlin:20260307T120000
DTSTAMP:20260421T203204
CREATED:20260106T204238Z
LAST-MODIFIED:20260106T205521Z
UID:10008518-1772877600-1772884800@wandelstadt-esslingen.de
SUMMARY:Linux-Sprechstunde
DESCRIPTION:Linux-Sprechstunde in der essembly \nHier findest du Antworten auf alle Fragen zum Umstieg auf Linux und ausserdem Hilfe\, falls es nach dem Umstieg Probleme geben sollte:\nessembly\, Milchstrasse 17 in 73728 Esslingen \nMehr Infos zum Linux-Café\, zum Ablauf der Neuinstallation\, zu den nötigen und empfohlenen Vorbereitungen und ganz allgemein zu Freier Software findest du hier: \nwww.linuxcafe-esslingen.de \n#EndOf10 #DigitalIndependenceDay #DIDit #DUTgemacht
URL:https://wandelstadt-esslingen.de/event/linux-sprechstunde/2026-03-07/
LOCATION:essembly\, Milchstrasse 17\, Esslingen\, 73728\, Deutschland
ATTACH;FMTTYPE=image/jpeg:https://wandelstadt-esslingen.de/wp-content/uploads/2026/01/endof10_linux_windows-logo.jpg
END:VEVENT
BEGIN:VEVENT
DTSTART;TZID=Europe/Berlin:20260307T180000
DTEND;TZID=Europe/Berlin:20260307T203000
DTSTAMP:20260421T203204
CREATED:20260218T101748Z
LAST-MODIFIED:20260218T101748Z
UID:10008899-1772906400-1772915400@wandelstadt-esslingen.de
SUMMARY:Coexistence\, My Ass!
DESCRIPTION:Fr | 06.03.2026 | 18.45 Uhr \n95 Minuten | FSK 12 (Deskriptoren: Gewalt\, belastende Themen)  | OmU\n„Zwanzig Jahre Friedensaktivismus brachten mir zwanzig Zuhörer\, ein Witz zwanzig Millionen.“ Mit ihrer Stand-up-Show COEXISTENCE\, MY ASS! nutzt Noam Shuster Eliassi Humor als politisches Werkzeug – scharf\, selbstironisch und bewusst provokant. Die Dokumentarfilmerin Amber Fares begleitet die israelische Comedian über mehrere Jahre. Sie verfolgt Noam Shuster Eliassis Weg von ihrer früheren Tätigkeit in der Politik als Botschafterin des Dialogs bis zu einer zunehmend kompromisslosen Haltung als politische Komikerin. \nVor und nach dem Terroranschlag der Hamas am 7. Oktober 2023 und dem Gaza-Krieg verschärfen sich Ton und Konflikte. So wird das persönliche Porträt zu einer Reflexion über die Möglichkeiten und Grenzen von Humor\, Aktivismus und Koexistenz – und über die Frage\, was von der Utopie des Friedens bleibt.
URL:https://wandelstadt-esslingen.de/event/coexistence-my-ass/2026-03-07/
LOCATION:Kommunales Kino\, Maille 4-9\, Esslingen\, 73728\, Deutschland
CATEGORIES:Kulturveranstaltung,Live-Veranstaltung
END:VEVENT
BEGIN:VEVENT
DTSTART;TZID=Europe/Berlin:20260307T190000
DTEND;TZID=Europe/Berlin:20260307T223000
DTSTAMP:20260421T203204
CREATED:20250427T000535Z
LAST-MODIFIED:20251125T194843Z
UID:10004969-1772910000-1772922600@wandelstadt-esslingen.de
SUMMARY:Makerspace Esslingen Workshop
DESCRIPTION:Zusammen wollen wir von- und miteinander lernen! Im Makerspace Esslingen beschäftigen wir uns mit Technik im weitestmöglichen Sinne. Von Elektronik und 3D-Druck über Programmierung bis IT-Sicherheit ist alles dabei. \nSeit Januar 2021 treffen wir uns jeden Monat zu einem Workshop und bringen uns gegenseitig den Umgang mit Technik bei. Dabei wollen wir uns gegenseitig motivieren\, die Technik\, die uns im Alltag begleitet\, nicht nur zu nutzen\, sondern auch zu verstehen. Zusammen entwickeln wir beispielsweise Platinen\, drucken Teile mit dem 3D-Drucker\, programmieren unsere eigene Software oder beteiligen uns mit unserem Team „Zwiebel“ an IT-Security-Wettbewerben\, sogenannten CTFs. Jeden ersten Samstag im Monat treffen wir uns im Forum Esslingen und tauschen uns im Rahmen eines Workshops über ein Thema aus. \nIm Mastadon-Profil finden sich in der Regel eine Woche vorher Informationen über Thema und den Ort.
URL:https://wandelstadt-esslingen.de/event/makerspace-esslingen-workshop-2/2026-03-07/
LOCATION:Essembly – Der Technikraum in Esslingen\, Milchstraße 17\, Esslingen\, 73728\, Deutschland
CATEGORIES:Beteiligung,Vernetzungsveranstaltung
END:VEVENT
BEGIN:VEVENT
DTSTART;TZID=Europe/Berlin:20260307T200000
DTEND;TZID=Europe/Berlin:20260307T220000
DTSTAMP:20260421T203204
CREATED:20260218T105634Z
LAST-MODIFIED:20260218T105634Z
UID:10008917-1772913600-1772920800@wandelstadt-esslingen.de
SUMMARY:PODIUM Esslingen x Kids Dance
DESCRIPTION:Mit Hip-Hop und Freestyle Tanz begeistern die jungen Tänzer*innen von Kids Dance aus der Pliensauvorstadt seit vielen Jahren ihr Publikum und sammeln eine Auszeichnung nach der anderen. Jetzt arbeiten die talentierten Kinder und Jugendlichen erneut mit jungen Musiker*innen des Stegreif.orchesters zusammen und zeigen eindrucksvoll\, wie es gelingt\, mit Improvisation und viel Freude und Spass am Auftritt\, einen gemeinsamen Ausdruck zu finden. Als Teil der PODIUM Reihe STADTTEILKKONZERTE zeigt der Abend\, wie Musik verbindet\, Horizonte erweitert und das Gefühl von Zusammengehörigkeit zwischen den unterschiedlichsten Menschen fördert. \nDie Performance findet im Rahmen einer Kooperation von PODIUM Esslingen mit Kids Dance\, dem STEGREIF.orchester und dem Kulturzentrum Dieselstrasse im Vorfeld des PODIUM Festivals 2026 (30.April – 10. Mai) statt.
URL:https://wandelstadt-esslingen.de/event/podium-esslingen-x-kids-dance/
LOCATION:Kulturzentrum Dieselstraße\, Dieselstraße 26\, Esslingen\, Deutschland
CATEGORIES:Kulturveranstaltung,Live-Veranstaltung
ORGANIZER;CN="Podium Musikstiftung Esslingen":MAILTO:post@podium-esslingen.de
END:VEVENT
END:VCALENDAR