BEGIN:VCALENDAR
VERSION:2.0
PRODID:-//Wandelstadt Esslingen - ECPv6.15.20//NONSGML v1.0//EN
CALSCALE:GREGORIAN
METHOD:PUBLISH
X-ORIGINAL-URL:https://wandelstadt-esslingen.de
X-WR-CALDESC:Veranstaltungen für Wandelstadt Esslingen
REFRESH-INTERVAL;VALUE=DURATION:PT1H
X-Robots-Tag:noindex
X-PUBLISHED-TTL:PT1H
BEGIN:VTIMEZONE
TZID:Europe/Berlin
BEGIN:DAYLIGHT
TZOFFSETFROM:+0100
TZOFFSETTO:+0200
TZNAME:CEST
DTSTART:20250330T010000
END:DAYLIGHT
BEGIN:STANDARD
TZOFFSETFROM:+0200
TZOFFSETTO:+0100
TZNAME:CET
DTSTART:20251026T010000
END:STANDARD
BEGIN:DAYLIGHT
TZOFFSETFROM:+0100
TZOFFSETTO:+0200
TZNAME:CEST
DTSTART:20260329T010000
END:DAYLIGHT
BEGIN:STANDARD
TZOFFSETFROM:+0200
TZOFFSETTO:+0100
TZNAME:CET
DTSTART:20261025T010000
END:STANDARD
BEGIN:DAYLIGHT
TZOFFSETFROM:+0100
TZOFFSETTO:+0200
TZNAME:CEST
DTSTART:20270328T010000
END:DAYLIGHT
BEGIN:STANDARD
TZOFFSETFROM:+0200
TZOFFSETTO:+0100
TZNAME:CET
DTSTART:20271031T010000
END:STANDARD
END:VTIMEZONE
BEGIN:VEVENT
DTSTART;TZID=Europe/Berlin:20260303T143000
DTEND;TZID=Europe/Berlin:20260303T160000
DTSTAMP:20260421T203205
CREATED:20260220T154245Z
LAST-MODIFIED:20260220T154245Z
UID:10009113-1772548200-1772553600@wandelstadt-esslingen.de
SUMMARY:Offenes Singen
DESCRIPTION:Unter dem Motto “Gemeinsam singen macht Freu(n)de lädt der StadtSeniorenRat herzlich alle zum offenen Singen ein. Gerhard Haug begleitet am Klavier. \n 
URL:https://wandelstadt-esslingen.de/event/offenes-singen-9/
LOCATION:Gemeindezentrum Hainbachtal\, Talstraße 52\, Esslingen
CATEGORIES:Kulturveranstaltung
ATTACH;FMTTYPE=image/jpeg:https://wandelstadt-esslingen.de/wp-content/uploads/2025/05/Logo-SSR.jpg
END:VEVENT
BEGIN:VEVENT
DTSTART;TZID=Europe/Berlin:20260303T180000
DTEND;TZID=Europe/Berlin:20260303T193000
DTSTAMP:20260421T203205
CREATED:20240404T160027Z
LAST-MODIFIED:20260111T163620Z
UID:10008680-1772560800-1772566200@wandelstadt-esslingen.de
SUMMARY:Stadtgärtle  – Gemeinsames Gärtnern in der Esslinger City – Transition Town Esslingen
DESCRIPTION:Die AG Stadtgärtle trifft sich zum Buddeln und Fachsimpeln vor Ort am Kesselwasen. Es darf gejätet\, gepflanzt und geerntet werden. Interessierte sind jederzeit herzlich willkommen. Veranstalter: Transition Town Esslingen Anmeldung über das Kontaktformular auf unserer Webseite www.transition-town-es.de
URL:https://wandelstadt-esslingen.de/event/ag-stadtgaertle-gemeinsam-gaertnern-in-der-esslinger-city-5-2/2026-03-03/
LOCATION:Stadtgärtle\, Kesselwasen\, Esslingen am Neckar\, 73728\, Deutschland
ORGANIZER;CN="Transition Town Esslingen - Stadt im Wandel":MAILTO:kontakt@transition-town-es.de
GEO:48.740985961712;9.3061272393363
X-APPLE-STRUCTURED-LOCATION;VALUE=URI;X-ADDRESS=Stadtgärtle Kesselwasen Esslingen am Neckar 73728 Deutschland;X-APPLE-RADIUS=500;X-TITLE=Kesselwasen:geo:9.3061272393363,48.740985961712
END:VEVENT
BEGIN:VEVENT
DTSTART;TZID=Europe/Berlin:20260303T191500
DTEND;TZID=Europe/Berlin:20260303T201500
DTSTAMP:20260421T203205
CREATED:20240520T091234Z
LAST-MODIFIED:20260106T174409Z
UID:10008249-1772565300-1772568900@wandelstadt-esslingen.de
SUMMARY:Inklusive Lachyoga-Gruppe
DESCRIPTION:Lachen ist nicht nur gesund\, sondern auch ansteckend. Und genau darum geht es bei Lachyoga. Gemeinsam lachen und sich gut fühlen\, Stress abbauen und entspannen. Zudem stärkt Lachen die Gesundheit. \n\n\n\n\n\nWann:\nDienstags von 19:15 – 20:15 Uhr\nEinstieg jederzeit möglich!\nKeine Anmeldung erforderlich.\n\n\n\nFür wen:\nFür (fast) jeden geeignet\, da Lachyoga keine schwierigen körperlichen Übungen beinhaltet.\n(siehe Details zur Barrierefreiheit)\n\n\nKursleitung:\nSusanne Klaus (Lachyoga Master Trainerin\, Stuttgarter Lachschule)\n\n\nKosten:\nkeine (freiwillige Spendenbasis)\n\n\nMitzubringen:\netwas zum Trinken
URL:https://wandelstadt-esslingen.de/event/inklusive-lachyoga-gruppe/2026-03-03/
LOCATION:Forum Esslingen – Zentrum für Bürgerengagement\, Schelztorstraße 38\, Esslingen\, Deutschland
ATTACH;FMTTYPE=image/jpeg:https://wandelstadt-esslingen.de/wp-content/uploads/2024/05/Lachyoga-Gruppe_Forum-Esslingen_16-9-scaled.jpg
ORGANIZER;CN="InklusivES - Der Esslinger Stammtisch zum Thema Inklusion":MAILTO:c.lira@inklusives.de
END:VEVENT
END:VCALENDAR