BEGIN:VCALENDAR
VERSION:2.0
PRODID:-//Wandelstadt Esslingen - ECPv6.15.20//NONSGML v1.0//EN
CALSCALE:GREGORIAN
METHOD:PUBLISH
X-WR-CALNAME:Wandelstadt Esslingen
X-ORIGINAL-URL:https://wandelstadt-esslingen.de
X-WR-CALDESC:Veranstaltungen für Wandelstadt Esslingen
REFRESH-INTERVAL;VALUE=DURATION:PT1H
X-Robots-Tag:noindex
X-PUBLISHED-TTL:PT1H
BEGIN:VTIMEZONE
TZID:Europe/Berlin
BEGIN:DAYLIGHT
TZOFFSETFROM:+0100
TZOFFSETTO:+0200
TZNAME:CEST
DTSTART:20250330T010000
END:DAYLIGHT
BEGIN:STANDARD
TZOFFSETFROM:+0200
TZOFFSETTO:+0100
TZNAME:CET
DTSTART:20251026T010000
END:STANDARD
BEGIN:DAYLIGHT
TZOFFSETFROM:+0100
TZOFFSETTO:+0200
TZNAME:CEST
DTSTART:20260329T010000
END:DAYLIGHT
BEGIN:STANDARD
TZOFFSETFROM:+0200
TZOFFSETTO:+0100
TZNAME:CET
DTSTART:20261025T010000
END:STANDARD
BEGIN:DAYLIGHT
TZOFFSETFROM:+0100
TZOFFSETTO:+0200
TZNAME:CEST
DTSTART:20270328T010000
END:DAYLIGHT
BEGIN:STANDARD
TZOFFSETFROM:+0200
TZOFFSETTO:+0100
TZNAME:CET
DTSTART:20271031T010000
END:STANDARD
END:VTIMEZONE
BEGIN:VEVENT
DTSTART;TZID=Europe/Berlin:20260224T120000
DTEND;TZID=Europe/Berlin:20260224T133000
DTSTAMP:20260421T200912
CREATED:20260124T142802Z
LAST-MODIFIED:20260124T171848Z
UID:10008750-1771934400-1771939800@wandelstadt-esslingen.de
SUMMARY:Einstecken und sparen? - Erfahrungsbericht eines Energieberaters zu den Stecker-PV Geräten
DESCRIPTION:In den kostenfreien Online-Vorträgen bietet die Energieberatung der Verbraucherzentrale Baden-Württemberg einen Rundumblick über interessante Themen. Die Anmeldung und weitere Informationen finden Sie unter: https://www.verbraucherzentrale-bawue.de/energie/onlineseminare-der-energieberatung-105875
URL:https://wandelstadt-esslingen.de/event/einstecken-und-sparen-erfahrungsbericht-eines-energieberaters-zu-den-stecker-pv-geraeten-2/
LOCATION:online
ORGANIZER;CN="Verbraucherzentrale Baden-W%C3%BCrttemberg e.V.":MAILTO:info@vz-bw.de
END:VEVENT
BEGIN:VEVENT
DTSTART;TZID=Europe/Berlin:20260224T163000
DTEND;TZID=Europe/Berlin:20260224T183000
DTSTAMP:20260421T200912
CREATED:20240819T152750Z
LAST-MODIFIED:20260201T184829Z
UID:10007201-1771950600-1771957800@wandelstadt-esslingen.de
SUMMARY:Öffnung der Nutzpflanzenbibliothek - Transition Town Esslingen
DESCRIPTION:Die Esslinger Nutzpflanzenbibliothek öffnet ihre Schatzkiste zur Ausleihe und Rückgabe als offenes Angebot in der Esslinger Stadtbücherei. Ihr findet uns im 1.OG in der Mitte. Jede*r kann Nutzer*in unserer Tomatenvielfalt werden und mithelfen die über 150 samenfesten Sorten zu erhalten. Eine Mitgliedschaft in der Stadtbücherei ist nicht erforderlich. Mehr Infos unter www.transition-town-es.de
URL:https://wandelstadt-esslingen.de/event/oeffnung-der-nutzpflanzenbibliothek/2026-02-24/
LOCATION:Stadtbibliothek\, Heugasse 9\, Esslingen\, Deutschland
ORGANIZER;CN="Transition Town Esslingen - Stadt im Wandel":MAILTO:kontakt@transition-town-es.de
END:VEVENT
BEGIN:VEVENT
DTSTART;TZID=Europe/Berlin:20260224T170000
DTEND;TZID=Europe/Berlin:20260224T183000
DTSTAMP:20260421T200912
CREATED:20260124T142802Z
LAST-MODIFIED:20260124T172042Z
UID:10008751-1771952400-1771957800@wandelstadt-esslingen.de
SUMMARY:Sonnige Zukunft: Beitriebsmodelle für Photovoltaik auf Mehrfamilienhäusern
DESCRIPTION:In den kostenfreien Online-Vorträgen bietet die Energieberatung der Verbraucherzentrale Baden-Württemberg einen Rundumblick über interessante Themen. Die Anmeldung und weitere Informationen finden Sie unter: https://www.verbraucherzentrale-bawue.de/energie/onlineseminare-der-energieberatung-105875
URL:https://wandelstadt-esslingen.de/event/sonnige-zukunft-beitriebsmodelle-fuer-photovoltaik-auf-mehrfamilienhaeusern/
LOCATION:online
ORGANIZER;CN="Verbraucherzentrale Baden-W%C3%BCrttemberg e.V.":MAILTO:info@vz-bw.de
END:VEVENT
BEGIN:VEVENT
DTSTART;TZID=Europe/Berlin:20260224T190000
DTEND;TZID=Europe/Berlin:20260224T210000
DTSTAMP:20260421T200912
CREATED:20250917T125233Z
LAST-MODIFIED:20260201T171650Z
UID:10006538-1771959600-1771966800@wandelstadt-esslingen.de
SUMMARY:Energieabend - Balkonkraftwerke mit Speicher – Theorie und Umsetzung anhand eines realen Beispiels
DESCRIPTION:Wie viel Energie steckt wirklich in einem Balkonkraftwerk mit Speicher? Dieser Vortragsabend zeigt verständlich und praxisnah\, welche Komponenten entscheidend sind\, welche All-in-One-Systeme der Markt aktuell bietet und wie sie sich unterscheiden. Anhand eines realen Projekts erfahren Sie\, wie groß der Ertrag in der Theorie ist – und was davon im Alltag tatsächlich ankommt. \nAnmeldung: energie@klimagerechtigkeit-esslingen.de
URL:https://wandelstadt-esslingen.de/event/oeffentlicher-energieabend/
LOCATION:Mehrgenerationen- und Bürgerhaus Pliensauvorstadt\, Weilstr. 8\, Esslingen am Neckar\, Baden Württemberg\, 73734\, Deutschland
END:VEVENT
BEGIN:VEVENT
DTSTART;TZID=Europe/Berlin:20260224T191500
DTEND;TZID=Europe/Berlin:20260224T201500
DTSTAMP:20260421T200912
CREATED:20240520T091234Z
LAST-MODIFIED:20260106T174409Z
UID:10008248-1771960500-1771964100@wandelstadt-esslingen.de
SUMMARY:Inklusive Lachyoga-Gruppe
DESCRIPTION:Lachen ist nicht nur gesund\, sondern auch ansteckend. Und genau darum geht es bei Lachyoga. Gemeinsam lachen und sich gut fühlen\, Stress abbauen und entspannen. Zudem stärkt Lachen die Gesundheit. \n\n\n\n\n\nWann:\nDienstags von 19:15 – 20:15 Uhr\nEinstieg jederzeit möglich!\nKeine Anmeldung erforderlich.\n\n\n\nFür wen:\nFür (fast) jeden geeignet\, da Lachyoga keine schwierigen körperlichen Übungen beinhaltet.\n(siehe Details zur Barrierefreiheit)\n\n\nKursleitung:\nSusanne Klaus (Lachyoga Master Trainerin\, Stuttgarter Lachschule)\n\n\nKosten:\nkeine (freiwillige Spendenbasis)\n\n\nMitzubringen:\netwas zum Trinken
URL:https://wandelstadt-esslingen.de/event/inklusive-lachyoga-gruppe/2026-02-24/
LOCATION:Forum Esslingen – Zentrum für Bürgerengagement\, Schelztorstraße 38\, Esslingen\, Deutschland
ATTACH;FMTTYPE=image/jpeg:https://wandelstadt-esslingen.de/wp-content/uploads/2024/05/Lachyoga-Gruppe_Forum-Esslingen_16-9-scaled.jpg
ORGANIZER;CN="InklusivES - Der Esslinger Stammtisch zum Thema Inklusion":MAILTO:c.lira@inklusives.de
END:VEVENT
BEGIN:VEVENT
DTSTART;TZID=Europe/Berlin:20260224T193000
DTEND;TZID=Europe/Berlin:20260224T220000
DTSTAMP:20260421T200912
CREATED:20260124T192049Z
LAST-MODIFIED:20260124T192049Z
UID:10008822-1771961400-1771970400@wandelstadt-esslingen.de
SUMMARY:Ist das noch/schon mein Land? Reden wir über Heimat
DESCRIPTION:Mit einer großen Gesprächsreihe durch Baden-Württemberg vor den Landtagswahlen lädt PEN Berlin zu Debatten über Heimat und Demokratie ein. Zwei Gäste aus unterschiedlichen gesellschaftlichen Bereichen treffen aufeinander – und auf das Publikum. Denn hier ist das Publikum nicht Beiwerk\, sondern der dritte Gast: Es diskutiert\, widerspricht\, ergänzt und prägt den Abend entscheidend mit. Ein offenes Gespräch darüber\, was die Gesellschaft zusammenhält und sie auseinander zu reißen droht.\nIm Rahmen eines Diskussionsformats gestaltet der PEN Berlin einen Abend im KOMMA. \nZu Gast sind u. a. Jovana Reisinger\, Schriftstellerin\, Georg Restle Journalist (WDR)\, Johanes Fischer\, Chefredakteur Eßlinger Zeitung\, Deniz Yücel\, Journalist\, Autor und ehemaliger Türkei-Korrespondent der Welt\, der sich heute intensiv für Presse- und Meinungsfreiheit engagiert\, sowie Aron Boks\, Autor und Publizist\, Mitglied des PEN Berlin\, der zu politischer Kultur\, Demokratie und freiem Wort arbeitet sowie . \nDer Eintritt ist frei.
URL:https://wandelstadt-esslingen.de/event/ist-das-noch-schon-mein-land-reden-wir-ueber-heimat/
LOCATION:KOMMA Esslingen\, Maille 5-9\, Esslingen\, 73728\, Deutschland
CATEGORIES:Podiumsdiskussion
END:VEVENT
END:VCALENDAR