BEGIN:VCALENDAR
VERSION:2.0
PRODID:-//Wandelstadt Esslingen - ECPv6.15.20//NONSGML v1.0//EN
CALSCALE:GREGORIAN
METHOD:PUBLISH
X-ORIGINAL-URL:https://wandelstadt-esslingen.de
X-WR-CALDESC:Veranstaltungen für Wandelstadt Esslingen
REFRESH-INTERVAL;VALUE=DURATION:PT1H
X-Robots-Tag:noindex
X-PUBLISHED-TTL:PT1H
BEGIN:VTIMEZONE
TZID:Europe/Berlin
BEGIN:DAYLIGHT
TZOFFSETFROM:+0100
TZOFFSETTO:+0200
TZNAME:CEST
DTSTART:20250330T010000
END:DAYLIGHT
BEGIN:STANDARD
TZOFFSETFROM:+0200
TZOFFSETTO:+0100
TZNAME:CET
DTSTART:20251026T010000
END:STANDARD
BEGIN:DAYLIGHT
TZOFFSETFROM:+0100
TZOFFSETTO:+0200
TZNAME:CEST
DTSTART:20260329T010000
END:DAYLIGHT
BEGIN:STANDARD
TZOFFSETFROM:+0200
TZOFFSETTO:+0100
TZNAME:CET
DTSTART:20261025T010000
END:STANDARD
BEGIN:DAYLIGHT
TZOFFSETFROM:+0100
TZOFFSETTO:+0200
TZNAME:CEST
DTSTART:20270328T010000
END:DAYLIGHT
BEGIN:STANDARD
TZOFFSETFROM:+0200
TZOFFSETTO:+0100
TZNAME:CET
DTSTART:20271031T010000
END:STANDARD
END:VTIMEZONE
BEGIN:VEVENT
DTSTART;TZID=Europe/Berlin:20260218T090000
DTEND;TZID=Europe/Berlin:20260218T170000
DTSTAMP:20260421T203206
CREATED:20260209T093310Z
LAST-MODIFIED:20260209T093310Z
UID:10008873-1771405200-1771434000@wandelstadt-esslingen.de
SUMMARY:Wanderung von Berkheim ins Körschtal
DESCRIPTION:Der StadtSeniorenRat lädt zu einer rund 10 Km langen (120 Höhenmeter) mittelschweren Wanderung  von Berkheim zur Gaststätte Ponderosa ein. Auf gutem Weg geht es vorbei am Berkheimer Waldheim und der Donareiche\, einem geschichtsträchtigen Naturdenkmal\, ins Körschtal. Entlang dem Deutschen Institut für Textil- und Faserforschung und vorbei an der mächtigen Klingenlinde gelangen die Wanderer anschließend zur Einkehr in die Gaststätte Ponderosa. Nach der Stärkung führt der Rückweg an der Reitanlage Gronbach vorbei ins Körschtal zur gleichnamigen Bushaltestelle. Treffpunkt: 9.35 Uhr Berkheim\, Bushaltestelle Jakobstraße. Anreise ab ZOB Esslingen mit Bus 113 um 9.19 Uhr. Anmeldung: Heinz Reutter Handy: 0175 5648445
URL:https://wandelstadt-esslingen.de/event/wanderung-von-berkheim-ins-koerschtal/
LOCATION:Treffpunkt am ZOB\, Bahnhof\, Esslingen
CATEGORIES:Wanderung
ATTACH;FMTTYPE=image/jpeg:https://wandelstadt-esslingen.de/wp-content/uploads/2026/02/1280px-Naturdenkmal_Klingenlinde_Koengen.jpg
END:VEVENT
BEGIN:VEVENT
DTSTART;TZID=Europe/Berlin:20260218T153000
DTEND;TZID=Europe/Berlin:20260218T170000
DTSTAMP:20260421T203206
CREATED:20251218T062943Z
LAST-MODIFIED:20251218T062943Z
UID:10008139-1771428600-1771434000@wandelstadt-esslingen.de
SUMMARY:Chor OMAS GEGEN RECHTS Esslingen
DESCRIPTION:Der Chor von OMAS GEGEN RECHTS Esslingen trifft sich jeden 2. Mittwoch – immer in der geraden KW –  im KOMMA\, Maille 5-9\, 73728 Esslingen (Hintereingang durch den Hof und die Metalltreppe hinauf) \nUnterstützt durch Gitarre werden Lieder eingeübt\, die bei Demos oder bei Aktionen als Earcatcher vorgetragen werden.\nDer Chor freut sich über neue – auch ungeübte -Sänger*innen. Notenlesen nicht erforderlich. \nEin Beispiel zum Anhören\nKeine*r wählt hier rechts: https://www.youtube.com/watch?v=n_KnMoZ2S1k \n 
URL:https://wandelstadt-esslingen.de/event/chor-omas-gegen-rechts-esslingen-10-2/2026-02-18/
LOCATION:KOMMA\, Maille 5-9\, Esslingen\, Deutschland
ORGANIZER;CN="OMAS GEGEN RECHTS Esslingen":MAILTO:ogr-esslingen@posteo.de
END:VEVENT
BEGIN:VEVENT
DTSTART;TZID=Europe/Berlin:20260218T180000
DTEND;TZID=Europe/Berlin:20260218T191500
DTSTAMP:20260421T203206
CREATED:20251207T102043Z
LAST-MODIFIED:20251207T102043Z
UID:10007859-1771437600-1771442100@wandelstadt-esslingen.de
SUMMARY:Ashtanga Yoga im Bürgerforum Esslingen
DESCRIPTION:Wir treffen uns wöchentlich zu einem „Flow am Abend“. Es werden unterschiedliche Asanas (Haltungen) und unterschiedliche anatomische Schwerpunkte gesetzt. Dabei orinetiere ich mich an der ersten Serie des Ashtanga-Yogas. \nBürgerforum\nSchelztorstraße 38 blau\,\n73728 Esslingen\n‍\nmittwochs 18-19:15 Uhr\nkostenlos \nan folgenden Tagen entfällt der Kurs:\n24.12.2025\, 31.12.2025
URL:https://wandelstadt-esslingen.de/event/ashtanga-yoga-im-buergerforum-esslingen/2026-02-18/
LOCATION:Forum Esslingen\, Schelztorstraße 38\, Esslingen\, 73728
CATEGORIES:Achtsamkeit,Sport und Gesundheit,Yoga
ORGANIZER;CN="Ashtanga Yoga Gruppe":MAILTO:fothalexander.yoga@outlook.de
END:VEVENT
BEGIN:VEVENT
DTSTART;TZID=Europe/Berlin:20260218T180000
DTEND;TZID=Europe/Berlin:20260218T200000
DTSTAMP:20260421T203206
CREATED:20251127T202915Z
LAST-MODIFIED:20251127T202915Z
UID:10007569-1771437600-1771444800@wandelstadt-esslingen.de
SUMMARY:Textil- und druckwerkstatt
DESCRIPTION:Deine Band braucht Merch? Oder du hast Lust\, personalisierte Designs auf Klamotten zu sticken oder zu drucken? Hast du generell Interesse an Textildesign und Mode? Wir stellen Material\, vorgefertigte Motive\, eine Näh-\, eine Stickmaschine und einen Schneideplotter zu Verfügung\, damit du an\, auf und mit Textilien in kleinen Format experimentieren kannst. Bring dein Material zum Bedrucken mit. Im Hinblick auf nachhaltigen Konsum\, kannst du gerne alte oder unbenutzte Textilien mitbringen! \nWir haben die grundlegende Ausstattung für Photoshootings: Leinwand (Weiss\, Schwarz und Grün)\, 3 Dauerlichter\, Kamera und Zubehör. \nKostenlos und ohne Anmeldung – jeden Mittwoch ab 18 Uhr und auf Anfrage\nTagesaktuelle Infos auf Instagram @kommaesslingen\nKontakt: werkstatt@komma.info
URL:https://wandelstadt-esslingen.de/event/textil-und-druckwerkstatt/2026-02-18/
LOCATION:KOMMA Esslingen\, Maille 5-9\, Esslingen\, 73728\, Deutschland
CATEGORIES:Live-Veranstaltung,Vernetzungsveranstaltung,Workshop
END:VEVENT
BEGIN:VEVENT
DTSTART;TZID=Europe/Berlin:20260218T180000
DTEND;TZID=Europe/Berlin:20260218T210000
DTSTAMP:20260421T203206
CREATED:20240628T154510Z
LAST-MODIFIED:20251125T194322Z
UID:10003136-1771437600-1771448400@wandelstadt-esslingen.de
SUMMARY:Kunststoff-Lab
DESCRIPTION:Positiv gegen Kunststoffverschmutzung \nAn einen Alltag ohne Kunststoffe ist nicht mehr zu denken. Das Material hat nach wie vor wertvolle Eigenschaften\, die wir nach dem “Precious-Plastic-Modell“ in einer kleinen Kunststoffrecycling- Manufaktur einsetzen. “Precious-Plastic“ ist ein internationales Projekt. 2012 in den Niederlanden gestartet\, besteht mittlerweile aus einem globalen Netzwerk von Workspaces. Das Komma in Esslingen ist mit dem @preciousplastic_esslingen Teil dieser Bewegung. 2021 bauten wir unsere Werkstatt mit Maschinen zur Plastikverarbeitung auf. Der Mehrwert des Projektes ist es\, die Möglichkeiten und Grenzen des „Selber-Machens“ selbst zu erfahren\, und zwar in einem für die Kreativität und Empowerment sicheren Ort. \nAus Abfall entsteht ein neuer Rohstoff\, aus dem du eigene Werkstücke wie z. B. kleine Möbel\, Lampen\, Taschen und Schmuck kreieren kannst. Schau dir hier an\, was wir 2023 in der Workshopreihe gemacht haben. \nMit und für junge Menschen: Wir können uns nicht mehr anhören\, wie schlecht die Klimakrise ist. Wir wollen was dagegen machen! Was würdest du daraus machen? \n  \nOffene Kunststoffwerkstatt \nAb Mai 2024 steht immer Mittwochs die offene Kunstwerkstatt für die Einführung in die „Precious-Plastic-Welt“\, die Kunststoffverarbeitung und Materialexperimente zur Verfügung. Plastik wird sortiert\, geschreddert und eingeschmolzen. \nHast du es zum letzten Workshop nicht geschafft und wolltest dir immer Schmuck selber machen? Oder einfach mal mehr über die Kunststoffwerkstatt wissen? Oder hast du sogar ein eigenes Projekt im Kopf\, das du mit Kunststoffplatten versuchen möchtest? Dann ist die offene Werkstatt genau richtig für dich. \nSolltest du es unter der Woche nicht schaffen\, gibt es ab Juni 2024 auch immer am  1. Samstag im Monat die offene Werkstatt. Die Nutzung der Werkstatt ist kostenlos. An den genannten Terminen kannst du ohne Anmeldung teilnehmen.  Ausnahmen aufgrund von Komma Veranstaltungen werden über die Internetseite des Mittwochs geteilt. \nMaterial falls nicht selbst gesammelt\, ist auf Spendenbasis verfügbar\, solange Vorrat reicht. Hier findest du ein How-to-collect\, damit du schauen kannst\, was wir in der Werkstatt grundsätzlich verwenden können. \nEinführungen in die Precious-Plastic-Welt sind auf Deutsch\, Englisch und Spanisch möglich. Hast du noch Fragen? Schreib uns gerne eine Nachricht an plastic@komma.info oder komm einfach vorbei! \nDie Teilnahme ist kostenlos\, wir bitten um Anmeldung per Mail an plastic@komma.info. \nKollabs und Netzwerk \nGroßes Potenzial liegt in unserer interdisziplinären Zusammenarbeit – sowohl im Komma-Team als auch in Kooperationen. Wir arbeiten mit Schulen\, Hochschulen\, Designer*innen\, Initiativen\, Werkstätten und andere Precious Plastics Gruppen auf der Welt zusammen. Hast du eine Idee zu einer Kollaboration? Schreib uns gerne an plastic@komma.info. \nFunfäct \n„The Bänk“\, unser erstes Projekt\, hat es in die Endrunde der RoGUILTLESSPLASTIC Awards geschafft und wurde bei der Mailänder Designwoche (Juni 2022) ausgestellt. Wie das gebaut wurde\, findest du im Video. \nTagesaktuelle Informationen und Workshop-Angebote finden sich auf Instagram @preciousplastic_esslingen \n 
URL:https://wandelstadt-esslingen.de/event/https-www-komma-info-precious-plastic/2026-02-18/
LOCATION:KOMMA\, Maille 5-9\, Esslingen\, Deutschland
END:VEVENT
BEGIN:VEVENT
DTSTART;TZID=Europe/Berlin:20260218T190000
DTEND;TZID=Europe/Berlin:20260218T210000
DTSTAMP:20260421T203206
CREATED:20260102T172425Z
LAST-MODIFIED:20260102T172425Z
UID:10008213-1771441200-1771448400@wandelstadt-esslingen.de
SUMMARY:Treffen des Bündnis Esslingen aufs Rad
DESCRIPTION:Jeden Monat treffen sich Radfahrende aus Esslingen und Umgebung\, um sich über die Radinfrastruktur auszutauschen\, Aktionen zu besprechen oder auch Frust und Lust beim Radfahren zu teilen.\nDazu sind alle herzlich eingeladen.\nDas Bündnis Esslingen aufs Rad ist die gemeinsame Aktionsplattform von ADFC und VCD in Esslingen.
URL:https://wandelstadt-esslingen.de/event/treffen-des-buendnis-esslingen-aufs-rad-3/2026-02-18/
LOCATION:Forum Esslingen – Zentrum für Bürgerengagement\, Schelztorstraße 38\, Esslingen\, Deutschland
CATEGORIES:Beteiligung,Gemütliches Treffen,Infoveranstaltung,Vernetzungsveranstaltung
END:VEVENT
BEGIN:VEVENT
DTSTART;TZID=Europe/Berlin:20260218T193000
DTEND;TZID=Europe/Berlin:20260218T193000
DTSTAMP:20260421T203206
CREATED:20260127T214618Z
LAST-MODIFIED:20260127T214618Z
UID:10008839-1771443000-1771443000@wandelstadt-esslingen.de
SUMMARY:Das philosophische Café: Melancholie\, Einsamkeit\, Angst
DESCRIPTION:Die Philosophie der Gefühle schaut auch in die dunkleren seelischen Zonen. Die Melancholie hat Philosoph:innen\, Psycholog:innen und Künstler:innen immer schon fasziniert. Man kann sich an ihr wärmen\, doch Vorsicht! Einsamkeitsgefühle sind heute trotz der Allgegenwart der sozialer Netzwerke weit verbreitet. Ist Einsamkeit immer nur negativ? Gibt es einen Unterschied zwischen Einsamkeit und Alleinsein? Und was ist mit der Angst? Sie lähmt unseren Geist\, raubt uns Vertrauen und warnt uns wiederum vor realen Gefahren. Der philosophische Blick will hier noch tiefer eindringen. Wer traut sich\, mitzuschauen? \nIm philosophischen Café erzählt Philosoph und Autor Peter Vollbrecht von Themen\, die die Denker:innen seit der Antike beschäftigen\, erklärt aktuelle gesellschaftspolitische Debatten und regt die Teilnehmer:innen dazu an\, ihre eigenen Gedanken in Worte zu fassen. Zu allen Themen der Staffel hat Peter Vollbrecht Texte aus Philosophie\, Literatur und Kunstgeschichte zusammengestellt\, die als Textsammlungen zu Beginn ausgehändigt werden. \n\n\n\nKostenfrei für Kulturpass-Inhaber:innen.
URL:https://wandelstadt-esslingen.de/event/das-philosophische-cafe-melancholie-einsamkeit-angst/
LOCATION:Stadtbücherei Esslingen am Neckar\, Heugasse 9\, Esslingen am Neckar\, 73728
CATEGORIES:Demonstration,Kulturveranstaltung
END:VEVENT
BEGIN:VEVENT
DTSTART;TZID=Europe/Berlin:20260218T193000
DTEND;TZID=Europe/Berlin:20260218T210000
DTSTAMP:20260421T203206
CREATED:20260124T173820Z
LAST-MODIFIED:20260124T173820Z
UID:10008753-1771443000-1771448400@wandelstadt-esslingen.de
SUMMARY:Treffen der NABU-Ortsgruppe
DESCRIPTION:Unsere monatlichen Gruppentreffen finden ab sofort im Forum\, Zentrum für Bürgerengagement\, Schelztorstr. 38\, 73728 Esslingen am Neckar statt.
URL:https://wandelstadt-esslingen.de/event/treffen-der-nabu-ortsgruppe/2026-02-18/
LOCATION:Forum Esslingen – Zentrum für Bürgerengagement\, Schelztorstraße 38\, Esslingen\, Deutschland
CATEGORIES:Beteiligung,Gemütliches Treffen,Vernetzungsveranstaltung
END:VEVENT
BEGIN:VEVENT
DTSTART;TZID=Europe/Berlin:20260218T200000
DTEND;TZID=Europe/Berlin:20260218T230000
DTSTAMP:20260421T203206
CREATED:20260124T175145Z
LAST-MODIFIED:20260126T193713Z
UID:10008807-1771444800-1771455600@wandelstadt-esslingen.de
SUMMARY:Silent Friend
DESCRIPTION:147 Minuten | FSK 6  | deutsche Originalfassung\, in Teilen untertitelt Filmtipp \nWir wollen den Begriff Meisterwerk nicht überstrapazieren\, aber dieser Film hat ihn sich in vielerlei Hinsicht verdient. Da ist natürlich die Regie\,\naber auch das exzellente Sound-Design\, der raffinierte Schnitt und nicht zuletzt der Kameramann\, der die drei Episoden auf unterschiedlichen Materialien filmte. Der Film lädt zur Entschleunigung ein\, ist heiter\, leise\, ermutigend\, sinnlich und bei 2\,5 Stunden Laufzeit keinen Moment langatmig. Unser Filmtipp!  \nDer majestätische Ginkgo biloba im Botanischen Garten der Universität Marburg ist beständiger Zeuge unzähliger Menschenleben: zum Beispiel vom chinesischen Neurowissenschaftler Tony\, Gastprofessor in Marburg während der Pandemie\, von Grete\, die als erste Frau zum Biologiestudium zugelassen wird\, und dem frauen- und sexualfeindlichen Klima der Wilhelminischen Ära trotzt und schließlich von Studienanfänger Hannes\, der sich in den 70ern in seine Mitbewohnerin verliebt und in den Semesterferien aufopferungsvoll deren Experimente fortsetzt.
URL:https://wandelstadt-esslingen.de/event/silent-friend/2026-02-18/
LOCATION:Kommunales Kino\, Maille 4-9\, Esslingen\, 73728\, Deutschland
CATEGORIES:Kulturveranstaltung,Live-Veranstaltung
END:VEVENT
END:VCALENDAR