BEGIN:VCALENDAR
VERSION:2.0
PRODID:-//Wandelstadt Esslingen - ECPv6.15.20//NONSGML v1.0//EN
CALSCALE:GREGORIAN
METHOD:PUBLISH
X-WR-CALNAME:Wandelstadt Esslingen
X-ORIGINAL-URL:https://wandelstadt-esslingen.de
X-WR-CALDESC:Veranstaltungen für Wandelstadt Esslingen
REFRESH-INTERVAL;VALUE=DURATION:PT1H
X-Robots-Tag:noindex
X-PUBLISHED-TTL:PT1H
BEGIN:VTIMEZONE
TZID:Europe/Berlin
BEGIN:DAYLIGHT
TZOFFSETFROM:+0100
TZOFFSETTO:+0200
TZNAME:CEST
DTSTART:20250330T010000
END:DAYLIGHT
BEGIN:STANDARD
TZOFFSETFROM:+0200
TZOFFSETTO:+0100
TZNAME:CET
DTSTART:20251026T010000
END:STANDARD
BEGIN:DAYLIGHT
TZOFFSETFROM:+0100
TZOFFSETTO:+0200
TZNAME:CEST
DTSTART:20260329T010000
END:DAYLIGHT
BEGIN:STANDARD
TZOFFSETFROM:+0200
TZOFFSETTO:+0100
TZNAME:CET
DTSTART:20261025T010000
END:STANDARD
BEGIN:DAYLIGHT
TZOFFSETFROM:+0100
TZOFFSETTO:+0200
TZNAME:CEST
DTSTART:20270328T010000
END:DAYLIGHT
BEGIN:STANDARD
TZOFFSETFROM:+0200
TZOFFSETTO:+0100
TZNAME:CET
DTSTART:20271031T010000
END:STANDARD
END:VTIMEZONE
BEGIN:VEVENT
DTSTART;TZID=Europe/Berlin:20260216T170000
DTEND;TZID=Europe/Berlin:20260216T190000
DTSTAMP:20260421T203133
CREATED:20260106T204854Z
LAST-MODIFIED:20260106T205452Z
UID:10008617-1771261200-1771268400@wandelstadt-esslingen.de
SUMMARY:Linux-Sprechstunde
DESCRIPTION:Linux-Sprechstunde in der essembly \nHier findest du Antworten auf alle Fragen zum Umstieg auf Linux und ausserdem Hilfe\, falls es nach dem Umstieg Probleme geben sollte:\nessembly\, Milchstrasse 17 in 73728 Esslingen \nMehr Infos zum Linux-Café\, zum Ablauf der Neuinstallation\, zu den nötigen und empfohlenen Vorbereitungen und ganz allgemein zu Freier Software findest du hier: \nwww.linuxcafe-esslingen.de \n#EndOf10 #DigitalIndependenceDay #DIDit #DUTgemacht
URL:https://wandelstadt-esslingen.de/event/linux-sprechstunde-2/2026-02-16/
LOCATION:essembly\, Milchstrasse 17\, Esslingen\, 73728\, Deutschland
ATTACH;FMTTYPE=image/jpeg:https://wandelstadt-esslingen.de/wp-content/uploads/2026/01/endof10_linux_windows-logo.jpg
END:VEVENT
BEGIN:VEVENT
DTSTART;TZID=Europe/Berlin:20260216T170000
DTEND;TZID=Europe/Berlin:20260216T200000
DTSTAMP:20260421T203133
CREATED:20260124T175145Z
LAST-MODIFIED:20260126T193713Z
UID:10008806-1771261200-1771272000@wandelstadt-esslingen.de
SUMMARY:Silent Friend
DESCRIPTION:147 Minuten | FSK 6  | deutsche Originalfassung\, in Teilen untertitelt Filmtipp \nWir wollen den Begriff Meisterwerk nicht überstrapazieren\, aber dieser Film hat ihn sich in vielerlei Hinsicht verdient. Da ist natürlich die Regie\,\naber auch das exzellente Sound-Design\, der raffinierte Schnitt und nicht zuletzt der Kameramann\, der die drei Episoden auf unterschiedlichen Materialien filmte. Der Film lädt zur Entschleunigung ein\, ist heiter\, leise\, ermutigend\, sinnlich und bei 2\,5 Stunden Laufzeit keinen Moment langatmig. Unser Filmtipp!  \nDer majestätische Ginkgo biloba im Botanischen Garten der Universität Marburg ist beständiger Zeuge unzähliger Menschenleben: zum Beispiel vom chinesischen Neurowissenschaftler Tony\, Gastprofessor in Marburg während der Pandemie\, von Grete\, die als erste Frau zum Biologiestudium zugelassen wird\, und dem frauen- und sexualfeindlichen Klima der Wilhelminischen Ära trotzt und schließlich von Studienanfänger Hannes\, der sich in den 70ern in seine Mitbewohnerin verliebt und in den Semesterferien aufopferungsvoll deren Experimente fortsetzt.
URL:https://wandelstadt-esslingen.de/event/silent-friend/2026-02-16/
LOCATION:Kommunales Kino\, Maille 4-9\, Esslingen\, 73728\, Deutschland
CATEGORIES:Kulturveranstaltung,Live-Veranstaltung
END:VEVENT
BEGIN:VEVENT
DTSTART;TZID=Europe/Berlin:20260216T180000
DTEND;TZID=Europe/Berlin:20260216T210000
DTSTAMP:20260421T203133
CREATED:20260109T212200Z
LAST-MODIFIED:20260109T212200Z
UID:10008670-1771264800-1771275600@wandelstadt-esslingen.de
SUMMARY:Offenes Freifunk Treffen  - WLAN für alle
DESCRIPTION:Sie können sich über das offene WLAN Netz in Esslingen informieren. Freifunk\, das ist Zugang zum Internet ohne Vertrag\, ohne Anmeldeseite\, ohne Passwort. Die ehrenamtlichen Helfer der Freifunk Community Esslingen zeigen\, wie einfach eine solche Installation ist und wie sie sich ganz einfach daran beteiligen können. Viele Orte in Esslingen wie rund um den Schelztorturm sind schon erschlossen und dennoch gibt es zahlreiche WLAN freie Zonen in der Stadt und Umgebung die auf ihre Mithlfe warten..\nIn Kooperation mit dem Landkreis Esslingen wurden bereits zahlreiche Unterkünfte mit WLAN versorgt. Die Stadt plant zur Zeit die Bürgerhäuser mit offenem WLAN auszustatten.\nWenn auch Sie sich für die Idee des freien offnen WLANs also für Freifunk interessieren\, dann kommen Sie einfach vorbei und erfahren sie alles über das deutschlandweit einheitliche Freifunknetz\, wie es funktioniert und es eingerichtet wird. Sie dürfen auch gerne mitwirken\, die Freifunk-Idee weiter zu verbreiten.\nKontakt: www.freifunk-esslingen.de
URL:https://wandelstadt-esslingen.de/event/offenes-freifunk-treffen-wlan-fuer-alle-2/
LOCATION:Makers Inn\, Küferstraße 46\, Esslingen
CATEGORIES:Gemütliches Treffen,Infoveranstaltung
ORGANIZER;CN="Freifunk Esslingen":MAILTO:freifunk@netzwissen.de
END:VEVENT
BEGIN:VEVENT
DTSTART;TZID=Europe/Berlin:20260216T190000
DTEND;TZID=Europe/Berlin:20260216T210000
DTSTAMP:20260421T203133
CREATED:20250223T085849Z
LAST-MODIFIED:20250223T085849Z
UID:10004859-1771268400-1771275600@wandelstadt-esslingen.de
SUMMARY:Hefezopf am Abend – ein Nachbarschaftstreff!
DESCRIPTION:Mit dem „Hefezopf am Abend“ im Mehrgenerationen Bürgerhaus ist eine Plattform entstanden\, an der\nauch Menschen teilnehmen können\, die tagsüber keine Zeit haben. Hier lernen\nsich vor allem neue Bewohner:innen kennen und tauschen sich mit Pliensauvorstädter:\ninnen über die vielfältigen Themen zum Leben im Stadtteil und der Stadt\naus. Zu den Abenden werden unregelmäßig auch Akteur:innen aus dem Stadtteil\neingeladen
URL:https://wandelstadt-esslingen.de/event/hefezopf-am-abend-ein-nachbarschaftstreff/2026-02-16/
LOCATION:Mehrgenerationen- und Bürgerhaus Pliensauvorstadt\, Weilstr. 8\, Esslingen am Neckar\, Baden Württemberg\, 73734\, Deutschland
ORGANIZER;CN="F%C3%B6rderverein Pliensauvorstadt e.V.":MAILTO:fv@fv-pvs.de
END:VEVENT
END:VCALENDAR