BEGIN:VCALENDAR
VERSION:2.0
PRODID:-//Wandelstadt Esslingen - ECPv6.15.20//NONSGML v1.0//EN
CALSCALE:GREGORIAN
METHOD:PUBLISH
X-WR-CALNAME:Wandelstadt Esslingen
X-ORIGINAL-URL:https://wandelstadt-esslingen.de
X-WR-CALDESC:Veranstaltungen für Wandelstadt Esslingen
REFRESH-INTERVAL;VALUE=DURATION:PT1H
X-Robots-Tag:noindex
X-PUBLISHED-TTL:PT1H
BEGIN:VTIMEZONE
TZID:Europe/Berlin
BEGIN:DAYLIGHT
TZOFFSETFROM:+0100
TZOFFSETTO:+0200
TZNAME:CEST
DTSTART:20250330T010000
END:DAYLIGHT
BEGIN:STANDARD
TZOFFSETFROM:+0200
TZOFFSETTO:+0100
TZNAME:CET
DTSTART:20251026T010000
END:STANDARD
BEGIN:DAYLIGHT
TZOFFSETFROM:+0100
TZOFFSETTO:+0200
TZNAME:CEST
DTSTART:20260329T010000
END:DAYLIGHT
BEGIN:STANDARD
TZOFFSETFROM:+0200
TZOFFSETTO:+0100
TZNAME:CET
DTSTART:20261025T010000
END:STANDARD
BEGIN:DAYLIGHT
TZOFFSETFROM:+0100
TZOFFSETTO:+0200
TZNAME:CEST
DTSTART:20270328T010000
END:DAYLIGHT
BEGIN:STANDARD
TZOFFSETFROM:+0200
TZOFFSETTO:+0100
TZNAME:CET
DTSTART:20271031T010000
END:STANDARD
END:VTIMEZONE
BEGIN:VEVENT
DTSTART;TZID=Europe/Berlin:20260210T133000
DTEND;TZID=Europe/Berlin:20260210T170000
DTSTAMP:20260421T215323
CREATED:20260202T094101Z
LAST-MODIFIED:20260202T094101Z
UID:10008855-1770730200-1770742800@wandelstadt-esslingen.de
SUMMARY:Einblicke in die Kunst der Glasmalerei
DESCRIPTION:Die kostenlosen „Kurzen Wege“ des StadtSeniorenRates führen dieses Mal zu der Firma Gaiser & Fieber\, beheimatet in einem historischen Fabrikgebäude. Die Teilnehmerinnen und Teilnehmer erhalten spannende Einblicke in die Glasmalerei und Glasgestaltung\, einem jahrhundertealten Kunsthandwerk mit seinen besonderen Farben\, etwa dem Silbergelb aus dem 16. Jahrhundert. Den Ausklang bildet ein gemütliches Beisammensein im Café Flo. Treff: 13.30 Uhr am ZOB\, Spaziergang zu Gaiser & Fieber oder wetterbedingt Fahrt mit Bus 101\, Steig 1\, Richtung Oberesslingen bis Schlachthausbrücke\, 14 Uhr Führung\, Anmeldung: Petra Ritter Tel: 0173 376 74 59
URL:https://wandelstadt-esslingen.de/event/einblicke-in-die-kunst-der-glasmalerei/
LOCATION:Firma Gaiser & Fieber\, Martinstr. 41-43\, Esslingen\, 73728
ATTACH;FMTTYPE=image/jpeg:https://wandelstadt-esslingen.de/wp-content/uploads/2026/02/Bild-Werkstatt.jpg
END:VEVENT
BEGIN:VEVENT
DTSTART;TZID=Europe/Berlin:20260210T191500
DTEND;TZID=Europe/Berlin:20260210T201500
DTSTAMP:20260421T215323
CREATED:20240520T091234Z
LAST-MODIFIED:20260106T174409Z
UID:10008246-1770750900-1770754500@wandelstadt-esslingen.de
SUMMARY:Inklusive Lachyoga-Gruppe
DESCRIPTION:Lachen ist nicht nur gesund\, sondern auch ansteckend. Und genau darum geht es bei Lachyoga. Gemeinsam lachen und sich gut fühlen\, Stress abbauen und entspannen. Zudem stärkt Lachen die Gesundheit. \n\n\n\n\n\nWann:\nDienstags von 19:15 – 20:15 Uhr\nEinstieg jederzeit möglich!\nKeine Anmeldung erforderlich.\n\n\n\nFür wen:\nFür (fast) jeden geeignet\, da Lachyoga keine schwierigen körperlichen Übungen beinhaltet.\n(siehe Details zur Barrierefreiheit)\n\n\nKursleitung:\nSusanne Klaus (Lachyoga Master Trainerin\, Stuttgarter Lachschule)\n\n\nKosten:\nkeine (freiwillige Spendenbasis)\n\n\nMitzubringen:\netwas zum Trinken
URL:https://wandelstadt-esslingen.de/event/inklusive-lachyoga-gruppe/2026-02-10/
LOCATION:Forum Esslingen – Zentrum für Bürgerengagement\, Schelztorstraße 38\, Esslingen\, Deutschland
ATTACH;FMTTYPE=image/jpeg:https://wandelstadt-esslingen.de/wp-content/uploads/2024/05/Lachyoga-Gruppe_Forum-Esslingen_16-9-scaled.jpg
ORGANIZER;CN="InklusivES - Der Esslinger Stammtisch zum Thema Inklusion":MAILTO:c.lira@inklusives.de
END:VEVENT
END:VCALENDAR