BEGIN:VCALENDAR
VERSION:2.0
PRODID:-//Wandelstadt Esslingen - ECPv6.15.20//NONSGML v1.0//EN
CALSCALE:GREGORIAN
METHOD:PUBLISH
X-WR-CALNAME:Wandelstadt Esslingen
X-ORIGINAL-URL:https://wandelstadt-esslingen.de
X-WR-CALDESC:Veranstaltungen für Wandelstadt Esslingen
REFRESH-INTERVAL;VALUE=DURATION:PT1H
X-Robots-Tag:noindex
X-PUBLISHED-TTL:PT1H
BEGIN:VTIMEZONE
TZID:Europe/Berlin
BEGIN:DAYLIGHT
TZOFFSETFROM:+0100
TZOFFSETTO:+0200
TZNAME:CEST
DTSTART:20250330T010000
END:DAYLIGHT
BEGIN:STANDARD
TZOFFSETFROM:+0200
TZOFFSETTO:+0100
TZNAME:CET
DTSTART:20251026T010000
END:STANDARD
BEGIN:DAYLIGHT
TZOFFSETFROM:+0100
TZOFFSETTO:+0200
TZNAME:CEST
DTSTART:20260329T010000
END:DAYLIGHT
BEGIN:STANDARD
TZOFFSETFROM:+0200
TZOFFSETTO:+0100
TZNAME:CET
DTSTART:20261025T010000
END:STANDARD
BEGIN:DAYLIGHT
TZOFFSETFROM:+0100
TZOFFSETTO:+0200
TZNAME:CEST
DTSTART:20270328T010000
END:DAYLIGHT
BEGIN:STANDARD
TZOFFSETFROM:+0200
TZOFFSETTO:+0100
TZNAME:CET
DTSTART:20271031T010000
END:STANDARD
END:VTIMEZONE
BEGIN:VEVENT
DTSTART;TZID=Europe/Berlin:20260209T100000
DTEND;TZID=Europe/Berlin:20260209T113000
DTSTAMP:20260421T215320
CREATED:20260124T142745Z
LAST-MODIFIED:20260124T171115Z
UID:10008742-1770631200-1770636600@wandelstadt-esslingen.de
SUMMARY:Schimmel im Wohnraum? - Das können Sie tun!
DESCRIPTION:In den kostenfreien Online-Vorträgen bietet die Energieberatung der Verbraucherzentrale Baden-Württemberg einen Rundumblick über interessante Themen. Die Anmeldung und weitere Informationen finden Sie unter: https://www.verbraucherzentrale-bawue.de/energie/onlineseminare-der-energieberatung-105875
URL:https://wandelstadt-esslingen.de/event/schimmel-im-wohnraum-das-koennen-sie-tun/
LOCATION:online
ORGANIZER;CN="Verbraucherzentrale Baden-W%C3%BCrttemberg e.V.":MAILTO:info@vz-bw.de
END:VEVENT
BEGIN:VEVENT
DTSTART;TZID=Europe/Berlin:20260209T170000
DTEND;TZID=Europe/Berlin:20260209T190000
DTSTAMP:20260421T215320
CREATED:20260106T204854Z
LAST-MODIFIED:20260106T205452Z
UID:10008616-1770656400-1770663600@wandelstadt-esslingen.de
SUMMARY:Linux-Sprechstunde
DESCRIPTION:Linux-Sprechstunde in der essembly \nHier findest du Antworten auf alle Fragen zum Umstieg auf Linux und ausserdem Hilfe\, falls es nach dem Umstieg Probleme geben sollte:\nessembly\, Milchstrasse 17 in 73728 Esslingen \nMehr Infos zum Linux-Café\, zum Ablauf der Neuinstallation\, zu den nötigen und empfohlenen Vorbereitungen und ganz allgemein zu Freier Software findest du hier: \nwww.linuxcafe-esslingen.de \n#EndOf10 #DigitalIndependenceDay #DIDit #DUTgemacht
URL:https://wandelstadt-esslingen.de/event/linux-sprechstunde-2/2026-02-09/
LOCATION:essembly\, Milchstrasse 17\, Esslingen\, 73728\, Deutschland
ATTACH;FMTTYPE=image/jpeg:https://wandelstadt-esslingen.de/wp-content/uploads/2026/01/endof10_linux_windows-logo.jpg
END:VEVENT
BEGIN:VEVENT
DTSTART;TZID=Europe/Berlin:20260209T180000
DTEND;TZID=Europe/Berlin:20260209T190000
DTSTAMP:20260421T215320
CREATED:20260125T100452Z
LAST-MODIFIED:20260125T100452Z
UID:10008828-1770660000-1770663600@wandelstadt-esslingen.de
SUMMARY:Plenum des Esslinger Bündnisses für Demokratie und Menschenrechte
DESCRIPTION:Liebe Unterstützer:innen\, \nwir möchten Sie aus gegebenem Anlass herzlich zu einem ca. 1-stündigen Plenum einladen um eine grundsätzliche Frage für unser Bündnis zu klären. \nDas Plenum findet statt:\nam Montag\, 09.02.2026\num 18:00 Uhr\nim KOMMA\, Maille 5 – 9\, Esslingen \nFolgende Tagesordnungspunkte sind vorgesehen: \n1. Begrüßung\n2. Hinführung zum Thema: Das Bündnis ist vermehrt mit der Frage konfrontiert\, ob Organisationen\, Parteien oder Vereinigungen\, die vom Verfassungsschutz beobachtet werden\, Teil des Bündnisses sein können.\n3. Formulierung Beschlussantrag: Organisationen\, Parteien und Vereinigungen\, die vom Verfassungsschutz beobachtet werden\, können nicht Teil des Bündnisses sein und das Bündnis nicht als Plattform für Ihre Aktivitäten nutzen.\n4. Diskussion\n5. Abstimmung über Beschlussvorschlag und Aufnahme des Satzes in den Plattformtext (Anhang) unter Punkt 4. \nWir freuen uns auf Ihre Teilnahme. \nDiese Information übermitteln wir Ihnen im Auftrag des Koordinierungskreises. \nGrüße aus dem Koordinierungskreis senden Ihnen\nEvelyn Eggers\, Jörg Freitag\, Jürgen Groß\, Josef Minarsch-Engisch\, Cathrin Schultheiß\, Bibiana Sigel\, Birgit Essensohn
URL:https://wandelstadt-esslingen.de/event/plenum-des-esslinger-buendnisses-fuer-demokratie-und-menschenrechte/
LOCATION:KOMMA\, Maille 5-9\, Esslingen\, Deutschland
CATEGORIES:Beteiligung,Infoveranstaltung,Vernetzungsveranstaltung
END:VEVENT
BEGIN:VEVENT
DTSTART;TZID=Europe/Berlin:20260209T180000
DTEND;TZID=Europe/Berlin:20260209T200000
DTSTAMP:20260421T215320
CREATED:20260125T100858Z
LAST-MODIFIED:20260125T100858Z
UID:10008829-1770660000-1770667200@wandelstadt-esslingen.de
SUMMARY:„Starke Frauen – Starkes Land“
DESCRIPTION:Der SPD-Landtagsabgeordnete Nicolas Fink lädt zusammen mit den SPD Frauen Esslingen interessierte Bürgerinnen und Bürger herzlich zur Veranstaltung „Starke Frauen – Starkes Land“ ein\, die am 9. Februar um 18 Uhr im Salemer Pfleghof stattfindet (Einlass 17:30 Uhr). Karin Roth\, ehemalige Bundestagsabgeordnete des Wahlkreises Esslingen und Senatorin a.D.\, eröffnet die Veranstaltung\, welche von Lara Kern\, der Co-Vorsitzenden der Jusos im Kreis Esslingen\, moderiert wird. An dem Podium nehmen teil: Nicolas Fink (Landtagsabgeordneter und stellvertretender Vorsitzender der SPD-Landtagsfraktion)\, Katja Mast (SPD-Bundestagsabgeordnete und Parlamentarische Staatssekretärin im Bundesministerium für Arbeit und Soziales) und Nevin Akar (zweite Bevollmächtigte der IG Metall Esslingen). \n  \nIn dieser Veranstaltung geht es thematisch um Fragen\, die Frauen und die aktuelle Lage auf dem Arbeitsmarkt in der Region betreffen: Sind die Perspektiven auf dem Arbeitsmarkt und die allgemeinen Rahmenbedingungen\, u.a. im Bereich der Kinderbetreuung\, für Frauen so\, dass die Vereinbarkeit von Beruf und Familie möglich ist? Können die Frauen eine gleichberechtigte Rolle mit den Männern im Berufsleben in Bezug auf die Bezahlung und die Besetzung von Führungspositionen haben\, was dann auch bedeutet\, dass die Männer sich an der Care Arbeit in der Familie beteiligen? Wie ist die aktuelle Arbeitslage in der Region für Frauen vor dem Hintergrund der digitalen\, und ökologischen Transformation\, was bedeutet das für die Arbeitschancen von Frauen in der Region? \n  \nNicolas Fink fasst das Thema der Veranstaltung zusammen: „Da eine gute Frauen- und Familienpolitik ein wesentlicher Bestandteil für eine starke Gesellschaft und Wirtschaft in unserem Land ist\, müssen diese beiden Politikbereiche mehr Aufmerksamkeit und Berücksichtigung im politischen Handeln bekommen.“ \n  \nBitte melden Sie sich an unter der Mailadresse ns@nicolas-fink.de.
URL:https://wandelstadt-esslingen.de/event/starke-frauen-starkes-land/
LOCATION:Salemer Pfleghof\, Untere Beautau 8 – 10\, Esslingen am Neckar\, 73728\, Deutschland
CATEGORIES:Beteiligung,Infoveranstaltung,Podiumsdiskussion
END:VEVENT
BEGIN:VEVENT
DTSTART;TZID=Europe/Berlin:20260209T190000
DTEND;TZID=Europe/Berlin:20260209T210000
DTSTAMP:20260421T215320
CREATED:20260102T172157Z
LAST-MODIFIED:20260102T172157Z
UID:10008201-1770663600-1770670800@wandelstadt-esslingen.de
SUMMARY:Treffen des Bündnis für Klimagerechtigkeit
DESCRIPTION:
URL:https://wandelstadt-esslingen.de/event/treffen-des-buendnis-fuer-klimagerechtigkeit-427/2026-02-09/
LOCATION:Forum Esslingen – Zentrum für Bürgerengagement\, Schelztorstraße 38\, Esslingen\, Deutschland
CATEGORIES:Beteiligung,Infoveranstaltung,Live-Veranstaltung,Vernetzungsveranstaltung
ORGANIZER;CN="B%C3%BCndnis f%C3%BCr Klimagerechtigkeit Esslingen":MAILTO:info@klimagerechtigkeit-esslingen.de
END:VEVENT
END:VCALENDAR