BEGIN:VCALENDAR
VERSION:2.0
PRODID:-//Wandelstadt Esslingen - ECPv6.15.20//NONSGML v1.0//EN
CALSCALE:GREGORIAN
METHOD:PUBLISH
X-ORIGINAL-URL:https://wandelstadt-esslingen.de
X-WR-CALDESC:Veranstaltungen für Wandelstadt Esslingen
REFRESH-INTERVAL;VALUE=DURATION:PT1H
X-Robots-Tag:noindex
X-PUBLISHED-TTL:PT1H
BEGIN:VTIMEZONE
TZID:Europe/Berlin
BEGIN:DAYLIGHT
TZOFFSETFROM:+0100
TZOFFSETTO:+0200
TZNAME:CEST
DTSTART:20250330T010000
END:DAYLIGHT
BEGIN:STANDARD
TZOFFSETFROM:+0200
TZOFFSETTO:+0100
TZNAME:CET
DTSTART:20251026T010000
END:STANDARD
BEGIN:DAYLIGHT
TZOFFSETFROM:+0100
TZOFFSETTO:+0200
TZNAME:CEST
DTSTART:20260329T010000
END:DAYLIGHT
BEGIN:STANDARD
TZOFFSETFROM:+0200
TZOFFSETTO:+0100
TZNAME:CET
DTSTART:20261025T010000
END:STANDARD
BEGIN:DAYLIGHT
TZOFFSETFROM:+0100
TZOFFSETTO:+0200
TZNAME:CEST
DTSTART:20270328T010000
END:DAYLIGHT
BEGIN:STANDARD
TZOFFSETFROM:+0200
TZOFFSETTO:+0100
TZNAME:CET
DTSTART:20271031T010000
END:STANDARD
END:VTIMEZONE
BEGIN:VEVENT
DTSTART;TZID=Europe/Berlin:20260131T100000
DTEND;TZID=Europe/Berlin:20260131T120000
DTSTAMP:20260421T203206
CREATED:20260106T204238Z
LAST-MODIFIED:20260106T205521Z
UID:10008513-1769853600-1769860800@wandelstadt-esslingen.de
SUMMARY:Linux-Sprechstunde
DESCRIPTION:Linux-Sprechstunde in der essembly \nHier findest du Antworten auf alle Fragen zum Umstieg auf Linux und ausserdem Hilfe\, falls es nach dem Umstieg Probleme geben sollte:\nessembly\, Milchstrasse 17 in 73728 Esslingen \nMehr Infos zum Linux-Café\, zum Ablauf der Neuinstallation\, zu den nötigen und empfohlenen Vorbereitungen und ganz allgemein zu Freier Software findest du hier: \nwww.linuxcafe-esslingen.de \n#EndOf10 #DigitalIndependenceDay #DIDit #DUTgemacht
URL:https://wandelstadt-esslingen.de/event/linux-sprechstunde/2026-01-31/
LOCATION:essembly\, Milchstrasse 17\, Esslingen\, 73728\, Deutschland
ATTACH;FMTTYPE=image/jpeg:https://wandelstadt-esslingen.de/wp-content/uploads/2026/01/endof10_linux_windows-logo.jpg
END:VEVENT
BEGIN:VEVENT
DTSTART;TZID=Europe/Berlin:20260131T173000
DTEND;TZID=Europe/Berlin:20260131T210000
DTSTAMP:20260421T203206
CREATED:20260102T115708Z
LAST-MODIFIED:20260102T115708Z
UID:10008186-1769880600-1769893200@wandelstadt-esslingen.de
SUMMARY:10 Jahre MiMaMo - MitMachMomente
DESCRIPTION:Was als Beteiligungsprojekt und Treffpunkt für junge Menschen mit Behinderung im Stadtjugendring Esslingen begann\, ist heute – zehn Jahre später – ein lebendiger Ort für alle Jugendlichen: mit und ohne Behinderung. Im MiMaMo können junge Menschen ab 13 Jahren ihre Freizeit selbst gestalten: Freund*innen treffen\, Musik hören\, spielen\, basteln\, kreativ werden oder einfach entspannen. Alle können mitmachen\, eigene Ideen einbringen und gemeinsam Aktionen planen – von Ausflügen über Wochenendangebote bis hin zu kreativen Projekten. Im MiMaMo zählt\, was jede*r kann und woran man Freude hat. Wichtig ist\, Neues auszuprobieren\, Gemeinschaft zu erleben und sich dabei wohlzufühlen. Nun wird MiMaMo 10 Jahre alt\, und ab Januar 2026 zu einer jugendhausähnlichen Einrichtung. \nEin Grund zu feiern: Vernissage & Disco am 31. Januar 2026 ab 17:30 Uhr. \nEine Veranstaltung des SJR Esslingen in Kooperation mit dem Kulturzentrum Dieselstrasse e.V.
URL:https://wandelstadt-esslingen.de/event/10-jahre-mimamo-mitmachmomente/
LOCATION:Kulturzentrum Dieselstraße\, Dieselstraße 26\, Esslingen\, Deutschland
CATEGORIES:Austellung,Kulturveranstaltung,Live-Veranstaltung,Vernetzungsveranstaltung
ORGANIZER;CN="Kulturzentrum Dieselstrasse":MAILTO:info@dieselstrasse.de
END:VEVENT
BEGIN:VEVENT
DTSTART;TZID=Europe/Berlin:20260131T200000
DTEND;TZID=Europe/Berlin:20260131T220000
DTSTAMP:20260421T203206
CREATED:20260102T114435Z
LAST-MODIFIED:20260102T114523Z
UID:10008183-1769889600-1769896800@wandelstadt-esslingen.de
SUMMARY:Der Herr Karl - mit Gerhard Polacek
DESCRIPTION:Der Herr Karl\, von Merz/Qualtinger \nMit: Gerhard Polacek \nRegie: Felix Jeiter \nEine Produktion des Künstlerkollektivs „Die Versponnenen“. Der Monolog erzählt die Lebensgeschichte eines Opportunisten\, eines Wendehalses: er war Sozialist\, Christdemokrat\, Austrofaschist\, Nazi\, freut sich über die Besetzung durch die Russen und Amerikaner\, fühlt sich mitverantwortlich für die Befreiung Österreichs und die Wiedererlangung der Demokratie. Er selbst schätzt sich als „Mann von Welt“ ein\, zeigt sich aber seinen Mitmenschen gegenüber als ein skrupelloser Profiteur\, ein Drückeberger\, ein kaltherziger Kleinbürger.
URL:https://wandelstadt-esslingen.de/event/der-herr-karl-mit-gerhard-polacek/2026-01-31/
LOCATION:Alte Spinnerei\, Maille 3\, Esslingen am Neckar\, 73728\, Deutschland
CATEGORIES:Kulturveranstaltung,Live-Veranstaltung
END:VEVENT
END:VCALENDAR