BEGIN:VCALENDAR
VERSION:2.0
PRODID:-//Wandelstadt Esslingen - ECPv6.15.20//NONSGML v1.0//EN
CALSCALE:GREGORIAN
METHOD:PUBLISH
X-ORIGINAL-URL:https://wandelstadt-esslingen.de
X-WR-CALDESC:Veranstaltungen für Wandelstadt Esslingen
REFRESH-INTERVAL;VALUE=DURATION:PT1H
X-Robots-Tag:noindex
X-PUBLISHED-TTL:PT1H
BEGIN:VTIMEZONE
TZID:Europe/Berlin
BEGIN:DAYLIGHT
TZOFFSETFROM:+0100
TZOFFSETTO:+0200
TZNAME:CEST
DTSTART:20250330T010000
END:DAYLIGHT
BEGIN:STANDARD
TZOFFSETFROM:+0200
TZOFFSETTO:+0100
TZNAME:CET
DTSTART:20251026T010000
END:STANDARD
BEGIN:DAYLIGHT
TZOFFSETFROM:+0100
TZOFFSETTO:+0200
TZNAME:CEST
DTSTART:20260329T010000
END:DAYLIGHT
BEGIN:STANDARD
TZOFFSETFROM:+0200
TZOFFSETTO:+0100
TZNAME:CET
DTSTART:20261025T010000
END:STANDARD
BEGIN:DAYLIGHT
TZOFFSETFROM:+0100
TZOFFSETTO:+0200
TZNAME:CEST
DTSTART:20270328T010000
END:DAYLIGHT
BEGIN:STANDARD
TZOFFSETFROM:+0200
TZOFFSETTO:+0100
TZNAME:CET
DTSTART:20271031T010000
END:STANDARD
END:VTIMEZONE
BEGIN:VEVENT
DTSTART;TZID=Europe/Berlin:20260127T100000
DTEND;TZID=Europe/Berlin:20260127T113000
DTSTAMP:20260421T203205
CREATED:20260124T142742Z
LAST-MODIFIED:20260124T165800Z
UID:10008735-1769508000-1769513400@wandelstadt-esslingen.de
SUMMARY:Lohnt sich das für mich? Smart Meter\, dynamische Stromtarife & intelligente Systeme - einfach erklärt
DESCRIPTION:In den kostenfreien Online-Vorträgen bietet die Energieberatung der Verbraucherzentrale Baden-Württemberg einen Rundumblick über interessante Themen. Die Anmeldung und weitere Informationen finden Sie unter: https://www.verbraucherzentrale-bawue.de/energie/onlineseminare-der-energieberatung-105875
URL:https://wandelstadt-esslingen.de/event/lohnt-sich-das-fuer-mich-smart-meter-dynamische-stromtarife-intelligente-systeme-einfach-erklaert/
LOCATION:online
ORGANIZER;CN="Verbraucherzentrale Baden-W%C3%BCrttemberg e.V.":MAILTO:info@vz-bw.de
END:VEVENT
BEGIN:VEVENT
DTSTART;TZID=Europe/Berlin:20260127T120000
DTEND;TZID=Europe/Berlin:20260127T133000
DTSTAMP:20260421T203205
CREATED:20260124T142742Z
LAST-MODIFIED:20260124T170045Z
UID:10008736-1769515200-1769520600@wandelstadt-esslingen.de
SUMMARY:Einfach Strom vom eigenen Balkon: Stecker-PV - Normen\, Trends und Gesetzesänderungen
DESCRIPTION:In den kostenfreien Online-Vorträgen bietet die Energieberatung der Verbraucherzentrale Baden-Württemberg einen Rundumblick über interessante Themen. Die Anmeldung und weitere Informationen finden Sie unter: https://www.verbraucherzentrale-bawue.de/energie/onlineseminare-der-energieberatung-105875
URL:https://wandelstadt-esslingen.de/event/einfach-strom-vom-eigenen-balkon-stecker-pv-normen-trends-und-gesetzesaenderungen/
LOCATION:online
ORGANIZER;CN="Verbraucherzentrale Baden-W%C3%BCrttemberg e.V.":MAILTO:info@vz-bw.de
END:VEVENT
BEGIN:VEVENT
DTSTART;TZID=Europe/Berlin:20260127T180000
DTEND;TZID=Europe/Berlin:20260127T193000
DTSTAMP:20260421T203205
CREATED:20230228T100213Z
LAST-MODIFIED:20260418T103344Z
UID:10007195-1769536800-1769542200@wandelstadt-esslingen.de
SUMMARY:Nutzpflanzenbibliothek – Transition Town Esslingen
DESCRIPTION:Das Orga-Team der Esslinger Nutzpflanzenbibliothek trifft sich\, um die nächste Öffnung vorzubereiten und Tomatensaatgut zu packen. Unterstützer willkommen! Einfach übers Kontaktformular unter www.transition-town-es.de melden. Veranstalter: Transition Town Esslingen
URL:https://wandelstadt-esslingen.de/event/ag-nutzpflanzenbibliothek-3/2026-01-27/
ORGANIZER;CN="Transition Town Esslingen - Stadt im Wandel":MAILTO:kontakt@transition-town-es.de
END:VEVENT
BEGIN:VEVENT
DTSTART;TZID=Europe/Berlin:20260127T180000
DTEND;TZID=Europe/Berlin:20260127T210000
DTSTAMP:20260421T203205
CREATED:20260102T123408Z
LAST-MODIFIED:20260102T123408Z
UID:10008189-1769536800-1769547600@wandelstadt-esslingen.de
SUMMARY:Der Reichskanzler von Atlantis
DESCRIPTION:Der Reichskanzler Fürst Burkhard sitzt Tag für Tag am Schreibtisch. Er beantwortet Fragen\, die ihm die Bürger stellen\, er wimmelt Journalisten ab\, faxt Beschwerdepost und bereitet die Neujahrsansprache vor. Auf diesem Gebiet\, in dieser Wohnung gilt das Recht der Deutschen – im Deutschen Reich in den Grenzen von 1871. Das ist nicht das Recht der Pleitefirma „BRD GmbH“\, der Weltverschwörer und Zionisten. Hier geht es um das deutsche Schicksal! Begleitet wird der Reichskanzler durch den Geist von Rudolf von Sebottendorf und durch seine Frau Jutta\, die ihm Liebe\, Fürsorge und vor allem gesundes Essen bringt. Denn das Deutsche Reich zu regieren macht viel Arbeit. Als Steuereintreiberin Frau Semmerling unangemeldet in das autonome Reich eindringt und den Mercedes pfänden möchte\, ist von nichts weniger als einer Staatskrise zu sprechen. \n\nIn seiner bösen Farce betrachtet Björn SC Deigner mit absurder Komik und fein gezeichneten Dialogen die Reichsbürgerbewegung in Deutschland. \n——— \nDie Esslinger Zeitung schreibt über die Premiere: „Christine Gnann inszeniert „Der Reichskanzler von Atlantis“ von Björn SC Deigner an der Esslinger Landesbühne und zeigt\, dass Arier alte Comics mögen.“ \nDer vollständige Artikel ist online nachzulesen.
URL:https://wandelstadt-esslingen.de/event/der-reichskanzler-von-atlantis/2026-01-27/
LOCATION:Württembergische Landesbühne – Schauspielhaus mit Podium 1 & 2\, Ritterstraße 11\, Esslingen\, Deutschland
CATEGORIES:Kulturveranstaltung,Live-Veranstaltung
END:VEVENT
BEGIN:VEVENT
DTSTART;TZID=Europe/Berlin:20260127T190000
DTEND;TZID=Europe/Berlin:20260127T203000
DTSTAMP:20260421T203205
CREATED:20260124T142742Z
LAST-MODIFIED:20260124T170350Z
UID:10008737-1769540400-1769545800@wandelstadt-esslingen.de
SUMMARY:Ran an die Fördertöpfe!
DESCRIPTION:Die alte Ölheizung soll weg\, der Strom vom eigenen Dach kommen und die Wände komplett oder zum Teil gedämmt werden? Nie waren die finanziellen Hilfen\, mit denen der Staat dabei unter die Arme greift\, so umfangreich. Dieser Vortrag beleuchtet die wichtigsten Förderprogramme des Bundes\, die zur Verringerung des Energiebedarfs für Brauchwasser und Heizwärme genutzt werden können. Der Schwerpunkt liegt auf den bundesweit gültigen Förderprogrammen zur Förderung einer neuen Heizungsanlage und zur energetischen Sanierung der Gebäudehülle wie Dach\, Außenwand\, oberste Geschossdecke\, Bodenplatte bzw. Kellerdecke und Fenster. \nWann: Dienstag 27.01.2026\, 19:00 – 20:30 Uhr \nWo: Online \nDer Kurs ist kostenfrei\, eine Anmeldung ist jedoch erforderlich. Zur Anmeldung: https://ksa-es.de/termin/ran-an-die-foerdertoepfe-2/
URL:https://wandelstadt-esslingen.de/event/ran-an-die-foerdertoepfe/
LOCATION:online
ORGANIZER;CN="Klimaschutzagentur des Landkreises Esslingen gGmbH":MAILTO:info@ksa-es.de
END:VEVENT
BEGIN:VEVENT
DTSTART;TZID=Europe/Berlin:20260127T190000
DTEND;TZID=Europe/Berlin:20260127T210000
DTSTAMP:20260421T203205
CREATED:20260102T185316Z
LAST-MODIFIED:20260102T185316Z
UID:10008224-1769540400-1769547600@wandelstadt-esslingen.de
SUMMARY:Tag des Gedenkens an die Opfer des Nationalsozialismus 2026
DESCRIPTION:Dienstag\, 27. Januar 2026\, 19 Uhr\nEsslingen\, Stadtkirche St. Dionys \nTag des Gedenkens an die Opfer des Nationalsozialismus 2026\nAm 27. Januar 1945 befreite die Rote Armee die Konzentrationslager in Auschwitz. Dieser Tag wurde vom deutschen Bundespräsidenten Roman Herzog 1996 als offizieller Gedenktag für die Opfer des Nationalsozialismus eingerichtet\, um an die Gräueltaten der Nationalsozialisten und an die Menschen zu erinnern\, die ihnen zum Opfer fielen. Das Wichtigste an diesem Tag ist das Gedenken an die Menschen\, denen unbeschreiblich großes Leid angetan wurde. \nZwangssterilisierte\nZu den eher vergessenen Opfern gehören die Menschen\, die ab 1933 im Rahmen des so genannten Erbgesundheitsgesetzes im ganzen Deutschen Reich zwangssterilisiert wurden. Auch im Esslinger Krankenhaus sterilisierten Chirurgen mehr als 200 Männer und Frauen\, zudem wurde eine Zwangsabtreibung durchgeführt. Wer wurde Opfer und warum? Wie versuchten sich manche zur Wehr zu setzen? Wann und warum bekamen sie erst sehr spät Entschädigung? \nMitwirkende: Dr. Gudrun Silberzahn-Jandt\, Arbeitsgruppe des Georgii-Gymnasiums\, Musikalische Umrahmung vom Schulorchester des Theodor-Heuss-Gymnasiums Esslingen.\nGrußworte: Bürgermeister Hans-Georg Sigel\, Pfarrer Stefan Möhler
URL:https://wandelstadt-esslingen.de/event/tag-des-gedenkens-an-die-opfer-des-nationalsozialismus-2026/
LOCATION:Stadtkirche St. Dionys\, Marktplatz 18\, Esslingen\, 73728
CATEGORIES:Demonstration,Live-Veranstaltung
END:VEVENT
BEGIN:VEVENT
DTSTART;TZID=Europe/Berlin:20260127T191500
DTEND;TZID=Europe/Berlin:20260127T201500
DTSTAMP:20260421T203205
CREATED:20240520T091234Z
LAST-MODIFIED:20260106T174409Z
UID:10007827-1769541300-1769544900@wandelstadt-esslingen.de
SUMMARY:Inklusive Lachyoga-Gruppe
DESCRIPTION:Lachen ist nicht nur gesund\, sondern auch ansteckend. Und genau darum geht es bei Lachyoga. Gemeinsam lachen und sich gut fühlen\, Stress abbauen und entspannen. Zudem stärkt Lachen die Gesundheit. \n\n\n\n\n\nWann:\nDienstags von 19:15 – 20:15 Uhr\nEinstieg jederzeit möglich!\nKeine Anmeldung erforderlich.\n\n\n\nFür wen:\nFür (fast) jeden geeignet\, da Lachyoga keine schwierigen körperlichen Übungen beinhaltet.\n(siehe Details zur Barrierefreiheit)\n\n\nKursleitung:\nSusanne Klaus (Lachyoga Master Trainerin\, Stuttgarter Lachschule)\n\n\nKosten:\nkeine (freiwillige Spendenbasis)\n\n\nMitzubringen:\netwas zum Trinken
URL:https://wandelstadt-esslingen.de/event/inklusive-lachyoga-gruppe/2026-01-27/
LOCATION:Forum Esslingen – Zentrum für Bürgerengagement\, Schelztorstraße 38\, Esslingen\, Deutschland
ATTACH;FMTTYPE=image/jpeg:https://wandelstadt-esslingen.de/wp-content/uploads/2024/05/Lachyoga-Gruppe_Forum-Esslingen_16-9-scaled.jpg
ORGANIZER;CN="InklusivES - Der Esslinger Stammtisch zum Thema Inklusion":MAILTO:c.lira@inklusives.de
END:VEVENT
END:VCALENDAR