BEGIN:VCALENDAR
VERSION:2.0
PRODID:-//Wandelstadt Esslingen - ECPv6.15.20//NONSGML v1.0//EN
CALSCALE:GREGORIAN
METHOD:PUBLISH
X-ORIGINAL-URL:https://wandelstadt-esslingen.de
X-WR-CALDESC:Veranstaltungen für Wandelstadt Esslingen
REFRESH-INTERVAL;VALUE=DURATION:PT1H
X-Robots-Tag:noindex
X-PUBLISHED-TTL:PT1H
BEGIN:VTIMEZONE
TZID:Europe/Berlin
BEGIN:DAYLIGHT
TZOFFSETFROM:+0100
TZOFFSETTO:+0200
TZNAME:CEST
DTSTART:20250330T010000
END:DAYLIGHT
BEGIN:STANDARD
TZOFFSETFROM:+0200
TZOFFSETTO:+0100
TZNAME:CET
DTSTART:20251026T010000
END:STANDARD
BEGIN:DAYLIGHT
TZOFFSETFROM:+0100
TZOFFSETTO:+0200
TZNAME:CEST
DTSTART:20260329T010000
END:DAYLIGHT
BEGIN:STANDARD
TZOFFSETFROM:+0200
TZOFFSETTO:+0100
TZNAME:CET
DTSTART:20261025T010000
END:STANDARD
BEGIN:DAYLIGHT
TZOFFSETFROM:+0100
TZOFFSETTO:+0200
TZNAME:CEST
DTSTART:20270328T010000
END:DAYLIGHT
BEGIN:STANDARD
TZOFFSETFROM:+0200
TZOFFSETTO:+0100
TZNAME:CET
DTSTART:20271031T010000
END:STANDARD
END:VTIMEZONE
BEGIN:VEVENT
DTSTART;TZID=Europe/Berlin:20260119T170000
DTEND;TZID=Europe/Berlin:20260119T190000
DTSTAMP:20260421T215453
CREATED:20260106T204854Z
LAST-MODIFIED:20260106T205452Z
UID:10008613-1768842000-1768849200@wandelstadt-esslingen.de
SUMMARY:Linux-Sprechstunde
DESCRIPTION:Linux-Sprechstunde in der essembly \nHier findest du Antworten auf alle Fragen zum Umstieg auf Linux und ausserdem Hilfe\, falls es nach dem Umstieg Probleme geben sollte:\nessembly\, Milchstrasse 17 in 73728 Esslingen \nMehr Infos zum Linux-Café\, zum Ablauf der Neuinstallation\, zu den nötigen und empfohlenen Vorbereitungen und ganz allgemein zu Freier Software findest du hier: \nwww.linuxcafe-esslingen.de \n#EndOf10 #DigitalIndependenceDay #DIDit #DUTgemacht
URL:https://wandelstadt-esslingen.de/event/linux-sprechstunde-2/2026-01-19/
LOCATION:essembly\, Milchstrasse 17\, Esslingen\, 73728\, Deutschland
ATTACH;FMTTYPE=image/jpeg:https://wandelstadt-esslingen.de/wp-content/uploads/2026/01/endof10_linux_windows-logo.jpg
END:VEVENT
BEGIN:VEVENT
DTSTART;TZID=Europe/Berlin:20260119T180000
DTEND;TZID=Europe/Berlin:20260119T180000
DTSTAMP:20260421T215453
CREATED:20251029T163914Z
LAST-MODIFIED:20251029T163929Z
UID:10007135-1768845600-1768845600@wandelstadt-esslingen.de
SUMMARY:Gutes Leben – Warum wir Werte brauchen!
DESCRIPTION:18:00 Uhr\nOnline und vor Ort Hochschule Esslingen\, Campus Stadtmitte\, Kanalstr. 33\, Gebäude 1\, Senatssaal\, Raum S 01.021 \nWas motiviert Menschen zu einem guten Leben? Wie führen Werte zu verantwortungsbewusstem Handeln? Und welche Rolle spielen sie für unsere aktive Mitgestaltung der Gesellschaft? Der Abschlussvortrag unserer Veranstaltungsreihe lädt dazu ein\, den Weg von philosophischen Tugendlehren hin zu konkretem gesellschaftlichem Engagement zu erkunden. Ausgehend vom antiken Konzept der Tugend über Hannah Arendts Reflexionen zur politischen Verantwortung zeigt Christoph Quarch\, wie zeitlose Werte in privates und gesellschaftliches Engagement übersetzt werden können.  \nAls konkretes Beispiel skizziert er seinen Vorschlag zur Einrichtung eines europäischen Bürgerdienstes\, das zu erkennen gibt\, wie Werte gesellschaftlich implementiert und politisch Wirkung entfachen können. Denn Werte sind nur dann lebendig\, wenn sie unser Handeln leiten und gesellschaftliche Veränderung bewirken. \nZur Anmeldung \nLive-Stream\nChristoph Quarch Achim Hehn© \nReferent: Dr. Christoph Quarch\nDr. Christoph Quarch ist Philosoph\, Autor und Publizist. Er kommentiert wöchentlich aktuelle Ereignisse als „Frühstücks-Quarch“ in SWRaktuell und tritt regelmäßig im Radio und Fernsehen auf. Quarch unterrichtet Ethik\, Wirtschaftsphilosophie und Philosophie an verschiedenen Hochschulen\, darunter die HS Fulda\, HSBA Hamburg und Universität Basel. Als Reiseleiter von Philosophiereisen arbeitet er unter anderem für ZEIT REISEN. Quarch studierte Evangelische Theologie\, Philosophie und Religionswissenschaft an den Universitäten Heidelberg und Tübingen und wurde 1996 über Platons Philosophie der Lebendigkeit promoviert. Als Autor\, Redner und Berater für Unternehmen übersetzt er die großen Werke der abendländischen Philosophie in zeitgemäße Lebenskunst und Weltdeutung.
URL:https://wandelstadt-esslingen.de/event/gutes-leben-warum-wir-werte-brauchen/
LOCATION:Campus Stadtmitte / Hochschule Eslingen\, Kanalstraße 33\, Esslingen\, Deutschland
END:VEVENT
BEGIN:VEVENT
DTSTART;TZID=Europe/Berlin:20260119T180000
DTEND;TZID=Europe/Berlin:20260119T210000
DTSTAMP:20260421T215453
CREATED:20260106T211603Z
LAST-MODIFIED:20260106T211603Z
UID:10008663-1768845600-1768856400@wandelstadt-esslingen.de
SUMMARY:Offenes Freifunk Treffen  - WLAN für alle
DESCRIPTION:Sie können sich über das offene WLAN Netz in Esslingen informieren. Freifunk\, das ist Zugang zum Internet ohne Vertrag\, ohne Anmeldeseite\, ohne Passwort. Die ehrenamtlichen Helfer der Freifunk Community Esslingen zeigen\, wie einfach eine solche Installation ist und wie sie sich ganz einfach daran beteiligen können. Viele Orte in Esslingen wie rund um den Schelztorturm sind schon erschlossen und dennoch gibt es zahlreiche WLAN freie Zonen in der Stadt und Umgebung die auf ihre Mithlfe warten..\nIn Kooperation mit dem Landkreis Esslingen wurden bereits zahlreiche Unterkünfte mit WLAN versorgt. Die Stadt plant zur Zeit die Bürgerhäuser mit offenem WLAN auszustatten.\nWenn auch Sie sich für die Idee des freien offnen WLANs also für Freifunk interessieren\, dann kommen Sie einfach vorbei und erfahren sie alles über das deutschlandweit einheitliche Freifunknetz\, wie es funktioniert und es eingerichtet wird. Sie dürfen auch gerne mitwirken\, die Freifunk-Idee weiter zu verbreiten.\nKontakt: www.freifunk-esslingen.de
URL:https://wandelstadt-esslingen.de/event/offenes-freifunk-treffen-wlan-fuer-alle/
LOCATION:Makers Inn\, Küferstraße 46\, Esslingen
CATEGORIES:Gemütliches Treffen,Infoveranstaltung
ORGANIZER;CN="Freifunk Esslingen":MAILTO:freifunk@netzwissen.de
END:VEVENT
BEGIN:VEVENT
DTSTART;TZID=Europe/Berlin:20260119T190000
DTEND;TZID=Europe/Berlin:20260119T210000
DTSTAMP:20260421T215453
CREATED:20250223T085849Z
LAST-MODIFIED:20250223T085849Z
UID:10004858-1768849200-1768856400@wandelstadt-esslingen.de
SUMMARY:Hefezopf am Abend – ein Nachbarschaftstreff!
DESCRIPTION:Mit dem „Hefezopf am Abend“ im Mehrgenerationen Bürgerhaus ist eine Plattform entstanden\, an der\nauch Menschen teilnehmen können\, die tagsüber keine Zeit haben. Hier lernen\nsich vor allem neue Bewohner:innen kennen und tauschen sich mit Pliensauvorstädter:\ninnen über die vielfältigen Themen zum Leben im Stadtteil und der Stadt\naus. Zu den Abenden werden unregelmäßig auch Akteur:innen aus dem Stadtteil\neingeladen
URL:https://wandelstadt-esslingen.de/event/hefezopf-am-abend-ein-nachbarschaftstreff/2026-01-19/
LOCATION:Mehrgenerationen- und Bürgerhaus Pliensauvorstadt\, Weilstr. 8\, Esslingen am Neckar\, Baden Württemberg\, 73734\, Deutschland
ORGANIZER;CN="F%C3%B6rderverein Pliensauvorstadt e.V.":MAILTO:fv@fv-pvs.de
END:VEVENT
BEGIN:VEVENT
DTSTART;TZID=Europe/Berlin:20260119T193000
DTEND;TZID=Europe/Berlin:20260119T210000
DTSTAMP:20260421T215453
CREATED:20260102T122753Z
LAST-MODIFIED:20260102T122753Z
UID:10008188-1768851000-1768856400@wandelstadt-esslingen.de
SUMMARY:Salon am Montag: Wie kann kulturelle Teilhabe gelingen
DESCRIPTION:Wie kann kulturelle Teilhabe gelingen – und wo beginnt sie eigentlich?\nUnter dieser Leitfrage lädt das Netzwerk Kultur Esslingen am 19. Januar 2026 zu einer Podiumsdiskussin rund um das Thema kulturelle Bildung und Teilhabe ein. \nAls externe Stimme ist Gudrun Sommer\, Leiterin des Dokumentarfilmfestimals DOXS! Ruhr\, zu Gast. Ihr FEstival steht für einen innovativen Ansatz: weg von bloßer Kooperation hin zu echter Kollaboration mit Jugendlichen und anderen Zielgruppen.\nAus Esslingen werden Grégory Darcy (Die Tanzkompanie) und Nisa Teskan (WLB-Jugendclubspielerin) das Podium bereichern. Sie zeigen auf\, wie kulturelle Teilhabe in Esslingen bereits gelebt wird und welchen Herausforderungen sie dabei begegnen.\nAlexa Heyder rundet das Podium als Leiterin des Kulturamts Esslingen ab. Das Kulturamt setzt mit seiner Teilhabe-Strategie einen besonderen Schwerpuntk auf kulturelle Partizipation. \nDer Abend versteht sich als Einladung zum gemeinsamen Nachdenken\, Diskutieren und Weiterentwickeln – offen\, nahbar und dialogisch. \nModeration: Philipp Falser & Ina Riedinger (Netzwerk Kultur)
URL:https://wandelstadt-esslingen.de/event/salon-am-montag-wie-kann-kulturelle-teilhabe-gelingen/
LOCATION:Lux\, Maille 4-9\, Esslingen\, 73728
CATEGORIES:Kulturveranstaltung,Live-Veranstaltung,Podiumsdiskussion
END:VEVENT
END:VCALENDAR