BEGIN:VCALENDAR
VERSION:2.0
PRODID:-//Wandelstadt Esslingen - ECPv6.15.20//NONSGML v1.0//EN
CALSCALE:GREGORIAN
METHOD:PUBLISH
X-ORIGINAL-URL:https://wandelstadt-esslingen.de
X-WR-CALDESC:Veranstaltungen für Wandelstadt Esslingen
REFRESH-INTERVAL;VALUE=DURATION:PT1H
X-Robots-Tag:noindex
X-PUBLISHED-TTL:PT1H
BEGIN:VTIMEZONE
TZID:Europe/Berlin
BEGIN:DAYLIGHT
TZOFFSETFROM:+0100
TZOFFSETTO:+0200
TZNAME:CEST
DTSTART:20250330T010000
END:DAYLIGHT
BEGIN:STANDARD
TZOFFSETFROM:+0200
TZOFFSETTO:+0100
TZNAME:CET
DTSTART:20251026T010000
END:STANDARD
BEGIN:DAYLIGHT
TZOFFSETFROM:+0100
TZOFFSETTO:+0200
TZNAME:CEST
DTSTART:20260329T010000
END:DAYLIGHT
BEGIN:STANDARD
TZOFFSETFROM:+0200
TZOFFSETTO:+0100
TZNAME:CET
DTSTART:20261025T010000
END:STANDARD
BEGIN:DAYLIGHT
TZOFFSETFROM:+0100
TZOFFSETTO:+0200
TZNAME:CEST
DTSTART:20270328T010000
END:DAYLIGHT
BEGIN:STANDARD
TZOFFSETFROM:+0200
TZOFFSETTO:+0100
TZNAME:CET
DTSTART:20271031T010000
END:STANDARD
END:VTIMEZONE
BEGIN:VEVENT
DTSTART;TZID=Europe/Berlin:20260116T090000
DTEND;TZID=Europe/Berlin:20260116T110000
DTSTAMP:20260421T233938
CREATED:20260103T104050Z
LAST-MODIFIED:20260103T104050Z
UID:10008229-1768554000-1768561200@wandelstadt-esslingen.de
SUMMARY:Freitagssprechstunde
DESCRIPTION:Rufen Sie an! Vorstandsmitglieder vom StadtSeniorenRat haben von 9 bis 11 Uhr ein offenes Ohr für alle Anliegen von Seniorinnen sowie Senioren und vermitteln auch Termine bei der Esslinger Initiative zur Erstellung von Vorsorgepapieren wie Vollmachten und Patientenverfügungen: Telefon 0711 357420 \n 
URL:https://wandelstadt-esslingen.de/event/freitagssprechstunde-23/
LOCATION:Forum Esslingen in der Schelztorstraße 38\, 73728 Esslingen\, Schelztorstraße 38\, Esslingen\, 73728\, Deutschland
CATEGORIES:Infoveranstaltung
ATTACH;FMTTYPE=image/jpeg:https://wandelstadt-esslingen.de/wp-content/uploads/2025/05/Telefonieren.jpg
END:VEVENT
BEGIN:VEVENT
DTSTART;TZID=Europe/Berlin:20260116T180000
DTEND;TZID=Europe/Berlin:20260116T180000
DTSTAMP:20260421T233938
CREATED:20221010T204011Z
LAST-MODIFIED:20221010T204011Z
UID:10005589-1768586400-1768586400@wandelstadt-esslingen.de
SUMMARY:Critical Mass
DESCRIPTION:Critical Mass ist eine weltweite Fahrrad­bewegung\, um eine Alternative zum motorisi­erten Individual­verkehr aufzu­zeigen. Grundlage bildet Paragraph 27 der Straßenverkehrs-Ordnung. \nBei der Critical Mass Esslingen treffen sich jeden 3. Freitag im Monat Radfahrerinnen und Radfahrer zur gemeinsamen Fahrrad­ausfahrt durch Esslingen. Treffpunkt ist um 18:00 Uhr auf dem Bahnhofsvorplatz. Im Anschluss findet oft noch ein Erfahrungsaustausch beim „Radlerstammtisch“ statt.
URL:https://wandelstadt-esslingen.de/event/critical-mass-2/2026-01-16/
LOCATION:Bahnhofsvorplatz\, Esslingen
ORGANIZER;CN="Critical Mass":MAILTO:schugra@posteo.de
END:VEVENT
END:VCALENDAR