BEGIN:VCALENDAR
VERSION:2.0
PRODID:-//Wandelstadt Esslingen - ECPv6.15.20//NONSGML v1.0//EN
CALSCALE:GREGORIAN
METHOD:PUBLISH
X-WR-CALNAME:Wandelstadt Esslingen
X-ORIGINAL-URL:https://wandelstadt-esslingen.de
X-WR-CALDESC:Veranstaltungen für Wandelstadt Esslingen
REFRESH-INTERVAL;VALUE=DURATION:PT1H
X-Robots-Tag:noindex
X-PUBLISHED-TTL:PT1H
BEGIN:VTIMEZONE
TZID:Europe/Berlin
BEGIN:DAYLIGHT
TZOFFSETFROM:+0100
TZOFFSETTO:+0200
TZNAME:CEST
DTSTART:20250330T010000
END:DAYLIGHT
BEGIN:STANDARD
TZOFFSETFROM:+0200
TZOFFSETTO:+0100
TZNAME:CET
DTSTART:20251026T010000
END:STANDARD
BEGIN:DAYLIGHT
TZOFFSETFROM:+0100
TZOFFSETTO:+0200
TZNAME:CEST
DTSTART:20260329T010000
END:DAYLIGHT
BEGIN:STANDARD
TZOFFSETFROM:+0200
TZOFFSETTO:+0100
TZNAME:CET
DTSTART:20261025T010000
END:STANDARD
BEGIN:DAYLIGHT
TZOFFSETFROM:+0100
TZOFFSETTO:+0200
TZNAME:CEST
DTSTART:20270328T010000
END:DAYLIGHT
BEGIN:STANDARD
TZOFFSETFROM:+0200
TZOFFSETTO:+0100
TZNAME:CET
DTSTART:20271031T010000
END:STANDARD
END:VTIMEZONE
BEGIN:VEVENT
DTSTART;TZID=Europe/Berlin:20260115T090000
DTEND;TZID=Europe/Berlin:20260115T110000
DTSTAMP:20260421T233807
CREATED:20250627T221735Z
LAST-MODIFIED:20250627T221735Z
UID:10005761-1768467600-1768474800@wandelstadt-esslingen.de
SUMMARY:TAT + RAT · Senioren und Seniorinnen helfen
DESCRIPTION:Wobei wir helfen!\nWir unterstützen Sie bei anfallenden Arbeiten\, bei denen „tatkräftige Hilfe“ oder „guter Rat“ benötigt wird. \nBeispiele unserer Tätigkeiten\n▷ Reparaturen im Haushalt \n• Tropfende Wasserhähne\n• Leuchten montieren oder Leuchtmittel austauschen\n• Möbelscharniere reparieren\n• Haltegriffe montieren\n• Montage von Kleinmöbeln\n• und vieles mehr \n▷ Lösung technischer Probleme \n• Digitale Geräte wie Telefon\, Drucker\, Router\, stationärer PC etc.\n• Grundeinstellung Fernseher etc.\n• Bedienungsanleitungen erklären \n▷ Hilfe bei Formularen und beim Verfassen von Schriftstücken\n▷ Beratung wenn Sie unsicher sind\, ob \n• wenige Handgriffe ausreichen\, um das Problem zu beheben\n• ein Kundendienst gerufen werden sollte\n• eine Ersatzbeschaffung sinnvoll schein \nSie erreichen uns persönlich und telefonisch\ndonnerstags von 9 – 11 Uhr\n0711 357420\nAnrufbeantworter wird wöchentlich abgehört. \nSie erreichen uns online\ntatundrat@forum-esslingen.de\nforum-esslingen.de
URL:https://wandelstadt-esslingen.de/event/tat-rat-%c2%b7-senioren-und-seniorinnen-helfen/2026-01-15/
LOCATION:Forum Esslingen in der Schelztorstraße 38\, 73728 Esslingen\, Schelztorstraße 38\, Esslingen\, 73728\, Deutschland
END:VEVENT
BEGIN:VEVENT
DTSTART;TZID=Europe/Berlin:20260115T150000
DTEND;TZID=Europe/Berlin:20260115T170000
DTSTAMP:20260421T233807
CREATED:20250329T050120Z
LAST-MODIFIED:20250329T050120Z
UID:10005040-1768489200-1768496400@wandelstadt-esslingen.de
SUMMARY:Gesprächskreis Aktuelles Zeitgeschehen
DESCRIPTION:Jeden Donnerstag von 15 : 00 – 17 : 00 Uhr\nOffener Treff – Gesprächskreis Aktuelles Zeitgeschehen\n In lockerer Runde und in einer Atmosphäre der gegenseitigen Toleranz und\ndes Respekts tauschen wir unsere Meinungen und Fragen hinsichtlich aktueller\nThemen (Politik\, Gesellschaft etc.) aus\, wobei wir offen für jedes Alter und jede\nKultur sind.\nVerschiedene Referent:innen und Gastteilnehmende klären zudem in unregel\nmäßigen Abständen zu speziellen Themen auf. Ebenso fließen Haltungen und\nMeinungen verschiedenster Alters- und Bevölkerungsgruppen ein.\nDiskutieren Sie mit uns – wir freuen uns auf Sie!\n Kontakt:\n Matthias Pallmert\,  gaz@mgh-es.de\nOrt: Mehrgenerationen- und Bürgerhaus\, Weilstr. 8
URL:https://wandelstadt-esslingen.de/event/gespraechskreis-aktuelles-zeitgeschehen/2026-01-15/
LOCATION:Mehrgenerationenhaus Esslingen\, Weilstraße 8\, Esslingen
END:VEVENT
BEGIN:VEVENT
DTSTART;TZID=Europe/Berlin:20260115T180000
DTEND;TZID=Europe/Berlin:20260115T200000
DTSTAMP:20260421T233807
CREATED:20250329T050707Z
LAST-MODIFIED:20250329T050707Z
UID:10005132-1768500000-1768507200@wandelstadt-esslingen.de
SUMMARY:Orte des Zuhörens
DESCRIPTION:Donnerstags \n18 : 00 – 20 : 00 Uhr\nOrte des Zuhörens – Caritas-Zentrum Esslingen\n Geschulte haupt- und ehrenamtliche Mitarbeiter:innen nehmen sich Zeit zum\nZuhören. Sie bieten ein offenes Ohr für alle Anliegen in sozialen und finanziellen\nFragen\, Unterstützung bei Anträgen und Bewerbungen sowie Hilfe im Umgang\nmit Behörden. Vertraulich und kostenlos!\nKontakt: Caritas Fils-Neckar-Alb\, Anniko Benedek\,  0711 3969 – 5422
URL:https://wandelstadt-esslingen.de/event/orte-des-zuhoerens/2026-01-15/
LOCATION:Caritas-Zentrum Esslingen\, Mettinger Str. 123\, Esslingen am Neckar\, 73728\, Deutschland
END:VEVENT
BEGIN:VEVENT
DTSTART;TZID=Europe/Berlin:20260115T190000
DTEND;TZID=Europe/Berlin:20260115T190000
DTSTAMP:20260421T233807
CREATED:20240628T160749Z
LAST-MODIFIED:20240629T175416Z
UID:10003644-1768503600-1768503600@wandelstadt-esslingen.de
SUMMARY:Fahrradwerkstatt
DESCRIPTION:Wir unterstützen Dich\, wenn Dein Fahrrad nicht mehr tut was es soll.\nFalls Ihr Interesse und Bedarf an unserer Fahrradwerkstatt habt\, meldet Euch per Mail: info@komma. \nVerantwortlich für die Werkstatt ist der Motorradclub Kuhle Wampe. Sie sind ein basisdemokratisch organisierter Motorradclub mit Sitz im Komma und sie betreiben eine Zweiradwerkstatt. Jeden Donnerstag ist die Fahrradwerkstatt geöffnet – bei gutem Wetter wird möglicherweise auch gegrillt.
URL:https://wandelstadt-esslingen.de/event/fahrrad-werkstatt/2026-01-15/
LOCATION:KOMMA\, Maille 5-9\, Esslingen\, Deutschland
END:VEVENT
BEGIN:VEVENT
DTSTART;TZID=Europe/Berlin:20260115T190000
DTEND;TZID=Europe/Berlin:20260115T210000
DTSTAMP:20260421T233807
CREATED:20250123T204102Z
LAST-MODIFIED:20260418T102930Z
UID:10008169-1768503600-1768510800@wandelstadt-esslingen.de
SUMMARY:Tu was - Transition Town Esslingen
DESCRIPTION:Die AG Tu was trifft sich regulär einmal pro Monat donnerstags und einmal im Monat am Wochenende um gemeinsam Möglichkeiten eines nachhaltigeren Lebensstils auszuprobieren. Dabei gibt es Aktionen für Kopf\, Herz und Hand. Interessierte können sich gerne über unsere Webseite www.transition-town-es.de anmelden.
URL:https://wandelstadt-esslingen.de/event/tu-was-transition-town-esslingen/2026-01-15/
END:VEVENT
BEGIN:VEVENT
DTSTART;TZID=Europe/Berlin:20260115T193000
DTEND;TZID=Europe/Berlin:20260115T213000
DTSTAMP:20260421T233807
CREATED:20260102T120350Z
LAST-MODIFIED:20260102T120350Z
UID:10008187-1768505400-1768512600@wandelstadt-esslingen.de
SUMMARY:LAUTER HASS – Wie Antisemitismus in die Popkultur einsickerte
DESCRIPTION:Gespräch mit Maria Kanitz und Lukas Geck\, Moderation Andreas Vogel\nAntisemitismus ist in der Popkultur längst angekommen. Künstler wie Roger Waters\, Kanye West\, Macklemore\, Kneecap oder Bob Vylan verbreiten Verschwörungsnarrative\, unterstützen Boykotte oder verwandeln Konzerte in israelfeindliche Inszenierungen. Pop\, einst Symbol von Freiheit und Emanzipation\, zeigt sich seit dem 7. Oktober deutlich ambivalenter.\nZu Gast sind die Autor*innen Maria Kanitz (Sozialwissenschaftlerin und Antisemitismusforscherin) und Lukas Geck (Politikwissenschaftler)\, die im Herbst diesen Jahres das Buch „Lauter Hass. Antisemitismus als popkulturelles Ereignis“ zum Thema im Verbrecherverlag veröffentlicht haben. Sie zeigen auf\, wie antisemitische Bilder und Narrative in die Popkultur eingesickert sind und sich inzwischen in zahlreichen Szenen etabliert haben. Durch den Abend führt Andreas Vogel\, Dj und Mitgründer der Reihe Montage\, die sich jede Woche im Theater Rampe in Stuttgart mit popkulturellen und politischen Themen beschäftigt. \nEine Veranstaltung des Komma Esslingen in Zusammenarbeit mit der Montagegruppe Stuttgart und der Deutsch Israelischen Gesellschaft Region Stuttgart.
URL:https://wandelstadt-esslingen.de/event/lauter-hass-wie-antisemitismus-in-die-popkultur-einsickerte/
LOCATION:KOMMA Esslingen\, Maille 5-9\, Esslingen\, 73728\, Deutschland
CATEGORIES:Infoveranstaltung,Live-Veranstaltung,Podiumsdiskussion
END:VEVENT
BEGIN:VEVENT
DTSTART;TZID=Europe/Berlin:20260115T193000
DTEND;TZID=Europe/Berlin:20260115T213000
DTSTAMP:20260421T233807
CREATED:20260102T185654Z
LAST-MODIFIED:20260102T185654Z
UID:10008225-1768505400-1768512600@wandelstadt-esslingen.de
SUMMARY:Gesellschaftliche Transformation. Menschen einbinden\, Ängste abbauen\, Veränderungen gestalten
DESCRIPTION:Die Weisheit der Angst. Sinn und Abgründe eines Grundgefühls. Eine Online-Vortrags-Reihe der keb Katholische Erwachsenenbildung in der Diözese Rottenburg-Stuttgart \nOnline-Vortrag und Gespräch.\nUnsere moderne Gesellschaft befindet sich in dauerhaften Transformationsprozessen. Veränderung ist das neue Normal! Digitalisierung und Künstliche Intelligenz\, die Energiewende\, Zuwanderung und Demographischer Wandel\, Globalisierung und viele weitere Megatrends erzeugen dauerhaft tiefgreifende Veränderungsprozesse\, die viele Chancen bieten\, aber auch sehr viele Ängste bei den Betroffenen erzeugen. Wie baut man diese Ängste ab und wie geht man in Veränderungsprozessen mit Widerständen um? In seinem Vortrag beschäftigt sich der Innovations- und Transformationsforscher Prof. Dr. Michael Stephan mit den typischen Mustern des Widerstands und Barrieren der Angst in unserer Gesellschaft. Er zeigt Lösungen auf\, wie man durch eine offene Innovationskultur und insbesondere durch die Einbindung der Betroffenen diese zu aktiv Beteiligten und Mitgestaltern von Veränderungsprozessen machen kann. \nOrt: Zoom-Link bei Anmeldung \nTermin: Donnerstag\, 15.01.2026\, 19:30 Uhr \nLeitung: Prof. Dr. Michael Stephan\, Professur für Technologie und Innovationsmanagement an der Philipps-Universität Marburg \nKosten: 5 € \nAnmeldung bis 14.01.2026 \nInfo & Anmeldung: E-Mail anmeldung@keb-boeblingen.de
URL:https://wandelstadt-esslingen.de/event/gesellschaftliche-transformation-menschen-einbinden-aengste-abbauen-veraenderungen-gestalten/
LOCATION:via Zoom
CATEGORIES:Infoveranstaltung,Live-Veranstaltung
END:VEVENT
END:VCALENDAR