BEGIN:VCALENDAR
VERSION:2.0
PRODID:-//Wandelstadt Esslingen - ECPv6.15.20//NONSGML v1.0//EN
CALSCALE:GREGORIAN
METHOD:PUBLISH
X-WR-CALNAME:Wandelstadt Esslingen
X-ORIGINAL-URL:https://wandelstadt-esslingen.de
X-WR-CALDESC:Veranstaltungen für Wandelstadt Esslingen
REFRESH-INTERVAL;VALUE=DURATION:PT1H
X-Robots-Tag:noindex
X-PUBLISHED-TTL:PT1H
BEGIN:VTIMEZONE
TZID:Europe/Berlin
BEGIN:DAYLIGHT
TZOFFSETFROM:+0100
TZOFFSETTO:+0200
TZNAME:CEST
DTSTART:20250330T010000
END:DAYLIGHT
BEGIN:STANDARD
TZOFFSETFROM:+0200
TZOFFSETTO:+0100
TZNAME:CET
DTSTART:20251026T010000
END:STANDARD
BEGIN:DAYLIGHT
TZOFFSETFROM:+0100
TZOFFSETTO:+0200
TZNAME:CEST
DTSTART:20260329T010000
END:DAYLIGHT
BEGIN:STANDARD
TZOFFSETFROM:+0200
TZOFFSETTO:+0100
TZNAME:CET
DTSTART:20261025T010000
END:STANDARD
BEGIN:DAYLIGHT
TZOFFSETFROM:+0100
TZOFFSETTO:+0200
TZNAME:CEST
DTSTART:20270328T010000
END:DAYLIGHT
BEGIN:STANDARD
TZOFFSETFROM:+0200
TZOFFSETTO:+0100
TZNAME:CET
DTSTART:20271031T010000
END:STANDARD
END:VTIMEZONE
BEGIN:VEVENT
DTSTART;TZID=Europe/Berlin:20260110T100000
DTEND;TZID=Europe/Berlin:20260110T120000
DTSTAMP:20260421T233753
CREATED:20260106T204238Z
LAST-MODIFIED:20260106T205521Z
UID:10008510-1768039200-1768046400@wandelstadt-esslingen.de
SUMMARY:Linux-Sprechstunde
DESCRIPTION:Linux-Sprechstunde in der essembly \nHier findest du Antworten auf alle Fragen zum Umstieg auf Linux und ausserdem Hilfe\, falls es nach dem Umstieg Probleme geben sollte:\nessembly\, Milchstrasse 17 in 73728 Esslingen \nMehr Infos zum Linux-Café\, zum Ablauf der Neuinstallation\, zu den nötigen und empfohlenen Vorbereitungen und ganz allgemein zu Freier Software findest du hier: \nwww.linuxcafe-esslingen.de \n#EndOf10 #DigitalIndependenceDay #DIDit #DUTgemacht
URL:https://wandelstadt-esslingen.de/event/linux-sprechstunde/2026-01-10/
LOCATION:essembly\, Milchstrasse 17\, Esslingen\, 73728\, Deutschland
ATTACH;FMTTYPE=image/jpeg:https://wandelstadt-esslingen.de/wp-content/uploads/2026/01/endof10_linux_windows-logo.jpg
END:VEVENT
BEGIN:VEVENT
DTSTART;TZID=Europe/Berlin:20260110T180000
DTEND;TZID=Europe/Berlin:20260110T200000
DTSTAMP:20260421T233753
CREATED:20260102T115449Z
LAST-MODIFIED:20260102T115449Z
UID:10008185-1768068000-1768075200@wandelstadt-esslingen.de
SUMMARY:"Das fängt ja gut an\, sozusagen!"
DESCRIPTION:Die Theatergruppe der Bürgerinitiative „Aufstehen! Esslinger Initiative für Demokratie!“ zeigt ihr 3. Forum-Theaterstück zur politischen Lage. \nEin Neujahrsempfang der Gemeinde\, bei dem verschiedene Menschen aus Politik\, Vereinen und der Bürgerschaft aufeinandertreffen. Aus dem Small Talk ergeben sich schnell Konflikte. Rassismus\, Respektlosigkeit\, Hetze\, Gewalt und Sexismus werden sichtbar. Bevor alles eskaliert\, wird die Szene auf der Bühne eingefroren und Zuschauer dürfen in eine Rolle schlüpfen und eine Lösung spielerisch anbieten! Sind Spieler*innen und alle Zuschauer mit der Lösung zufrieden\, ist das Theater zu Ende! Ansonsten: Do it again! \nModeration: Angela Brock\nSpielleitung: Barbara von Lauenstein\nSpieler*innen: Evelyn Eggers\, Marlies Baunack-Könnel\, Angela Brock\, Bernhard Wiesmeier\, Dirk Rassler\, Wolf Delfs\, Barbara von Lauenstein
URL:https://wandelstadt-esslingen.de/event/das-faengt-ja-gut-an-sozusagen/
LOCATION:Kulturzentrum Dieselstraße\, Dieselstraße 26\, Esslingen\, Deutschland
CATEGORIES:Kulturveranstaltung,Live-Veranstaltung
END:VEVENT
BEGIN:VEVENT
DTSTART;TZID=Europe/Berlin:20260110T200000
DTEND;TZID=Europe/Berlin:20260110T220000
DTSTAMP:20260421T233753
CREATED:20251127T191001Z
LAST-MODIFIED:20251127T191001Z
UID:10007550-1768075200-1768082400@wandelstadt-esslingen.de
SUMMARY:Muttersprache Mameloschn von Sasha Marianna Salzmann
DESCRIPTION:Oma ist besser als Instagram.\nGroßmutter Lin\, Mutter Clara und Tochter Rahel leben zusammen unter einem Dach. Doch Rahel will weit weg von zu Hause\, nach New York. Und Clara hat Angst\, ihre Tochter zu verlieren\, wie sie schon ihren Sohn Davie verloren hat. Die drei Frauen arbeiten sich aneinander ab\, umkreisen sich\, tasten sich aneinander heran\, immer auf der Suche nach einer gemeinsamen Sprache für ihre Sehnsüchte\, Ängste\, Enttäuschungen und Konflikte zwischen den Generationen. Muttersprache heißt auf Jiddisch Mameloschn. \nSasha Marianna Salzmann thematisiert einen Generationenkonflikt zwischen Müttern und Töchtern\, der vom Antisemitismus in der Gesellschaft belastet ist. Die treffsicheren Dialoge des Stücks sind zugleich eine Hommage an den jüdischen Humor. \nEinen großen Dank an Nathalie Ivasov und Rachel Oshmiansky für ihre Hilfe bei der jiddischen und hebräischen Aussprache und Margarita Rudenstein für ihre Perspektive.
URL:https://wandelstadt-esslingen.de/event/muttersprache-mameloschn-von-sasha-marianna-salzmann/2026-01-10/
LOCATION:Württembergische Landesbühne – Schauspielhaus mit Podium 1 & 2\, Ritterstraße 11\, Esslingen\, Deutschland
CATEGORIES:Kulturveranstaltung,Live-Veranstaltung
END:VEVENT
END:VCALENDAR