BEGIN:VCALENDAR
VERSION:2.0
PRODID:-//Wandelstadt Esslingen - ECPv6.15.20//NONSGML v1.0//EN
CALSCALE:GREGORIAN
METHOD:PUBLISH
X-ORIGINAL-URL:https://wandelstadt-esslingen.de
X-WR-CALDESC:Veranstaltungen für Wandelstadt Esslingen
REFRESH-INTERVAL;VALUE=DURATION:PT1H
X-Robots-Tag:noindex
X-PUBLISHED-TTL:PT1H
BEGIN:VTIMEZONE
TZID:Europe/Berlin
BEGIN:DAYLIGHT
TZOFFSETFROM:+0100
TZOFFSETTO:+0200
TZNAME:CEST
DTSTART:20250330T010000
END:DAYLIGHT
BEGIN:STANDARD
TZOFFSETFROM:+0200
TZOFFSETTO:+0100
TZNAME:CET
DTSTART:20251026T010000
END:STANDARD
BEGIN:DAYLIGHT
TZOFFSETFROM:+0100
TZOFFSETTO:+0200
TZNAME:CEST
DTSTART:20260329T010000
END:DAYLIGHT
BEGIN:STANDARD
TZOFFSETFROM:+0200
TZOFFSETTO:+0100
TZNAME:CET
DTSTART:20261025T010000
END:STANDARD
BEGIN:DAYLIGHT
TZOFFSETFROM:+0100
TZOFFSETTO:+0200
TZNAME:CEST
DTSTART:20270328T010000
END:DAYLIGHT
BEGIN:STANDARD
TZOFFSETFROM:+0200
TZOFFSETTO:+0100
TZNAME:CET
DTSTART:20271031T010000
END:STANDARD
END:VTIMEZONE
BEGIN:VEVENT
DTSTART;TZID=Europe/Berlin:20260102T100000
DTEND;TZID=Europe/Berlin:20260102T120000
DTSTAMP:20260421T221747
CREATED:20260102T171402Z
LAST-MODIFIED:20260102T171402Z
UID:10008197-1767348000-1767355200@wandelstadt-esslingen.de
SUMMARY:Schnittkurs mit dem OGV Hegensberg-Liebersbronn
DESCRIPTION:Im Winter und Frühjahr bietet unsere Obst- und Gartenbauberatung wieder zahlreiche Schnittkurse für alle an\, die Streuobstwiesen bewirtschaften oder sich für Obstbaumpflege interessieren. \nOb für großkronige Streuobstbäume\, Sträucher oder Beerenobst im Hausgarten – die Kurse vermitteln praxisnahes Wissen und werden gemeinsam mit vielen örtlichen Vereinen und Partnern durchgeführt. \n📅 Termine: \n•17. Januar 2026 – Schnittkurse mit OGV Hegensberg-Liebersbronn und OGV Wäldenbronn \nℹ️ Alle Termine & Details:\n👉landkreis-esslingen.de/start/service/Schnittkurse \n📩 Anmeldung ab sofort möglich:\nObstbauberatung@LRA-ES.de
URL:https://wandelstadt-esslingen.de/event/schnittkurs-mit-dem-ogv-hegensberg-liebersbronn/
CATEGORIES:Infoveranstaltung,Workshop
END:VEVENT
BEGIN:VEVENT
DTSTART;TZID=Europe/Berlin:20260102T133000
DTEND;TZID=Europe/Berlin:20260102T153000
DTSTAMP:20260421T221747
CREATED:20260102T171547Z
LAST-MODIFIED:20260102T171547Z
UID:10008198-1767360600-1767367800@wandelstadt-esslingen.de
SUMMARY:Schnittkurs mit dem OGV Wäldenbronn
DESCRIPTION:Im Winter und Frühjahr bietet unsere Obst- und Gartenbauberatung wieder zahlreiche Schnittkurse für alle an\, die Streuobstwiesen bewirtschaften oder sich für Obstbaumpflege interessieren. \nOb für großkronige Streuobstbäume\, Sträucher oder Beerenobst im Hausgarten – die Kurse vermitteln praxisnahes Wissen und werden gemeinsam mit vielen örtlichen Vereinen und Partnern durchgeführt. \n📅 Termine: \n•17. Januar 2026 – Schnittkurse mit OGV Hegensberg-Liebersbronn und OGV Wäldenbronn \nℹ️ Alle Termine & Details:\n👉landkreis-esslingen.de/start/service/Schnittkurse \n📩 Anmeldung ab sofort möglich:\nObstbauberatung@LRA-ES.de
URL:https://wandelstadt-esslingen.de/event/schnittkurs-mit-dem-ogv-waeldenbronn/
CATEGORIES:Infoveranstaltung,Live-Veranstaltung,Workshop
END:VEVENT
END:VCALENDAR