BEGIN:VCALENDAR
VERSION:2.0
PRODID:-//Wandelstadt Esslingen - ECPv6.15.20//NONSGML v1.0//EN
CALSCALE:GREGORIAN
METHOD:PUBLISH
X-ORIGINAL-URL:https://wandelstadt-esslingen.de
X-WR-CALDESC:Veranstaltungen für Wandelstadt Esslingen
REFRESH-INTERVAL;VALUE=DURATION:PT1H
X-Robots-Tag:noindex
X-PUBLISHED-TTL:PT1H
BEGIN:VTIMEZONE
TZID:Europe/Berlin
BEGIN:DAYLIGHT
TZOFFSETFROM:+0100
TZOFFSETTO:+0200
TZNAME:CEST
DTSTART:20240331T010000
END:DAYLIGHT
BEGIN:STANDARD
TZOFFSETFROM:+0200
TZOFFSETTO:+0100
TZNAME:CET
DTSTART:20241027T010000
END:STANDARD
BEGIN:DAYLIGHT
TZOFFSETFROM:+0100
TZOFFSETTO:+0200
TZNAME:CEST
DTSTART:20250330T010000
END:DAYLIGHT
BEGIN:STANDARD
TZOFFSETFROM:+0200
TZOFFSETTO:+0100
TZNAME:CET
DTSTART:20251026T010000
END:STANDARD
BEGIN:DAYLIGHT
TZOFFSETFROM:+0100
TZOFFSETTO:+0200
TZNAME:CEST
DTSTART:20260329T010000
END:DAYLIGHT
BEGIN:STANDARD
TZOFFSETFROM:+0200
TZOFFSETTO:+0100
TZNAME:CET
DTSTART:20261025T010000
END:STANDARD
END:VTIMEZONE
BEGIN:VEVENT
DTSTART;TZID=Europe/Berlin:20251219T090000
DTEND;TZID=Europe/Berlin:20251219T110000
DTSTAMP:20260422T012734
CREATED:20251121T101906Z
LAST-MODIFIED:20251121T101906Z
UID:10007220-1766134800-1766142000@wandelstadt-esslingen.de
SUMMARY:Freitagssprechstunde des SSR
DESCRIPTION:Rufen Sie an! Vorstandsmitglieder vom StadtSeniorenRat haben von 9 bis 11 Uhr ein offenes Ohr für alle Anliegen von Seniorinnen sowie Senioren und vermitteln auch Termine bei der Esslinger Initiative zur Erstellung von Vorsorgepapieren wie Vollmachten und Patientenverfügungen: Telefon 0711 357420
URL:https://wandelstadt-esslingen.de/event/freitagssprechstunde-des-ssr-3/
LOCATION:Forum Esslingen in der Schelztorstraße 38\, 73728 Esslingen\, Schelztorstraße 38\, Esslingen\, 73728\, Deutschland
CATEGORIES:Infoveranstaltung
ATTACH;FMTTYPE=image/jpeg:https://wandelstadt-esslingen.de/wp-content/uploads/2025/05/Telefonieren.jpg
END:VEVENT
BEGIN:VEVENT
DTSTART;TZID=Europe/Berlin:20251219T173000
DTEND;TZID=Europe/Berlin:20251219T200000
DTSTAMP:20260422T012734
CREATED:20251125T190412Z
LAST-MODIFIED:20251125T190412Z
UID:10007245-1766165400-1766174400@wandelstadt-esslingen.de
SUMMARY:Barrierearmer Kurzfilmabend
DESCRIPTION:Ab 16 Jahren \nDas Medium Film soll auf vielfältige Weise neu erlebt werden. In sieben preisgekrönten Kurzfilmen der letzten zehn Jahre dreht sich alles um das Thema Familie. Auch darum\, was Menschen miteinander verbindet oder trennt. Denn Einigkeit und heile Welt gibt es meist nur auf Familienfotos. Wie entstehen Konflikte? Wie lassen sie sich überwinden? Und kann man am Ende vielleicht sogar darüber lachen? Die Filme erzählen davon mit Liebe\, Tiefgang und einer Portion Humor.\nDas Programm wird einmal mit Gebärdensprach-Einblendungen\, Untertiteln für Hörgeschädigte gezeigt und einmal mit Audiodeskription. Es spricht Menschen mit und ohne Einschränkungen gleichermaßen an. Wir zeigen das Kurzfilmprogramm Familienbande. \nDie Teilnahme am Kurzfilmtag wird ermöglicht durch die Förderung im Rahmen des Kooperationsprogramms „Kurswechsel Kultur – Netzwerk. Richtung. Inklusion.“ der Landesvereinigung Kinder und Jugendbildung Baden-Württemberg (LKJ) und des Zentrums für Kulturelle Teilhabe Baden-Württemberg (ZfKT). Das ZfKT ist eine Einrichtung des Ministeriums für Wissenschaft\, Forschung und Kunst Baden-Württemberg. \nweitere Informationen: https://kurzfilmtag.com/programme/familienbande.html \n \nAnmeldung erforderlich. Das Filmprogramm wird präsentiert von der Kurzfilm Agentur Hamburg in Kooperation mit der AG Kurzfilm.\n 
URL:https://wandelstadt-esslingen.de/event/barrierearmer-kurzfilmabend/
LOCATION:Stadtbücherei | Kutschersaal\, Webergasse 4-6\, Esslingen\, 73728\, Deutschland
END:VEVENT
BEGIN:VEVENT
DTSTART;TZID=Europe/Berlin:20251219T180000
DTEND;TZID=Europe/Berlin:20251219T180000
DTSTAMP:20260422T012734
CREATED:20221010T204011Z
LAST-MODIFIED:20221010T204011Z
UID:10005588-1766167200-1766167200@wandelstadt-esslingen.de
SUMMARY:Critical Mass
DESCRIPTION:Critical Mass ist eine weltweite Fahrrad­bewegung\, um eine Alternative zum motorisi­erten Individual­verkehr aufzu­zeigen. Grundlage bildet Paragraph 27 der Straßenverkehrs-Ordnung. \nBei der Critical Mass Esslingen treffen sich jeden 3. Freitag im Monat Radfahrerinnen und Radfahrer zur gemeinsamen Fahrrad­ausfahrt durch Esslingen. Treffpunkt ist um 18:00 Uhr auf dem Bahnhofsvorplatz. Im Anschluss findet oft noch ein Erfahrungsaustausch beim „Radlerstammtisch“ statt.
URL:https://wandelstadt-esslingen.de/event/critical-mass-2/2025-12-19/
LOCATION:Bahnhofsvorplatz\, Esslingen
ORGANIZER;CN="Critical Mass":MAILTO:schugra@posteo.de
END:VEVENT
BEGIN:VEVENT
DTSTART;TZID=Europe/Berlin:20251219T180000
DTEND;TZID=Europe/Berlin:20251219T180000
DTSTAMP:20260422T012734
CREATED:20251125T194013Z
LAST-MODIFIED:20251125T194013Z
UID:10007310-1766167200-1766167200@wandelstadt-esslingen.de
SUMMARY:Poppinski Solidar Gemeinschaftsabend
DESCRIPTION:Herzliche Einladung zum monatlichen POPPINSKI-Plausch! Wir treffen uns zum Austausch und gemütlichen Beisammensein bei leckeren Getränken und einem kleinen Snack-Buffet. Wer eine kleine vegane oder vegetarische Leckerei beisteuern möchte\, darf das gerne tun. Getränke gibt’s wie immer auf Spendenbasis an unserer Theke. (Für Nicht-Mitglieder: eine kurze Anmeldung per Mail an hello@poppinski ist erwünscht
URL:https://wandelstadt-esslingen.de/event/poppinski-solidar-gemeinschaftsabend/
LOCATION:Poppinski\, Küferstraße 40\, Esslingen\, 73728\, Deutschland
ORGANIZER;CN="Poppinski":MAILTO:hello@poppinski.de
END:VEVENT
END:VCALENDAR