BEGIN:VCALENDAR
VERSION:2.0
PRODID:-//Wandelstadt Esslingen - ECPv6.15.20//NONSGML v1.0//EN
CALSCALE:GREGORIAN
METHOD:PUBLISH
X-ORIGINAL-URL:https://wandelstadt-esslingen.de
X-WR-CALDESC:Veranstaltungen für Wandelstadt Esslingen
REFRESH-INTERVAL;VALUE=DURATION:PT1H
X-Robots-Tag:noindex
X-PUBLISHED-TTL:PT1H
BEGIN:VTIMEZONE
TZID:Europe/Berlin
BEGIN:DAYLIGHT
TZOFFSETFROM:+0100
TZOFFSETTO:+0200
TZNAME:CEST
DTSTART:20240331T010000
END:DAYLIGHT
BEGIN:STANDARD
TZOFFSETFROM:+0200
TZOFFSETTO:+0100
TZNAME:CET
DTSTART:20241027T010000
END:STANDARD
BEGIN:DAYLIGHT
TZOFFSETFROM:+0100
TZOFFSETTO:+0200
TZNAME:CEST
DTSTART:20250330T010000
END:DAYLIGHT
BEGIN:STANDARD
TZOFFSETFROM:+0200
TZOFFSETTO:+0100
TZNAME:CET
DTSTART:20251026T010000
END:STANDARD
BEGIN:DAYLIGHT
TZOFFSETFROM:+0100
TZOFFSETTO:+0200
TZNAME:CEST
DTSTART:20260329T010000
END:DAYLIGHT
BEGIN:STANDARD
TZOFFSETFROM:+0200
TZOFFSETTO:+0100
TZNAME:CET
DTSTART:20261025T010000
END:STANDARD
END:VTIMEZONE
BEGIN:VEVENT
DTSTART;VALUE=DATE:20251122
DTEND;VALUE=DATE:20251214
DTSTAMP:20260422T001422
CREATED:20251023T075017Z
LAST-MODIFIED:20251023T075017Z
UID:10006700-1763769600-1765670399@wandelstadt-esslingen.de
SUMMARY:"Was heißt schon alt?" Eine Ausstellung rund ums Älterwerden
DESCRIPTION:
URL:https://wandelstadt-esslingen.de/event/was-heisst-schon-alt-eine-ausstellung-rund-ums-aelterwerden/
LOCATION:Stadtbücherei Esslingen am Neckar\, Heugasse 9\, Esslingen am Neckar\, 73728
CATEGORIES:Kulturveranstaltung
ATTACH;FMTTYPE=application/pdf:https://wandelstadt-esslingen.de/wp-content/uploads/2025/10/02_Plakat_Wanderausstellung_ansicht-1.pdf
END:VEVENT
BEGIN:VEVENT
DTSTART;TZID=Europe/Berlin:20251205T090000
DTEND;TZID=Europe/Berlin:20251205T110000
DTSTAMP:20260422T001422
CREATED:20251121T101503Z
LAST-MODIFIED:20251121T101503Z
UID:10007218-1764925200-1764932400@wandelstadt-esslingen.de
SUMMARY:Freitagssprechstunde des SSR
DESCRIPTION:Rufen Sie an! Vorstandsmitglieder vom StadtSeniorenRat haben von 9 bis 11 Uhr ein offenes Ohr für alle Anliegen von Seniorinnen sowie Senioren und vermitteln auch Termine bei der Esslinger Initiative zur Erstellung von Vorsorgepapieren wie Vollmachten und Patientenverfügungen: Telefon 0711 357420
URL:https://wandelstadt-esslingen.de/event/freitagssprechstunde-des-ssr/
LOCATION:Forum Esslingen in der Schelztorstraße 38\, 73728 Esslingen\, Schelztorstraße 38\, Esslingen\, 73728\, Deutschland
CATEGORIES:Infoveranstaltung
ATTACH;FMTTYPE=image/jpeg:https://wandelstadt-esslingen.de/wp-content/uploads/2025/05/Telefonieren.jpg
END:VEVENT
BEGIN:VEVENT
DTSTART;TZID=Europe/Berlin:20251205T150000
DTEND;TZID=Europe/Berlin:20251206T180000
DTSTAMP:20260422T001422
CREATED:20251125T125435Z
LAST-MODIFIED:20251125T125435Z
UID:10007244-1764946800-1765044000@wandelstadt-esslingen.de
SUMMARY:ZuZule Nikolaus Secondhand mit LIVE MUSIK
DESCRIPTION:ZuZule Nikolaus Secondhand Wochenende mit LIVE MUSIK \nFreitag 5.12. & Samstag 6.12. \nFreitag 15-19 Uhr \n\nNikolaus Secondhand Wochenende mit LIVE MUSIK – Tag 1 \n\nSamstag 12-18 Uhr \n\nNikolaus Secondhand Wochenende mit LIVE MUSIK – Tag 2 \n\n\nSecondhand-Artikel aller Art\n– kleine und große Schätze für jede*n\, auch als nachhaltige Weihnachtsgeschenke \nWeihnachts-Deko\nWinter-Mützen\nKinderkleidung\, Spielzeug\nHaushalt\, Dekoartikel\nErwachsenenkleidung\nBücher\, Sportartikel u.v.m.\ngemütlich\nLeckeres + (heiße) Getränke\n\n  \nLive-Musik – Eintritt frei\nFreitag ab 17 Uhr Helena singt www.helenasingt.de \nSamstag ab 15 Uhr Marco mit Gesang\, Gitarre und Handpan www.echowind-music.com \nim ZuZule Begegnungsort mit super Kinder-Spieleecke: \nAichschießer Str. 2 \nAichwald-Schanbach
URL:https://wandelstadt-esslingen.de/event/nikolaus-secondhand-mit-live-musik/
LOCATION:ZuZule\, Aichschießer Str. 2\, Aichwald\, 73773
ORGANIZER;CN="ZuZule":MAILTO:zuzule@mail.de
END:VEVENT
BEGIN:VEVENT
DTSTART;TZID=Europe/Berlin:20251205T153000
DTEND;TZID=Europe/Berlin:20251205T153000
DTSTAMP:20260422T001422
CREATED:20250627T213609Z
LAST-MODIFIED:20250627T213901Z
UID:10005728-1764948600-1764948600@wandelstadt-esslingen.de
SUMMARY:Drum Circle
DESCRIPTION:Die Runde wächst Stück für Stück und wir freuen uns über jeden Teilnehmer. Von Jung bis Alt\, mit und ohne Vorerfahrungen sind Alle willkommen\, die Freude haben am Rhythmus\, am gemeinsamen Musizieren und Improvisieren oder einfach Lust haben mal etwas Neues auszuprobieren und die Kraft der Musik zu erleben. Es ist einfach jedes Mal ein sehr schönes Miteinander.j
URL:https://wandelstadt-esslingen.de/event/drum-circle-2/2025-12-05/
LOCATION:Seniorenresidenz Charlottenhof\, Plochinger Straße 21-27\, Esslingen\, 73730
CATEGORIES:Kulturveranstaltung
ATTACH;FMTTYPE=image/jpeg:https://wandelstadt-esslingen.de/wp-content/uploads/2025/06/DrumCirlce.jpg
ORGANIZER;CN="Musik und Bewegung Kerstin Br%C3%A4utigam":MAILTO:k.b.MusikundBewegung@gmx.de
END:VEVENT
BEGIN:VEVENT
DTSTART;TZID=Europe/Berlin:20251205T180000
DTEND;TZID=Europe/Berlin:20251205T200000
DTSTAMP:20260422T001422
CREATED:20251127T190259Z
LAST-MODIFIED:20251127T190259Z
UID:10007546-1764957600-1764964800@wandelstadt-esslingen.de
SUMMARY:ES bei Nacht: Die Stadt für Frauen sicherer machen
DESCRIPTION:📍 Bahnhofsvorplatz\, Esslingen am Neckar\n📆 5. Dezember\, 18:00 Uhr \nIm Rahmen der Orange Days lädt der OV Esslingen alle Interessierten zu einem gemeinsamen Abendspaziergang ein. Wir suchen Orte auf\, an denen sich besonders Frauen und Mädchen im Dunkeln unsicher fühlen. \nUnser Ziel:\n🔍 prüfen\, ob bisherige Maßnahmen wirken\n💡 neue Ideen sammeln\, wie wir Sicherheit & Sicherheitsempfinden stärken können \nMit dabei:\n✨ Andrea Lindlohr (MdL)\, Landtagsabgeordnete des Wahlkreises Esslingen\n✨ Carmen Tittel\, Vorsitzende der Grünen Gemeinderatsfraktion Esslingen \n👥 Eingeladen sind alle Interessierten – kommt gerne vorbei! \nWir freuen uns auf einen offenen Austausch und vielfältige Perspektiven. 💚🌙
URL:https://wandelstadt-esslingen.de/event/es-bei-nacht-die-stadt-fuer-frauen-sicherer-machen/
LOCATION:Bahnhofsvorplatz\, Esslingen
CATEGORIES:Demonstration,Infoveranstaltung,Wanderung,Workshop
ORGANIZER;CN="B%C3%BCndnis 90 / Die Gr%C3%BCnen Ortsverband Esslingen":MAILTO:vorstand@gruene-esslingen.de
END:VEVENT
BEGIN:VEVENT
DTSTART;TZID=Europe/Berlin:20251205T200000
DTEND;TZID=Europe/Berlin:20251205T220000
DTSTAMP:20260422T001422
CREATED:20251127T191001Z
LAST-MODIFIED:20251127T191001Z
UID:10007547-1764964800-1764972000@wandelstadt-esslingen.de
SUMMARY:Muttersprache Mameloschn von Sasha Marianna Salzmann
DESCRIPTION:Oma ist besser als Instagram.\nGroßmutter Lin\, Mutter Clara und Tochter Rahel leben zusammen unter einem Dach. Doch Rahel will weit weg von zu Hause\, nach New York. Und Clara hat Angst\, ihre Tochter zu verlieren\, wie sie schon ihren Sohn Davie verloren hat. Die drei Frauen arbeiten sich aneinander ab\, umkreisen sich\, tasten sich aneinander heran\, immer auf der Suche nach einer gemeinsamen Sprache für ihre Sehnsüchte\, Ängste\, Enttäuschungen und Konflikte zwischen den Generationen. Muttersprache heißt auf Jiddisch Mameloschn. \nSasha Marianna Salzmann thematisiert einen Generationenkonflikt zwischen Müttern und Töchtern\, der vom Antisemitismus in der Gesellschaft belastet ist. Die treffsicheren Dialoge des Stücks sind zugleich eine Hommage an den jüdischen Humor. \nEinen großen Dank an Nathalie Ivasov und Rachel Oshmiansky für ihre Hilfe bei der jiddischen und hebräischen Aussprache und Margarita Rudenstein für ihre Perspektive.
URL:https://wandelstadt-esslingen.de/event/muttersprache-mameloschn-von-sasha-marianna-salzmann/2025-12-05/
LOCATION:Württembergische Landesbühne – Schauspielhaus mit Podium 1 & 2\, Ritterstraße 11\, Esslingen\, Deutschland
CATEGORIES:Kulturveranstaltung,Live-Veranstaltung
END:VEVENT
BEGIN:VEVENT
DTSTART;TZID=Europe/Berlin:20251205T200000
DTEND;TZID=Europe/Berlin:20251205T230000
DTSTAMP:20260422T001422
CREATED:20251027T173137Z
LAST-MODIFIED:20251027T173137Z
UID:10007117-1764964800-1764975600@wandelstadt-esslingen.de
SUMMARY:Premiere: Muttersprache Mameloschen
DESCRIPTION:Mameloschn ist das jiddische Wort für Muttersprache. Die Autorin Sasha Marianna Salzmann thematisiert in ihrem Stück einen Generationenkonflikt zwischen Müttern und Töchtern\, der vom Antisemitismus in der Gesellschaft belastet ist. Die treffsicheren Dialoge sind zugleich eine Hommage an den jüdischen Humor. \nKOSTEN:\nhttps://wlb-esslingen.de \nVERANSTALTER:\nWürttembergische Landesbühne\nEsslingen
URL:https://wandelstadt-esslingen.de/event/premiere-muttersprache-mameloschen/
LOCATION:Württembergische Landesbühne – Schauspielhaus mit Podium 1 & 2\, Ritterstraße 11\, Esslingen\, Deutschland
CATEGORIES:Kulturveranstaltung,Live-Veranstaltung
END:VEVENT
END:VCALENDAR