BEGIN:VCALENDAR
VERSION:2.0
PRODID:-//Wandelstadt Esslingen - ECPv6.15.20//NONSGML v1.0//EN
CALSCALE:GREGORIAN
METHOD:PUBLISH
X-ORIGINAL-URL:https://wandelstadt-esslingen.de
X-WR-CALDESC:Veranstaltungen für Wandelstadt Esslingen
REFRESH-INTERVAL;VALUE=DURATION:PT1H
X-Robots-Tag:noindex
X-PUBLISHED-TTL:PT1H
BEGIN:VTIMEZONE
TZID:Europe/Berlin
BEGIN:DAYLIGHT
TZOFFSETFROM:+0100
TZOFFSETTO:+0200
TZNAME:CEST
DTSTART:20240331T010000
END:DAYLIGHT
BEGIN:STANDARD
TZOFFSETFROM:+0200
TZOFFSETTO:+0100
TZNAME:CET
DTSTART:20241027T010000
END:STANDARD
BEGIN:DAYLIGHT
TZOFFSETFROM:+0100
TZOFFSETTO:+0200
TZNAME:CEST
DTSTART:20250330T010000
END:DAYLIGHT
BEGIN:STANDARD
TZOFFSETFROM:+0200
TZOFFSETTO:+0100
TZNAME:CET
DTSTART:20251026T010000
END:STANDARD
BEGIN:DAYLIGHT
TZOFFSETFROM:+0100
TZOFFSETTO:+0200
TZNAME:CEST
DTSTART:20260329T010000
END:DAYLIGHT
BEGIN:STANDARD
TZOFFSETFROM:+0200
TZOFFSETTO:+0100
TZNAME:CET
DTSTART:20261025T010000
END:STANDARD
END:VTIMEZONE
BEGIN:VEVENT
DTSTART;VALUE=DATE:20251122
DTEND;VALUE=DATE:20251214
DTSTAMP:20260422T001425
CREATED:20251023T075017Z
LAST-MODIFIED:20251023T075017Z
UID:10006700-1763769600-1765670399@wandelstadt-esslingen.de
SUMMARY:"Was heißt schon alt?" Eine Ausstellung rund ums Älterwerden
DESCRIPTION:
URL:https://wandelstadt-esslingen.de/event/was-heisst-schon-alt-eine-ausstellung-rund-ums-aelterwerden/
LOCATION:Stadtbücherei Esslingen am Neckar\, Heugasse 9\, Esslingen am Neckar\, 73728
CATEGORIES:Kulturveranstaltung
ATTACH;FMTTYPE=application/pdf:https://wandelstadt-esslingen.de/wp-content/uploads/2025/10/02_Plakat_Wanderausstellung_ansicht-1.pdf
END:VEVENT
BEGIN:VEVENT
DTSTART;TZID=Europe/Berlin:20251204T080000
DTEND;TZID=Europe/Berlin:20251204T130000
DTSTAMP:20260422T001425
CREATED:20251123T183823Z
LAST-MODIFIED:20251123T183823Z
UID:10007236-1764835200-1764853200@wandelstadt-esslingen.de
SUMMARY:Kostenfreie und unabhängige Energieberatung
DESCRIPTION:Die Klimaschutzagentur des Landkreises Esslingen bietet in Kooperation mit der Verbraucherzentrale Baden-Württemberg unabhängige Energieberatungen im Kreis an. \nUnabhängige Informationen zu den Themen energieeffiziente Gebäudemodernisierung\, Heizungsoptimierung und Heizungstausch\, Wärmepumpen im Bestand\, Solarenergie\, Nebenkostenabrechnungen sowie Stromsparen im Haushalt sind die klassischen Themen einer Energieberatung. \nTerminvereinbarung \ntelefonisch bei der Klimaschutzagentur \nunter 0711 – 20 70 30 – 70 \nMo – Do von 09:00 – 13:00 Uhr
URL:https://wandelstadt-esslingen.de/event/kostenfreie-und-unabhaengige-energieberatung-7/2025-12-04/
LOCATION:Klimaschutzagentur des Landkreises Esslingen\, Kandlerstraße 8\, Esslingen am Neckar\, 73728
CATEGORIES:Infoveranstaltung,Live-Veranstaltung,Workshop
ORGANIZER;CN="Klimaschutzagentur des Landkreises Esslingen gGmbH":MAILTO:info@ksa-es.de
END:VEVENT
BEGIN:VEVENT
DTSTART;TZID=Europe/Berlin:20251204T090000
DTEND;TZID=Europe/Berlin:20251204T110000
DTSTAMP:20260422T001425
CREATED:20250627T221735Z
LAST-MODIFIED:20250627T221735Z
UID:10005755-1764838800-1764846000@wandelstadt-esslingen.de
SUMMARY:TAT + RAT · Senioren und Seniorinnen helfen
DESCRIPTION:Wobei wir helfen!\nWir unterstützen Sie bei anfallenden Arbeiten\, bei denen „tatkräftige Hilfe“ oder „guter Rat“ benötigt wird. \nBeispiele unserer Tätigkeiten\n▷ Reparaturen im Haushalt \n• Tropfende Wasserhähne\n• Leuchten montieren oder Leuchtmittel austauschen\n• Möbelscharniere reparieren\n• Haltegriffe montieren\n• Montage von Kleinmöbeln\n• und vieles mehr \n▷ Lösung technischer Probleme \n• Digitale Geräte wie Telefon\, Drucker\, Router\, stationärer PC etc.\n• Grundeinstellung Fernseher etc.\n• Bedienungsanleitungen erklären \n▷ Hilfe bei Formularen und beim Verfassen von Schriftstücken\n▷ Beratung wenn Sie unsicher sind\, ob \n• wenige Handgriffe ausreichen\, um das Problem zu beheben\n• ein Kundendienst gerufen werden sollte\n• eine Ersatzbeschaffung sinnvoll schein \nSie erreichen uns persönlich und telefonisch\ndonnerstags von 9 – 11 Uhr\n0711 357420\nAnrufbeantworter wird wöchentlich abgehört. \nSie erreichen uns online\ntatundrat@forum-esslingen.de\nforum-esslingen.de
URL:https://wandelstadt-esslingen.de/event/tat-rat-%c2%b7-senioren-und-seniorinnen-helfen/2025-12-04/
LOCATION:Forum Esslingen in der Schelztorstraße 38\, 73728 Esslingen\, Schelztorstraße 38\, Esslingen\, 73728\, Deutschland
END:VEVENT
BEGIN:VEVENT
DTSTART;TZID=Europe/Berlin:20251204T150000
DTEND;TZID=Europe/Berlin:20251204T170000
DTSTAMP:20260422T001425
CREATED:20250329T050120Z
LAST-MODIFIED:20250329T050120Z
UID:10005034-1764860400-1764867600@wandelstadt-esslingen.de
SUMMARY:Gesprächskreis Aktuelles Zeitgeschehen
DESCRIPTION:Jeden Donnerstag von 15 : 00 – 17 : 00 Uhr\nOffener Treff – Gesprächskreis Aktuelles Zeitgeschehen\n In lockerer Runde und in einer Atmosphäre der gegenseitigen Toleranz und\ndes Respekts tauschen wir unsere Meinungen und Fragen hinsichtlich aktueller\nThemen (Politik\, Gesellschaft etc.) aus\, wobei wir offen für jedes Alter und jede\nKultur sind.\nVerschiedene Referent:innen und Gastteilnehmende klären zudem in unregel\nmäßigen Abständen zu speziellen Themen auf. Ebenso fließen Haltungen und\nMeinungen verschiedenster Alters- und Bevölkerungsgruppen ein.\nDiskutieren Sie mit uns – wir freuen uns auf Sie!\n Kontakt:\n Matthias Pallmert\,  gaz@mgh-es.de\nOrt: Mehrgenerationen- und Bürgerhaus\, Weilstr. 8
URL:https://wandelstadt-esslingen.de/event/gespraechskreis-aktuelles-zeitgeschehen/2025-12-04/
LOCATION:Mehrgenerationenhaus Esslingen\, Weilstraße 8\, Esslingen
END:VEVENT
BEGIN:VEVENT
DTSTART;TZID=Europe/Berlin:20251204T163000
DTEND;TZID=Europe/Berlin:20251204T183000
DTSTAMP:20260422T001425
CREATED:20251121T102238Z
LAST-MODIFIED:20251121T102238Z
UID:10007221-1764865800-1764873000@wandelstadt-esslingen.de
SUMMARY:Kostenloser Smartphone-Kurs
DESCRIPTION:Schülerinnen und Schüler des Mörike-Gymnasiums sind wieder am Start\, um im persönlichen Gespräch alle Fragen rund um die vielfältige Nutzung des Smartphones zu beantworten. Learning by doing lautet die Devise und die jungen Expertinnen und Experten der 9. und 10. Klassen freuen sich auf Ihren Besuch im Raum H. 1.07\, Anmeldung erwünscht bei bjoern.beyer@esslingen.de oder 0711 3512 2182
URL:https://wandelstadt-esslingen.de/event/kostenloser-smartphone-kurs/
LOCATION:Mörike-Gymnasium\, Neckarstr. 38\, 73728 Esslingen
CATEGORIES:Infoveranstaltung
ATTACH;FMTTYPE=image/jpeg:https://wandelstadt-esslingen.de/wp-content/uploads/2025/05/Offener-Treff-Smartphone-scaled.jpg
END:VEVENT
BEGIN:VEVENT
DTSTART;TZID=Europe/Berlin:20251204T180000
DTEND;TZID=Europe/Berlin:20251204T200000
DTSTAMP:20260422T001425
CREATED:20250329T050707Z
LAST-MODIFIED:20250329T050707Z
UID:10005126-1764871200-1764878400@wandelstadt-esslingen.de
SUMMARY:Orte des Zuhörens
DESCRIPTION:Donnerstags \n18 : 00 – 20 : 00 Uhr\nOrte des Zuhörens – Caritas-Zentrum Esslingen\n Geschulte haupt- und ehrenamtliche Mitarbeiter:innen nehmen sich Zeit zum\nZuhören. Sie bieten ein offenes Ohr für alle Anliegen in sozialen und finanziellen\nFragen\, Unterstützung bei Anträgen und Bewerbungen sowie Hilfe im Umgang\nmit Behörden. Vertraulich und kostenlos!\nKontakt: Caritas Fils-Neckar-Alb\, Anniko Benedek\,  0711 3969 – 5422
URL:https://wandelstadt-esslingen.de/event/orte-des-zuhoerens/2025-12-04/
LOCATION:Caritas-Zentrum Esslingen\, Mettinger Str. 123\, Esslingen am Neckar\, 73728\, Deutschland
END:VEVENT
BEGIN:VEVENT
DTSTART;TZID=Europe/Berlin:20251204T180000
DTEND;TZID=Europe/Berlin:20251204T220000
DTSTAMP:20260422T001425
CREATED:20251123T181320Z
LAST-MODIFIED:20251123T181320Z
UID:10007229-1764871200-1764885600@wandelstadt-esslingen.de
SUMMARY:Orange-Days 2025 – gegen Gewalt an Frauen: Lesung von Barbara Schmid mit Podiumsgästen und Diskussion
DESCRIPTION:Die (un)verborgene Gewalt gegen Frauen – Wie Prostitution den Frauenhass in unserer Gesellschaft fördert\, zur Gewalt für jede Frau wird und was wir dagegen tun können. \nLesung von Barbara Schmid und anschl. (Podiums-)Diskussion mit den Gästen Marietta Hageney\, Leiterin der Beratungsstelle Solwodi (Aalen) und Helmut Sporer (KHK i.R.\, Augsburg)\, Ermittler im Paradise-Prozess. \nGewalt gegen Frauen hat in Deutschland erschreckende Ausmaße angenommen: Jeden Tag wird eine Frau ermordet\, alle paar Minuten erlebt eine Frau brutale Gewalt. Im öffentlichen Raum haben Frauen und Mädchen Angst vor Übergriffen. Wie hängt diese Entwicklung mit unserem Umgang mit Prostitution zusammen? Freier\, das belegen Studien und Experten\, gehen nicht nur immer brutaler mit Prostituierten um\, sie sind auch gewaltbereiter gegen Frauen allgemein. Viele verurteilte Sexualstraftäter waren zuvor Sexkäufer. Darum geht Prostitution uns alle an: Sexkauf trägt zur Verrohung unserer Gesellschaft bei und ist ein Hindernis für die Gleichstellung. Dieses Buch klärt und rüttelt auf. Es erzählt erschütternde Geschichten von Frauen\, die als Prostituierte arbeiten\, und legt die dramatischen Konsequenzen für diese Frauen\, aber auch für uns als Gesellschaft offen. Und es zeigt Wege aus dieser Misere\, denn eine gewaltfreiere Welt für Frauen und Mädchen ist möglich. \nHinweise zum Parken: \nIn der Tiefgarage der Kreissparkasse stehen nur sehr wenige Parkplätze zur Verfügung. Darüber hinaus ist aufgrund von Baumaßnahmen auf dem Karstadt-Areal die Zu- und Abfahrt zur Tiefgarage beeinträchtigt . Wir empfehlen Ihnen deshalb\, die umliegenden Parkmöglichkeiten oder den öffentlichen Personennahverkehr zu nutzen. Vielen Dank für Ihr Verständnis! \nWO: Kreissparkasse Esslingen-Nürtingen\, Zugang gegenüber Juwelier Brogle\, barrierefreier Zugang „Am Kronenhof“ \nEinlass ab 17:30
URL:https://wandelstadt-esslingen.de/event/orange-days-2025-gegen-gewalt-an-frauen-lesung-von-barbara-schmid-mit-podiumsgaesten-und-diskussion/
LOCATION:Kreissparkasse Esslingen | Kronensaal\, Am Kronenhof\, Esslingen
CATEGORIES:Live-Veranstaltung,Podiumsdiskussion
ORGANIZER;CN="Soroptimist International Club Esslingen":MAILTO:u.koss@gmx.de
END:VEVENT
BEGIN:VEVENT
DTSTART;TZID=Europe/Berlin:20251204T190000
DTEND;TZID=Europe/Berlin:20251204T190000
DTSTAMP:20260422T001425
CREATED:20240628T160749Z
LAST-MODIFIED:20240629T175416Z
UID:10003638-1764874800-1764874800@wandelstadt-esslingen.de
SUMMARY:Fahrradwerkstatt
DESCRIPTION:Wir unterstützen Dich\, wenn Dein Fahrrad nicht mehr tut was es soll.\nFalls Ihr Interesse und Bedarf an unserer Fahrradwerkstatt habt\, meldet Euch per Mail: info@komma. \nVerantwortlich für die Werkstatt ist der Motorradclub Kuhle Wampe. Sie sind ein basisdemokratisch organisierter Motorradclub mit Sitz im Komma und sie betreiben eine Zweiradwerkstatt. Jeden Donnerstag ist die Fahrradwerkstatt geöffnet – bei gutem Wetter wird möglicherweise auch gegrillt.
URL:https://wandelstadt-esslingen.de/event/fahrrad-werkstatt/2025-12-04/
LOCATION:KOMMA\, Maille 5-9\, Esslingen\, Deutschland
END:VEVENT
BEGIN:VEVENT
DTSTART;TZID=Europe/Berlin:20251204T190000
DTEND;TZID=Europe/Berlin:20251204T210000
DTSTAMP:20260422T001425
CREATED:20250929T135552Z
LAST-MODIFIED:20251202T102650Z
UID:10006630-1764874800-1764882000@wandelstadt-esslingen.de
SUMMARY:Masterplan – Film gegen Rechts und Talk
DESCRIPTION:„Der preisgekrönte Dokumentarfilmer Volker Heise erzählt die Geschichte wie einen Politthriller: faktenreich\, packend\, unaufgeregt. Er bringt die Stimmen derer zusammen\, die Teil des Treffens waren\, und derer\, die es aufgedeckt haben.“ \n(ARD Tagesthemen) \nDas Treffen rechter Vordenker nahe Potsdam im November 2023 war ein Weckruf für die deutsche Gesellschaft. \nMASTERPLAN – DAS POTSDAMER TREFFEN UND SEINE FOLGEN beleuchtet die investigative Arbeit der Journalisten von „Correctiv“\, die die Veranstaltung und die dort ventilierten Pläne zur „Remigration“  \n– von den Teilnehmern verstanden als Massenausweisung von Immigranten oder deren Kindern\, unabhängig von ihrem Aufenthaltsstatus – publik machten. \n90 Minuten Dauer  \nanschließend \n\nTalk mit Jean Peters (Journalist Correctiv) \n\nModeration: Christa Pohl \nDer Eintritt ist frei\, Spenden sind willkommen! \nIn Zusammenarbeit mit OMAS GEGEN RECHTS Esslingen e.V. und der Heinrich-Böll-Stiftung Baden-Württemberg
URL:https://wandelstadt-esslingen.de/event/masterplan-film-und-talk/
LOCATION:Kommunales Kino\, Maille 4-9\, Esslingen\, 73728\, Deutschland
CATEGORIES:Kulturveranstaltung
ORGANIZER;CN="OMAS GEGEN RECHTS Esslingen":MAILTO:ogr-esslingen@posteo.de
END:VEVENT
BEGIN:VEVENT
DTSTART;TZID=Europe/Berlin:20251204T190000
DTEND;TZID=Europe/Berlin:20251204T213000
DTSTAMP:20260422T001425
CREATED:20250123T204102Z
LAST-MODIFIED:20260418T102930Z
UID:10007194-1764874800-1764883800@wandelstadt-esslingen.de
SUMMARY:Tu was - Transition Town Esslingen
DESCRIPTION:Die AG Tu was trifft sich regulär einmal pro Monat donnerstags und einmal im Monat am Wochenende um gemeinsam Möglichkeiten eines nachhaltigeren Lebensstils auszuprobieren. Dabei gibt es Aktionen für Kopf\, Herz und Hand. Interessierte können sich gerne über unsere Webseite www.transition-town-es.de anmelden.
URL:https://wandelstadt-esslingen.de/event/tu-was-transition-town-esslingen/2025-12-04/
END:VEVENT
END:VCALENDAR