BEGIN:VCALENDAR
VERSION:2.0
PRODID:-//Wandelstadt Esslingen - ECPv6.15.20//NONSGML v1.0//EN
CALSCALE:GREGORIAN
METHOD:PUBLISH
X-WR-CALNAME:Wandelstadt Esslingen
X-ORIGINAL-URL:https://wandelstadt-esslingen.de
X-WR-CALDESC:Veranstaltungen für Wandelstadt Esslingen
REFRESH-INTERVAL;VALUE=DURATION:PT1H
X-Robots-Tag:noindex
X-PUBLISHED-TTL:PT1H
BEGIN:VTIMEZONE
TZID:Europe/Berlin
BEGIN:DAYLIGHT
TZOFFSETFROM:+0100
TZOFFSETTO:+0200
TZNAME:CEST
DTSTART:20240331T010000
END:DAYLIGHT
BEGIN:STANDARD
TZOFFSETFROM:+0200
TZOFFSETTO:+0100
TZNAME:CET
DTSTART:20241027T010000
END:STANDARD
BEGIN:DAYLIGHT
TZOFFSETFROM:+0100
TZOFFSETTO:+0200
TZNAME:CEST
DTSTART:20250330T010000
END:DAYLIGHT
BEGIN:STANDARD
TZOFFSETFROM:+0200
TZOFFSETTO:+0100
TZNAME:CET
DTSTART:20251026T010000
END:STANDARD
BEGIN:DAYLIGHT
TZOFFSETFROM:+0100
TZOFFSETTO:+0200
TZNAME:CEST
DTSTART:20260329T010000
END:DAYLIGHT
BEGIN:STANDARD
TZOFFSETFROM:+0200
TZOFFSETTO:+0100
TZNAME:CET
DTSTART:20261025T010000
END:STANDARD
END:VTIMEZONE
BEGIN:VEVENT
DTSTART;VALUE=DATE:20251122
DTEND;VALUE=DATE:20251214
DTSTAMP:20260421T234911
CREATED:20251023T075017Z
LAST-MODIFIED:20251023T075017Z
UID:10006700-1763769600-1765670399@wandelstadt-esslingen.de
SUMMARY:"Was heißt schon alt?" Eine Ausstellung rund ums Älterwerden
DESCRIPTION:
URL:https://wandelstadt-esslingen.de/event/was-heisst-schon-alt-eine-ausstellung-rund-ums-aelterwerden/
LOCATION:Stadtbücherei Esslingen am Neckar\, Heugasse 9\, Esslingen am Neckar\, 73728
CATEGORIES:Kulturveranstaltung
ATTACH;FMTTYPE=application/pdf:https://wandelstadt-esslingen.de/wp-content/uploads/2025/10/02_Plakat_Wanderausstellung_ansicht-1.pdf
END:VEVENT
BEGIN:VEVENT
DTSTART;TZID=Europe/Berlin:20251201T180000
DTEND;TZID=Europe/Berlin:20251201T180000
DTSTAMP:20260421T234911
CREATED:20251029T163554Z
LAST-MODIFIED:20251029T163613Z
UID:10007134-1764612000-1764612000@wandelstadt-esslingen.de
SUMMARY:Werteorientiertes Investieren: Private Geldanlage zwischen Rendite und Verantwortung - Wissenschaftliche Perspektiven auf das Investieren am Kapitalmarkt
DESCRIPTION:18:00 Uhr\nOnline und vor Ort Hochschule Esslingen\, Campus Stadtmitte\, Kanalstr. 33\, Gebäude 1\, Senatssaal\, Raum S 01.021 \nMacht Geld wirklich glücklich? Der Vortrag gibt Einblicke in aktuelle Studien zum Zusammenhang zwischen Lebensglück\, Einkommen und Vermögen. Darauf aufbauend geht es um die Frage\, wie Privatanleger ihr Geld am besten anlegen können um langfristig erfolgreich zu sein. Anhand wissenschaftlicher Erkenntnisse wird gezeigt\, warum passives und breit diversifiziertes Investieren in der Praxis die besten Ergebnisse liefert. \nZum Abschluss wird betrachtet\, welche Rolle Nachhaltigkeit und ESG-Kriterien (Environmental\, Social und Governance) bei Investmententscheidungen spielen – und was das für Rendite und Verantwortung bedeutet. Dabei werden nicht nur Chancen beleuchtet\, sondern auch Herausforderungen wie Greenwashing oder die noch unklare Wirkung von ESG auf langfristige Anlageergebnisse. So entsteht ein realistischer Blick auf die private Geldanlage im Spannungsfeld von Glück\, Rendite und Nachhaltigkeit. \nReferent: Prof. Dr. Philipp Schreiber\nDr. Philipp Schreiber ist seit 2020 Professor für BWL mit Schwerpunkt Investition & Finanzierung an der Hochschule Esslingen und lehrt seit 2018 als Gastdozent „Entrepreneurial Finance“ an der Zeppelin Universität Friedrichshafen. Von 2017 bis 2020 war er als Manager bei der Unternehmensberatung zeb in Zürich tätig\, wo er Projekte im Bereich Finance & Risk leitete. Zuvor arbeitete er als Consultant bei Siemens Management Consulting München und als Key Account Manager bei der Prof. Weber GmbH Mannheim. Seine berufliche Laufbahn begann er als Vorstandsassistent bei der Wüstenrot & Württembergische AG. Dr. Schreiber studierte Betriebswirtschaftslehre an der Universität Mannheim mit Schwerpunkten in Finance und Statistik sowie an der Università Commerciale Luigi Bocconi in Mailand. Seine Promotion absolvierte er ebenfalls in Mannheim mit Forschungsschwerpunkten in Household Finance und Behavioral Finance.
URL:https://wandelstadt-esslingen.de/event/werteorientiertes-investieren-private-geldanlage-zwischen-rendite-und-verantwortung-wissenschaftliche-perspektiven-auf-das-investieren-am-kapitalmarkt/
LOCATION:Campus Stadtmitte / Hochschule Eslingen\, Kanalstraße 33\, Esslingen\, Deutschland
END:VEVENT
BEGIN:VEVENT
DTSTART;TZID=Europe/Berlin:20251201T183000
DTEND;TZID=Europe/Berlin:20251201T183000
DTSTAMP:20260421T234911
CREATED:20250922T183102Z
LAST-MODIFIED:20260303T190526Z
UID:10006587-1764613800-1764613800@wandelstadt-esslingen.de
SUMMARY:Teamtreffen Wandelstadt Esslingen
DESCRIPTION:Du hast ein Herz für gute Nachrichten und willst zeigen\, was in Esslingen alles in Bewegung ist? Dann komm in unser Team und hilf mit\, die Good News des Wandels sichtbar zu machen!\nOb Website-Gestaltung mit WordPress\, Content pflegen\, Newsletter basteln oder Social Media bespielen – wir freuen uns über Menschen\, die Lust haben\, sich auszuprobieren oder ihr Wissen mit uns zu teilen. \nOder Du bist in Esslingen engagiert und wünschst Dir mehr Aufmerksamkeit oder helfende Hände für dein Projekt? Dann nimm gerne Kontakt mit uns auf und komme zu einem unserer Treffen! Wir freuen uns Dich kennenzulernen und gemeinsam zu überlegen\, wie wir deiner Initiative mehr Licht geben können. \nBei uns geht es um eine Kultur des Miteinanders und darum\, mit Freude etwas Sinnvolles auf die Beine zu stellen. Ehrenamt mit Herz eben. \nWir treffen uns alle zwei Wochen montagabends im Forum für Bürgerengagement\, Schelztorstr. 38. Beginn um 18:00 zu einem optionalen gemeinsamen Abendessen oder ab 18:30\, um direkt zu starten. Ende ist pünktlich um 21 Uhr. \nHast du noch Fragen? Dann schreib uns gerne eine Mail oder schau in unsere FAQ.\nDu möchtest zu einem Treffen kommen? Dann melde Dich bitte verbindlich an unter info@wandelstadt-esslingen.de \nWir freuen uns darauf\, Dich kennenzulernen! \n \n 
URL:https://wandelstadt-esslingen.de/event/teamtreffen-wandelstadt-esslingen/2025-12-01/
LOCATION:Forum Esslingen – Zentrum für Bürgerengagement\, Schelztorstraße 38\, Esslingen\, Deutschland
ORGANIZER;CN="Wandelstadt Esslingen":MAILTO:info@wandelstadt-esslingen.de
END:VEVENT
BEGIN:VEVENT
DTSTART;TZID=Europe/Berlin:20251201T190000
DTEND;TZID=Europe/Berlin:20251201T210000
DTSTAMP:20260421T234911
CREATED:20251127T202156Z
LAST-MODIFIED:20251127T202156Z
UID:10007559-1764615600-1764622800@wandelstadt-esslingen.de
SUMMARY:Wir planen den 4. CSD
DESCRIPTION:Es ist wieder soweit:\nWir planen den 4. CSD\nEsslingen 2026 am 11.07.26 mit einem neuen Vorstand und überarbeiteten Strukturen. \nWillst du dabei sein? Jede Unterstützung zählt und macht den Unterschied – egal\, wie groß oder klein.\nWerde Teil unserer Gemeinschaft und gestalte mit uns mit. \nKomm unverbindlich vorbei und lern uns kennen! \nDatum: 01.12.2025\n• 19:00 Uhr\nKomma Esslingen\, barrierefreier Zugang über den Hof oder online via Zoom (DM auf Instagramn für den Link!) \n\nQueerES
URL:https://wandelstadt-esslingen.de/event/wir-planen-den-4-csd/
LOCATION:KOMMA Esslingen\, Maille 5-9\, Esslingen\, 73728\, Deutschland
CATEGORIES:Beteiligung,Infoveranstaltung,Vernetzungsveranstaltung
END:VEVENT
END:VCALENDAR