BEGIN:VCALENDAR
VERSION:2.0
PRODID:-//Wandelstadt Esslingen - ECPv6.15.20//NONSGML v1.0//EN
CALSCALE:GREGORIAN
METHOD:PUBLISH
X-WR-CALNAME:Wandelstadt Esslingen
X-ORIGINAL-URL:https://wandelstadt-esslingen.de
X-WR-CALDESC:Veranstaltungen für Wandelstadt Esslingen
REFRESH-INTERVAL;VALUE=DURATION:PT1H
X-Robots-Tag:noindex
X-PUBLISHED-TTL:PT1H
BEGIN:VTIMEZONE
TZID:Europe/Berlin
BEGIN:DAYLIGHT
TZOFFSETFROM:+0100
TZOFFSETTO:+0200
TZNAME:CEST
DTSTART:20240331T010000
END:DAYLIGHT
BEGIN:STANDARD
TZOFFSETFROM:+0200
TZOFFSETTO:+0100
TZNAME:CET
DTSTART:20241027T010000
END:STANDARD
BEGIN:DAYLIGHT
TZOFFSETFROM:+0100
TZOFFSETTO:+0200
TZNAME:CEST
DTSTART:20250330T010000
END:DAYLIGHT
BEGIN:STANDARD
TZOFFSETFROM:+0200
TZOFFSETTO:+0100
TZNAME:CET
DTSTART:20251026T010000
END:STANDARD
BEGIN:DAYLIGHT
TZOFFSETFROM:+0100
TZOFFSETTO:+0200
TZNAME:CEST
DTSTART:20260329T010000
END:DAYLIGHT
BEGIN:STANDARD
TZOFFSETFROM:+0200
TZOFFSETTO:+0100
TZNAME:CET
DTSTART:20261025T010000
END:STANDARD
END:VTIMEZONE
BEGIN:VEVENT
DTSTART;VALUE=DATE:20251117
DTEND;VALUE=DATE:20251201
DTSTAMP:20260422T020625
CREATED:20251027T161547Z
LAST-MODIFIED:20251027T161547Z
UID:10006724-1763337600-1764547199@wandelstadt-esslingen.de
SUMMARY:Jüdische Kulturtage LeChaim - Jüdisches (Er)Leben in Esslingen
DESCRIPTION:Liebe Esslinger:innen\, \nzum dritten Mal laden wir Sie herzlich ein zu den jüdischen Kulturtagen in Esslingen LeChaim – Jüdisches (Er)Leben in Esslingen. Zahlreiche Partner:innen – Schulen\, Kulturzentren\, Kino\, die Schauspielbühnen\, die Mitglieder der jüdischen Gemeinde\, Institutionen und Freunde – halten für Sie ab 17. November ein abwechslungsreiches Programm bereit\, um die jüdische Seite Esslingens zu entdecken. Von der Eröffnung im Econvent über den Dicken Turm\, Comic-Live-Zeichnen zum Schabbat-Ausgang in der Dieselstraße und ein fulminantes\nAbschlusskonzert mit Dobranotsch im CVJM feiern wir LeChaim – das Leben. Und wir feiern Esslingen und seine großartige Stadtgesellschaft: LeEsslingen – auf Esslingen und seine Bürger:innen! \nEin besonders herzlicher Dank an alle Unterstützer:innen und Partner:innen unseres diesjährigen Programms. Tauchen Sie ein in das faszinierende jüdische Leben Esslingens und kommen Sie auch dieses Jahr wieder zahlreich in die jüdische Gemeinde\, wenn wir am Abend des 18. Dezembers zum jüdischen Lichter- und Weihefest gemeinsam die Chanukka-Lichter entzünden! \nUNTERSTÜTZERKREIS\nWolfgang Drexler\nAndrea Klöber \nIRGW-VORSTAND\nProf. Barbara Traub\nMichael Kashi\nMihail Rubinstein
URL:https://wandelstadt-esslingen.de/event/juedische-kulturtage-lechaim-juedisches-erleben-in-esslingen/
CATEGORIES:Kulturveranstaltung,Live-Veranstaltung
END:VEVENT
BEGIN:VEVENT
DTSTART;VALUE=DATE:20251122
DTEND;VALUE=DATE:20251214
DTSTAMP:20260422T020625
CREATED:20251023T075017Z
LAST-MODIFIED:20251023T075017Z
UID:10006700-1763769600-1765670399@wandelstadt-esslingen.de
SUMMARY:"Was heißt schon alt?" Eine Ausstellung rund ums Älterwerden
DESCRIPTION:
URL:https://wandelstadt-esslingen.de/event/was-heisst-schon-alt-eine-ausstellung-rund-ums-aelterwerden/
LOCATION:Stadtbücherei Esslingen am Neckar\, Heugasse 9\, Esslingen am Neckar\, 73728
CATEGORIES:Kulturveranstaltung
ATTACH;FMTTYPE=application/pdf:https://wandelstadt-esslingen.de/wp-content/uploads/2025/10/02_Plakat_Wanderausstellung_ansicht-1.pdf
END:VEVENT
BEGIN:VEVENT
DTSTART;TZID=Europe/Berlin:20251127T090000
DTEND;TZID=Europe/Berlin:20251127T110000
DTSTAMP:20260422T020625
CREATED:20250627T221735Z
LAST-MODIFIED:20250627T221735Z
UID:10005754-1764234000-1764241200@wandelstadt-esslingen.de
SUMMARY:TAT + RAT · Senioren und Seniorinnen helfen
DESCRIPTION:Wobei wir helfen!\nWir unterstützen Sie bei anfallenden Arbeiten\, bei denen „tatkräftige Hilfe“ oder „guter Rat“ benötigt wird. \nBeispiele unserer Tätigkeiten\n▷ Reparaturen im Haushalt \n• Tropfende Wasserhähne\n• Leuchten montieren oder Leuchtmittel austauschen\n• Möbelscharniere reparieren\n• Haltegriffe montieren\n• Montage von Kleinmöbeln\n• und vieles mehr \n▷ Lösung technischer Probleme \n• Digitale Geräte wie Telefon\, Drucker\, Router\, stationärer PC etc.\n• Grundeinstellung Fernseher etc.\n• Bedienungsanleitungen erklären \n▷ Hilfe bei Formularen und beim Verfassen von Schriftstücken\n▷ Beratung wenn Sie unsicher sind\, ob \n• wenige Handgriffe ausreichen\, um das Problem zu beheben\n• ein Kundendienst gerufen werden sollte\n• eine Ersatzbeschaffung sinnvoll schein \nSie erreichen uns persönlich und telefonisch\ndonnerstags von 9 – 11 Uhr\n0711 357420\nAnrufbeantworter wird wöchentlich abgehört. \nSie erreichen uns online\ntatundrat@forum-esslingen.de\nforum-esslingen.de
URL:https://wandelstadt-esslingen.de/event/tat-rat-%c2%b7-senioren-und-seniorinnen-helfen/2025-11-27/
LOCATION:Forum Esslingen in der Schelztorstraße 38\, 73728 Esslingen\, Schelztorstraße 38\, Esslingen\, 73728\, Deutschland
END:VEVENT
BEGIN:VEVENT
DTSTART;TZID=Europe/Berlin:20251127T150000
DTEND;TZID=Europe/Berlin:20251127T170000
DTSTAMP:20260422T020625
CREATED:20250329T050120Z
LAST-MODIFIED:20250329T050120Z
UID:10005033-1764255600-1764262800@wandelstadt-esslingen.de
SUMMARY:Gesprächskreis Aktuelles Zeitgeschehen
DESCRIPTION:Jeden Donnerstag von 15 : 00 – 17 : 00 Uhr\nOffener Treff – Gesprächskreis Aktuelles Zeitgeschehen\n In lockerer Runde und in einer Atmosphäre der gegenseitigen Toleranz und\ndes Respekts tauschen wir unsere Meinungen und Fragen hinsichtlich aktueller\nThemen (Politik\, Gesellschaft etc.) aus\, wobei wir offen für jedes Alter und jede\nKultur sind.\nVerschiedene Referent:innen und Gastteilnehmende klären zudem in unregel\nmäßigen Abständen zu speziellen Themen auf. Ebenso fließen Haltungen und\nMeinungen verschiedenster Alters- und Bevölkerungsgruppen ein.\nDiskutieren Sie mit uns – wir freuen uns auf Sie!\n Kontakt:\n Matthias Pallmert\,  gaz@mgh-es.de\nOrt: Mehrgenerationen- und Bürgerhaus\, Weilstr. 8
URL:https://wandelstadt-esslingen.de/event/gespraechskreis-aktuelles-zeitgeschehen/2025-11-27/
LOCATION:Mehrgenerationenhaus Esslingen\, Weilstraße 8\, Esslingen
END:VEVENT
BEGIN:VEVENT
DTSTART;TZID=Europe/Berlin:20251127T150000
DTEND;TZID=Europe/Berlin:20251127T170000
DTSTAMP:20260422T020625
CREATED:20251113T085247Z
LAST-MODIFIED:20251113T085247Z
UID:10007187-1764255600-1764262800@wandelstadt-esslingen.de
SUMMARY:Abschied in eva's Ottilie
DESCRIPTION:Wir müssen leider Abschied von eva’s Ottilie nehmen\, wollen jedoch die gemeinsame Zeit noch gebührend würdigen. \nKomm vorbei\, wir freuen uns über jede:n Einzelne:n.
URL:https://wandelstadt-esslingen.de/event/abschied-in-evas-ottilie/
LOCATION:eva’s Ottilie\, Ottilienplatz 3\, Esslingen\, 73728
ORGANIZER;CN="eva's Ottilie":MAILTO:evas-ottilie-es@eva-stuttgart.de
END:VEVENT
BEGIN:VEVENT
DTSTART;TZID=Europe/Berlin:20251127T180000
DTEND;TZID=Europe/Berlin:20251127T180000
DTSTAMP:20260422T020625
CREATED:20251029T162907Z
LAST-MODIFIED:20251029T162917Z
UID:10007132-1764266400-1764266400@wandelstadt-esslingen.de
SUMMARY:Girls & Gods
DESCRIPTION:Do | 27.11.2025 | 18.00 Uhr\n104 Minuten | FSK 12  | OmU Specials > Orange Days \nDer Film läuft im Rahmen der UN-Kampagne Orange Days\, die auf geschlechtsspezifische Gewalt aufmerksam macht\, in Kooperation mit dem Referat für Chancengleichheit der Stadt Esslingen. Begrüßung durch Jitka Sklenářová\, Beauftragte für Chancengleichheit. Ergänzend dazu läuft am 03.12. um 20:00 Uhr der Spielfilm OXANA über die FEMEN-Bewegung. \nDer visuell beeindruckende\, aktivistische und vielstimmige Dokumentarfilm\, initiiert von der FEMEN-Aktivistin Inna Shevchenko stellt die Frage\, ob Feminismus und Religion koexistieren können\, in den Mittelpunkt.  \nDer Film begleitet Sevchenkos Reise nach Deutschland\, Österreich und in die USA\, wo sie Religionskritikerinnen\, aber auch Reformerinnen und gläubige Feministinnen trifft. Ihr Fokus liegt dabei auf dem katholischen und orthodoxen Christentum\, Judentum und Islam.
URL:https://wandelstadt-esslingen.de/event/girls-gods/
LOCATION:Kommunales Kino\, Maille 4-9\, Esslingen\, 73728\, Deutschland
END:VEVENT
BEGIN:VEVENT
DTSTART;TZID=Europe/Berlin:20251127T180000
DTEND;TZID=Europe/Berlin:20251127T200000
DTSTAMP:20260422T020625
CREATED:20250329T050707Z
LAST-MODIFIED:20250329T050707Z
UID:10005125-1764266400-1764273600@wandelstadt-esslingen.de
SUMMARY:Orte des Zuhörens
DESCRIPTION:Donnerstags \n18 : 00 – 20 : 00 Uhr\nOrte des Zuhörens – Caritas-Zentrum Esslingen\n Geschulte haupt- und ehrenamtliche Mitarbeiter:innen nehmen sich Zeit zum\nZuhören. Sie bieten ein offenes Ohr für alle Anliegen in sozialen und finanziellen\nFragen\, Unterstützung bei Anträgen und Bewerbungen sowie Hilfe im Umgang\nmit Behörden. Vertraulich und kostenlos!\nKontakt: Caritas Fils-Neckar-Alb\, Anniko Benedek\,  0711 3969 – 5422
URL:https://wandelstadt-esslingen.de/event/orte-des-zuhoerens/2025-11-27/
LOCATION:Caritas-Zentrum Esslingen\, Mettinger Str. 123\, Esslingen am Neckar\, 73728\, Deutschland
END:VEVENT
BEGIN:VEVENT
DTSTART;TZID=Europe/Berlin:20251127T190000
DTEND;TZID=Europe/Berlin:20251127T190000
DTSTAMP:20260422T020625
CREATED:20240628T160749Z
LAST-MODIFIED:20240629T175416Z
UID:10003637-1764270000-1764270000@wandelstadt-esslingen.de
SUMMARY:Fahrradwerkstatt
DESCRIPTION:Wir unterstützen Dich\, wenn Dein Fahrrad nicht mehr tut was es soll.\nFalls Ihr Interesse und Bedarf an unserer Fahrradwerkstatt habt\, meldet Euch per Mail: info@komma. \nVerantwortlich für die Werkstatt ist der Motorradclub Kuhle Wampe. Sie sind ein basisdemokratisch organisierter Motorradclub mit Sitz im Komma und sie betreiben eine Zweiradwerkstatt. Jeden Donnerstag ist die Fahrradwerkstatt geöffnet – bei gutem Wetter wird möglicherweise auch gegrillt.
URL:https://wandelstadt-esslingen.de/event/fahrrad-werkstatt/2025-11-27/
LOCATION:KOMMA\, Maille 5-9\, Esslingen\, Deutschland
END:VEVENT
BEGIN:VEVENT
DTSTART;TZID=Europe/Berlin:20251127T190000
DTEND;TZID=Europe/Berlin:20251127T190000
DTSTAMP:20260422T020625
CREATED:20251029T180317Z
LAST-MODIFIED:20251029T180836Z
UID:10007142-1764270000-1764270000@wandelstadt-esslingen.de
SUMMARY:Einwohnerversammlung Wäldenbronn\, Hohenkreuz\, Serach\, Obertal
DESCRIPTION:Die Einwohnerversammlungen finden alle drei Jahre statt und dauern nach Möglichkeit nicht länger als zwei Stunden. \n\n\nDer Oberbürgermeister informiert allgemein über kommunalpolitische Themen in Esslingen\, danach liegt der Schwerpunkt auf fünf Themen aus dem Bezirk. Zwei der Themen bestimmt der Bürgerausschuss\, drei weitere Themen wurden im Vorfeld online ermittelt. Die Verwaltung nimmt bei der Versammlung Stellung zu den Themen\, danach ist Zeit für den Austausch. \n\n\nAußerdem erfolgt innerhalb der Einwohnerversammlung auch der Rechenschaftsbericht des Bürgerausschusses sowie die Bekanntgabe des Wahlergebnisses der Wahl des neuen Bürgerausschusses. \n\n\nAm Ende der Versammlung können Teilnehmende über Feedback-Karten direkt Rückmeldung zur Veranstaltung geben und ggf. weitere Themen\, Hinweise oder Fragen nennen. \n\n\nTagesordnung \nVorstellung wie auch Wahl der Kandidierenden für die Bürgerausschüsse finden über das Online-Portal statt. \n\n\nWahlberechtigt sind: \n\n\n\n\nPersonen ab 16 Jahren\ndie im Gebiet des jeweiligen Bürgerausschusses wohnen\n\n\n\n\nInteressierte reichen ihre Bewerbung um eine Kandidatur sowie ein Kurzportrait auf der Online-Plattform ein\, nach Ende der Einreichungsfrist prüft die Verwaltung die Wählbarkeit der Kandidatinnen und Kandidaten. \n\n\nEtwa zwei Wochen bis wenige Tage vor der Versammlung läuft die Online-Abstimmung. Jeder Wahlberechtigte hat so viele Stimmen\, wie es Sitze im Bürgerausschuss gibt. \n\n\nDarüber hinaus kann auch vor Beginn der Einwohnerversammlung vor Ort abgestimmt werden. Wer die Abstimmung vor Ort nutzt\, muss seine Wahlberechtigung mit einem gültigen Ausweisdokument nachweisen. In der Versammlung selbst wird nur noch das Wahlergebnis bekannt gegeben.
URL:https://wandelstadt-esslingen.de/event/einwohnerversammlung-waeldenbronn-hohenkreuz-serach-obertal/
LOCATION:Hohenkreuzhalle Esslingen\, Hohenkreuzweg 34\, Esslingen
END:VEVENT
BEGIN:VEVENT
DTSTART;TZID=Europe/Berlin:20251127T190000
DTEND;TZID=Europe/Berlin:20251127T203000
DTSTAMP:20260422T020625
CREATED:20250903T112216Z
LAST-MODIFIED:20250903T112216Z
UID:10006499-1764270000-1764275400@wandelstadt-esslingen.de
SUMMARY:Nachhaltig haushalten - Wie geht das?
DESCRIPTION:Das Thema Nachhaltigkeit ist in aller Munde und betrifft viele Lebensbereiche. Die Nachhaltigkeitsaspekte Ökologie\, Ökonomie und Soziales finden sich in zahlreichen Feldern des täglichen Lebens wieder. Mit einem Fokus auf Nachhaltigkeit beim Einkauf\, beim Konsum\, bei der Kleidung und bei der Energie – aber auch bei den Finanzen – soll in diesem Onlinevortrag aufgezeigt werden\, wie eine Umsetzung von Nachhaltigkeit im Lebensalltag möglich ist.
URL:https://wandelstadt-esslingen.de/event/nachhaltig-haushalten-wie-geht-das/
LOCATION:online
ORGANIZER;CN="Volkshochschule Esslingen":MAILTO:info@vhs-esslingen.de
END:VEVENT
BEGIN:VEVENT
DTSTART;TZID=Europe/Berlin:20251127T190000
DTEND;TZID=Europe/Berlin:20251127T210000
DTSTAMP:20260422T020625
CREATED:20251027T142948Z
LAST-MODIFIED:20251027T142948Z
UID:10006713-1764270000-1764277200@wandelstadt-esslingen.de
SUMMARY:Nirit Sommerfeld liest "Beduinenmilch"
DESCRIPTION:Nirit Sommerfeld liest „Beduinenmilch“\nBuchpräsentation\nDonnerstag\, 27. November\, 19.00 Uhr\nGewerkschaftshaus Esslingen\, Julius-Motteler-Str. 12 \nEintritt: 10\,- € \nDie deutsch-israelische Schauspielerin\, Sängerin und Schriftstellerin Nirit Sommerfeld hat ihren Debüt-Roman mit dem Titel „Beduinenmilch“ vorgelegt. Sie schildert den Weg einer jungen Deutsch-Israelin 2014\, die als überzeugte Zionistin von Berlin nach Israel reist\, um „ihrem Land zu dienen“\, das heißt\, dort Wehrdienst zu leisten. Die Erlebnisse der Protagonistin in Israel geben einen tiefen Einblick in die widersprüchliche israelische Realität. Die Wirklichkeit\, der sie dort begegnet (Besatzung\, Unterdrückung\, die rassistische Verachtung der Palästinenser\, permanente Gewalt und Krieg)\nerschüttert sie zutiefst und lässt sie einen ganz anderen Weg einschlagen. Nirit Sommerfelds Romanheldin Talia\, die auch autobiographische Züge trägt\, ändert aber in Israel nicht nur ihr politisches Weltbild\, sie findet in der Auseinandersetzung mit der furchtbaren Realität dort zu eigener Kraft und Stärke und damit zu sich selbst. \nNirit Sommerfeld\, 1961 in Eilat geboren\, ist eine deutsch-israelische Schauspielerin und Sängerin. Sie ist Mitbegründerin des »Bündnisses für Gerechtigkeit zwischen Israelis und Palästinensern«. Sie engagiert sich seit vielen Jahren für die israelisch-palästinensische Freundschaft. \nVeranstalter:\nFriedensbündnis Esslingen in Zusammenarbeit mit Evang. Bildungswerk im Landkreis Esslingen; Katholische Kirche Esslingen; Buchladen Die Zeitgenossen (Büchertisch)
URL:https://wandelstadt-esslingen.de/event/nirit-sommerfeld-liest-beduinenmilch/
LOCATION:Gewerkschaftshaus Esslingen\, Julius-Motteler-Str. 12\, Esslingen\, 73728
CATEGORIES:Kulturveranstaltung,Live-Veranstaltung
ORGANIZER;CN="Friedensb%C3%BCndnis Esslingen":MAILTO:Sigrid.Altherr@t-online.de
END:VEVENT
END:VCALENDAR