BEGIN:VCALENDAR
VERSION:2.0
PRODID:-//Wandelstadt Esslingen - ECPv6.15.20//NONSGML v1.0//EN
CALSCALE:GREGORIAN
METHOD:PUBLISH
X-WR-CALNAME:Wandelstadt Esslingen
X-ORIGINAL-URL:https://wandelstadt-esslingen.de
X-WR-CALDESC:Veranstaltungen für Wandelstadt Esslingen
REFRESH-INTERVAL;VALUE=DURATION:PT1H
X-Robots-Tag:noindex
X-PUBLISHED-TTL:PT1H
BEGIN:VTIMEZONE
TZID:Europe/Berlin
BEGIN:DAYLIGHT
TZOFFSETFROM:+0100
TZOFFSETTO:+0200
TZNAME:CEST
DTSTART:20240331T010000
END:DAYLIGHT
BEGIN:STANDARD
TZOFFSETFROM:+0200
TZOFFSETTO:+0100
TZNAME:CET
DTSTART:20241027T010000
END:STANDARD
BEGIN:DAYLIGHT
TZOFFSETFROM:+0100
TZOFFSETTO:+0200
TZNAME:CEST
DTSTART:20250330T010000
END:DAYLIGHT
BEGIN:STANDARD
TZOFFSETFROM:+0200
TZOFFSETTO:+0100
TZNAME:CET
DTSTART:20251026T010000
END:STANDARD
BEGIN:DAYLIGHT
TZOFFSETFROM:+0100
TZOFFSETTO:+0200
TZNAME:CEST
DTSTART:20260329T010000
END:DAYLIGHT
BEGIN:STANDARD
TZOFFSETFROM:+0200
TZOFFSETTO:+0100
TZNAME:CET
DTSTART:20261025T010000
END:STANDARD
END:VTIMEZONE
BEGIN:VEVENT
DTSTART;VALUE=DATE:20251117
DTEND;VALUE=DATE:20251201
DTSTAMP:20260422T020626
CREATED:20251027T161547Z
LAST-MODIFIED:20251027T161547Z
UID:10006724-1763337600-1764547199@wandelstadt-esslingen.de
SUMMARY:Jüdische Kulturtage LeChaim - Jüdisches (Er)Leben in Esslingen
DESCRIPTION:Liebe Esslinger:innen\, \nzum dritten Mal laden wir Sie herzlich ein zu den jüdischen Kulturtagen in Esslingen LeChaim – Jüdisches (Er)Leben in Esslingen. Zahlreiche Partner:innen – Schulen\, Kulturzentren\, Kino\, die Schauspielbühnen\, die Mitglieder der jüdischen Gemeinde\, Institutionen und Freunde – halten für Sie ab 17. November ein abwechslungsreiches Programm bereit\, um die jüdische Seite Esslingens zu entdecken. Von der Eröffnung im Econvent über den Dicken Turm\, Comic-Live-Zeichnen zum Schabbat-Ausgang in der Dieselstraße und ein fulminantes\nAbschlusskonzert mit Dobranotsch im CVJM feiern wir LeChaim – das Leben. Und wir feiern Esslingen und seine großartige Stadtgesellschaft: LeEsslingen – auf Esslingen und seine Bürger:innen! \nEin besonders herzlicher Dank an alle Unterstützer:innen und Partner:innen unseres diesjährigen Programms. Tauchen Sie ein in das faszinierende jüdische Leben Esslingens und kommen Sie auch dieses Jahr wieder zahlreich in die jüdische Gemeinde\, wenn wir am Abend des 18. Dezembers zum jüdischen Lichter- und Weihefest gemeinsam die Chanukka-Lichter entzünden! \nUNTERSTÜTZERKREIS\nWolfgang Drexler\nAndrea Klöber \nIRGW-VORSTAND\nProf. Barbara Traub\nMichael Kashi\nMihail Rubinstein
URL:https://wandelstadt-esslingen.de/event/juedische-kulturtage-lechaim-juedisches-erleben-in-esslingen/
CATEGORIES:Kulturveranstaltung,Live-Veranstaltung
END:VEVENT
BEGIN:VEVENT
DTSTART;VALUE=DATE:20251122
DTEND;VALUE=DATE:20251214
DTSTAMP:20260422T020626
CREATED:20251023T075017Z
LAST-MODIFIED:20251023T075017Z
UID:10006700-1763769600-1765670399@wandelstadt-esslingen.de
SUMMARY:"Was heißt schon alt?" Eine Ausstellung rund ums Älterwerden
DESCRIPTION:
URL:https://wandelstadt-esslingen.de/event/was-heisst-schon-alt-eine-ausstellung-rund-ums-aelterwerden/
LOCATION:Stadtbücherei Esslingen am Neckar\, Heugasse 9\, Esslingen am Neckar\, 73728
CATEGORIES:Kulturveranstaltung
ATTACH;FMTTYPE=application/pdf:https://wandelstadt-esslingen.de/wp-content/uploads/2025/10/02_Plakat_Wanderausstellung_ansicht-1.pdf
END:VEVENT
BEGIN:VEVENT
DTSTART;TZID=Europe/Berlin:20251126T180000
DTEND;TZID=Europe/Berlin:20251126T200000
DTSTAMP:20260422T020626
CREATED:20251027T162727Z
LAST-MODIFIED:20251027T162727Z
UID:10006727-1764180000-1764187200@wandelstadt-esslingen.de
SUMMARY:Tränen Eines Künstlers - Friedensreich Hundertwasser und die Einflüsse der Jüdischen Herkunft auf sein Werk
DESCRIPTION:Tränen gehören als feste Symbole zum Werk Hundertwassers. Seine Persönlichkeit ist geprägt von den Kindheitserfahrungen im nationalsozialistischen Österreich. Die Mutter des als Friedrich Stowasser 1928 in Wien geborenen Künstlers war Jüdin. Mehr als 80 seiner Verwandten fielen der Naziherrschaft zum Opfer. \nDr. Joachim Hahn\, ausgewiesener Experte jüdischer Geschichte\, beleuchtet vor dem Hintergrund der geschichtlichen Ereignisse in Wien in der Zeit des Nationalsozialismus die Einflüsse der jüdischen Herkunft im Werk Friedensreich Hundertwassers. \nKOSTEN:\nFreier Eintritt \nVERANSTALTER:\nIsraelitische Religionsgemeinschaft Württemberg K.d.ö.R. \nANMELDUNG:\nunter schweikert@irgw.de
URL:https://wandelstadt-esslingen.de/event/traenen-eines-kuenstlers-friedensreich-hundertwasser-und-die-einfluesse-der-juedischen-herkunft-auf-sein-werk/
LOCATION:Jüdisches Gemeindezentrum Esslingen\, Im Heppächer 3\, Esslingen\, 73728
CATEGORIES:Kulturveranstaltung,Live-Veranstaltung
END:VEVENT
BEGIN:VEVENT
DTSTART;TZID=Europe/Berlin:20251126T180000
DTEND;TZID=Europe/Berlin:20251126T210000
DTSTAMP:20260422T020626
CREATED:20240628T154510Z
LAST-MODIFIED:20251125T194322Z
UID:10003124-1764180000-1764190800@wandelstadt-esslingen.de
SUMMARY:Kunststoff-Lab
DESCRIPTION:Positiv gegen Kunststoffverschmutzung \nAn einen Alltag ohne Kunststoffe ist nicht mehr zu denken. Das Material hat nach wie vor wertvolle Eigenschaften\, die wir nach dem “Precious-Plastic-Modell“ in einer kleinen Kunststoffrecycling- Manufaktur einsetzen. “Precious-Plastic“ ist ein internationales Projekt. 2012 in den Niederlanden gestartet\, besteht mittlerweile aus einem globalen Netzwerk von Workspaces. Das Komma in Esslingen ist mit dem @preciousplastic_esslingen Teil dieser Bewegung. 2021 bauten wir unsere Werkstatt mit Maschinen zur Plastikverarbeitung auf. Der Mehrwert des Projektes ist es\, die Möglichkeiten und Grenzen des „Selber-Machens“ selbst zu erfahren\, und zwar in einem für die Kreativität und Empowerment sicheren Ort. \nAus Abfall entsteht ein neuer Rohstoff\, aus dem du eigene Werkstücke wie z. B. kleine Möbel\, Lampen\, Taschen und Schmuck kreieren kannst. Schau dir hier an\, was wir 2023 in der Workshopreihe gemacht haben. \nMit und für junge Menschen: Wir können uns nicht mehr anhören\, wie schlecht die Klimakrise ist. Wir wollen was dagegen machen! Was würdest du daraus machen? \n  \nOffene Kunststoffwerkstatt \nAb Mai 2024 steht immer Mittwochs die offene Kunstwerkstatt für die Einführung in die „Precious-Plastic-Welt“\, die Kunststoffverarbeitung und Materialexperimente zur Verfügung. Plastik wird sortiert\, geschreddert und eingeschmolzen. \nHast du es zum letzten Workshop nicht geschafft und wolltest dir immer Schmuck selber machen? Oder einfach mal mehr über die Kunststoffwerkstatt wissen? Oder hast du sogar ein eigenes Projekt im Kopf\, das du mit Kunststoffplatten versuchen möchtest? Dann ist die offene Werkstatt genau richtig für dich. \nSolltest du es unter der Woche nicht schaffen\, gibt es ab Juni 2024 auch immer am  1. Samstag im Monat die offene Werkstatt. Die Nutzung der Werkstatt ist kostenlos. An den genannten Terminen kannst du ohne Anmeldung teilnehmen.  Ausnahmen aufgrund von Komma Veranstaltungen werden über die Internetseite des Mittwochs geteilt. \nMaterial falls nicht selbst gesammelt\, ist auf Spendenbasis verfügbar\, solange Vorrat reicht. Hier findest du ein How-to-collect\, damit du schauen kannst\, was wir in der Werkstatt grundsätzlich verwenden können. \nEinführungen in die Precious-Plastic-Welt sind auf Deutsch\, Englisch und Spanisch möglich. Hast du noch Fragen? Schreib uns gerne eine Nachricht an plastic@komma.info oder komm einfach vorbei! \nDie Teilnahme ist kostenlos\, wir bitten um Anmeldung per Mail an plastic@komma.info. \nKollabs und Netzwerk \nGroßes Potenzial liegt in unserer interdisziplinären Zusammenarbeit – sowohl im Komma-Team als auch in Kooperationen. Wir arbeiten mit Schulen\, Hochschulen\, Designer*innen\, Initiativen\, Werkstätten und andere Precious Plastics Gruppen auf der Welt zusammen. Hast du eine Idee zu einer Kollaboration? Schreib uns gerne an plastic@komma.info. \nFunfäct \n„The Bänk“\, unser erstes Projekt\, hat es in die Endrunde der RoGUILTLESSPLASTIC Awards geschafft und wurde bei der Mailänder Designwoche (Juni 2022) ausgestellt. Wie das gebaut wurde\, findest du im Video. \nTagesaktuelle Informationen und Workshop-Angebote finden sich auf Instagram @preciousplastic_esslingen \n 
URL:https://wandelstadt-esslingen.de/event/https-www-komma-info-precious-plastic/2025-11-26/
LOCATION:KOMMA\, Maille 5-9\, Esslingen\, Deutschland
END:VEVENT
BEGIN:VEVENT
DTSTART;TZID=Europe/Berlin:20251126T190000
DTEND;TZID=Europe/Berlin:20251126T213000
DTSTAMP:20260422T020626
CREATED:20250820T190239Z
LAST-MODIFIED:20260418T102801Z
UID:10006622-1764183600-1764192600@wandelstadt-esslingen.de
SUMMARY:AG Krisenfest - Transition Town Esslingen
DESCRIPTION:Du fragst dich\, was wir tun können\, um besser auf vermehrt auftretende vielfältige Krisen vorbereitet zu sein? Du hast Lust zusammen mit anzupacken\, um Menschlichkeit und Zusammenhalt in bevorstehenden Zeiten und im Alltag zu stärken? Nach zwei enthusiastischen Gründungs-Workshops\, startet die AG Krisenfest in die Gestaltung von Strukturen für die Stärkung der solidarischen Krisen-Resilienz.\nKomm gerne dazu! Bei Interesse gerne über das Kontaktformular auf unserer Webseite www.transition-town-es.de melden.
URL:https://wandelstadt-esslingen.de/event/ag-krisenfest/2025-11-26/
END:VEVENT
END:VCALENDAR