BEGIN:VCALENDAR
VERSION:2.0
PRODID:-//Wandelstadt Esslingen - ECPv6.15.20//NONSGML v1.0//EN
CALSCALE:GREGORIAN
METHOD:PUBLISH
X-WR-CALNAME:Wandelstadt Esslingen
X-ORIGINAL-URL:https://wandelstadt-esslingen.de
X-WR-CALDESC:Veranstaltungen für Wandelstadt Esslingen
REFRESH-INTERVAL;VALUE=DURATION:PT1H
X-Robots-Tag:noindex
X-PUBLISHED-TTL:PT1H
BEGIN:VTIMEZONE
TZID:Europe/Berlin
BEGIN:DAYLIGHT
TZOFFSETFROM:+0100
TZOFFSETTO:+0200
TZNAME:CEST
DTSTART:20240331T010000
END:DAYLIGHT
BEGIN:STANDARD
TZOFFSETFROM:+0200
TZOFFSETTO:+0100
TZNAME:CET
DTSTART:20241027T010000
END:STANDARD
BEGIN:DAYLIGHT
TZOFFSETFROM:+0100
TZOFFSETTO:+0200
TZNAME:CEST
DTSTART:20250330T010000
END:DAYLIGHT
BEGIN:STANDARD
TZOFFSETFROM:+0200
TZOFFSETTO:+0100
TZNAME:CET
DTSTART:20251026T010000
END:STANDARD
BEGIN:DAYLIGHT
TZOFFSETFROM:+0100
TZOFFSETTO:+0200
TZNAME:CEST
DTSTART:20260329T010000
END:DAYLIGHT
BEGIN:STANDARD
TZOFFSETFROM:+0200
TZOFFSETTO:+0100
TZNAME:CET
DTSTART:20261025T010000
END:STANDARD
END:VTIMEZONE
BEGIN:VEVENT
DTSTART;VALUE=DATE:20251113
DTEND;VALUE=DATE:20251120
DTSTAMP:20260422T031916
CREATED:20251029T162030Z
LAST-MODIFIED:20251029T162030Z
UID:10007129-1762992000-1763596799@wandelstadt-esslingen.de
SUMMARY:QUEERFILMFESTIVAL
DESCRIPTION:
URL:https://wandelstadt-esslingen.de/event/queerfilmfestival/
LOCATION:Kommunales Kino\, Maille 4-9\, Esslingen\, 73728\, Deutschland
END:VEVENT
BEGIN:VEVENT
DTSTART;TZID=Europe/Berlin:20251114T090000
DTEND;TZID=Europe/Berlin:20251114T110000
DTSTAMP:20260422T031916
CREATED:20251022T135025Z
LAST-MODIFIED:20251022T135025Z
UID:10006692-1763110800-1763118000@wandelstadt-esslingen.de
SUMMARY:Freitagssprechstunde
DESCRIPTION:Rufen Sie an! Vorstandsmitglieder vom StadtSeniorenRat haben von 9 bis 11 Uhr ein offenes Ohr für alle Anliegen von Seniorinnen sowie Senioren und vermitteln auch Termine bei der Esslinger Initiative zur Erstellung von Vorsorgepapieren wie Vollmachten und Patientenverfügungen: Telefon 0711 357420
URL:https://wandelstadt-esslingen.de/event/freitagssprechstunde-19/
LOCATION:Forum Esslingen in der Schelztorstraße 38\, 73728 Esslingen\, Schelztorstraße 38\, Esslingen\, 73728\, Deutschland
ATTACH;FMTTYPE=image/jpeg:https://wandelstadt-esslingen.de/wp-content/uploads/2025/05/Telefonieren.jpg
END:VEVENT
BEGIN:VEVENT
DTSTART;TZID=Europe/Berlin:20251114T090000
DTEND;TZID=Europe/Berlin:20251114T170000
DTSTAMP:20260422T031916
CREATED:20251113T085039Z
LAST-MODIFIED:20251113T085039Z
UID:10007186-1763110800-1763139600@wandelstadt-esslingen.de
SUMMARY:eva Bazar
DESCRIPTION:Ein toller eva Bazar mit u.a. viel kreativem Selbstgemachten aus eva’s Ottilie und Leckereien. \nSchau vorbei. Wir freuen uns.
URL:https://wandelstadt-esslingen.de/event/eva-bazar/
LOCATION:eva Geschäftsstelle\, Büchsenstraße 34/36\, Stuttgart\, 70174
ORGANIZER;CN="eva's Ottilie":MAILTO:evas-ottilie-es@eva-stuttgart.de
END:VEVENT
BEGIN:VEVENT
DTSTART;TZID=Europe/Berlin:20251114T140000
DTEND;TZID=Europe/Berlin:20251114T180000
DTSTAMP:20260422T031916
CREATED:20251027T172829Z
LAST-MODIFIED:20251027T172854Z
UID:10006742-1763128800-1763143200@wandelstadt-esslingen.de
SUMMARY:Mein Leben war ein Auf-Dem-Seile-Schweben - Jüdische Deutschsprachige Lyrikerinnen des 20. Jahrhunderts
DESCRIPTION:Die Ausstellung\, erstellt im Auftrag des Träger- und Fördervereins Ehemalige Synagoge Riexingen\, befasst sich mit Leben und Werk von 15 bekannten – wie Nelly Sachs\, Rose Ausländer\, Mascha Kaléko\, Else Lasker-Schüler\, Hilde Domin – und weniger bekannten Schriftstellerinnen wie Esther Dischereit oder Lili Grün. Sie wird durch eine Vernissage eröffnet\, sowie von Vorträgen\, z.B. durch Karl-Josef Kuschel\, und einer Szenischen Lesung der WLB ergänzt. \nKOSTEN:\nFreier Eintritt \nVERANSTALTER:\nEvang. Dekanat\nEvang. Pfarramt für das christlich-\njüdische Gespräch\nFreunde Jüdischer Kultur Esslingen e.V.
URL:https://wandelstadt-esslingen.de/event/mein-leben-war-ein-auf-dem-seile-schweben-juedische-deutschsprachige-lyrikerinnen-des-20-jahrhunderts/2025-11-14/
LOCATION:Franziskanerkirche\, Franziskanergasse\, Esslingen\, 73728
CATEGORIES:Austellung
END:VEVENT
BEGIN:VEVENT
DTSTART;TZID=Europe/Berlin:20251114T161500
DTEND;TZID=Europe/Berlin:20251114T161500
DTSTAMP:20260422T031916
CREATED:20251029T190910Z
LAST-MODIFIED:20251114T140212Z
UID:10007143-1763136900-1763136900@wandelstadt-esslingen.de
SUMMARY:Globaler Klimastreik Esslingen
DESCRIPTION:Anlässlich des globalen Klimastreiks wird es auch in Esslingen eine Demonstration geben. \nNähere Infos folgen! \nDas sind bisherigen Kooperationspartner: Fridays for Future Ortsgruppe Esslingen\, Sozialstation Esslingen\, E-Motion E-Bike Welt\, fuenfbisneun\, KOMMA und das Café LORE und die Parents For Future.
URL:https://wandelstadt-esslingen.de/event/globaler-klimastreik-esslingen/
CATEGORIES:Demonstration
END:VEVENT
END:VCALENDAR