BEGIN:VCALENDAR
VERSION:2.0
PRODID:-//Wandelstadt Esslingen - ECPv6.15.20//NONSGML v1.0//EN
CALSCALE:GREGORIAN
METHOD:PUBLISH
X-WR-CALNAME:Wandelstadt Esslingen
X-ORIGINAL-URL:https://wandelstadt-esslingen.de
X-WR-CALDESC:Veranstaltungen für Wandelstadt Esslingen
REFRESH-INTERVAL;VALUE=DURATION:PT1H
X-Robots-Tag:noindex
X-PUBLISHED-TTL:PT1H
BEGIN:VTIMEZONE
TZID:Europe/Berlin
BEGIN:DAYLIGHT
TZOFFSETFROM:+0100
TZOFFSETTO:+0200
TZNAME:CEST
DTSTART:20240331T010000
END:DAYLIGHT
BEGIN:STANDARD
TZOFFSETFROM:+0200
TZOFFSETTO:+0100
TZNAME:CET
DTSTART:20241027T010000
END:STANDARD
BEGIN:DAYLIGHT
TZOFFSETFROM:+0100
TZOFFSETTO:+0200
TZNAME:CEST
DTSTART:20250330T010000
END:DAYLIGHT
BEGIN:STANDARD
TZOFFSETFROM:+0200
TZOFFSETTO:+0100
TZNAME:CET
DTSTART:20251026T010000
END:STANDARD
BEGIN:DAYLIGHT
TZOFFSETFROM:+0100
TZOFFSETTO:+0200
TZNAME:CEST
DTSTART:20260329T010000
END:DAYLIGHT
BEGIN:STANDARD
TZOFFSETFROM:+0200
TZOFFSETTO:+0100
TZNAME:CET
DTSTART:20261025T010000
END:STANDARD
END:VTIMEZONE
BEGIN:VEVENT
DTSTART;VALUE=DATE:20251113
DTEND;VALUE=DATE:20251120
DTSTAMP:20260422T032009
CREATED:20251029T162030Z
LAST-MODIFIED:20251029T162030Z
UID:10007129-1762992000-1763596799@wandelstadt-esslingen.de
SUMMARY:QUEERFILMFESTIVAL
DESCRIPTION:
URL:https://wandelstadt-esslingen.de/event/queerfilmfestival/
LOCATION:Kommunales Kino\, Maille 4-9\, Esslingen\, 73728\, Deutschland
END:VEVENT
BEGIN:VEVENT
DTSTART;TZID=Europe/Berlin:20251113T090000
DTEND;TZID=Europe/Berlin:20251113T110000
DTSTAMP:20260422T032009
CREATED:20250627T221735Z
LAST-MODIFIED:20250627T221735Z
UID:10005752-1763024400-1763031600@wandelstadt-esslingen.de
SUMMARY:TAT + RAT · Senioren und Seniorinnen helfen
DESCRIPTION:Wobei wir helfen!\nWir unterstützen Sie bei anfallenden Arbeiten\, bei denen „tatkräftige Hilfe“ oder „guter Rat“ benötigt wird. \nBeispiele unserer Tätigkeiten\n▷ Reparaturen im Haushalt \n• Tropfende Wasserhähne\n• Leuchten montieren oder Leuchtmittel austauschen\n• Möbelscharniere reparieren\n• Haltegriffe montieren\n• Montage von Kleinmöbeln\n• und vieles mehr \n▷ Lösung technischer Probleme \n• Digitale Geräte wie Telefon\, Drucker\, Router\, stationärer PC etc.\n• Grundeinstellung Fernseher etc.\n• Bedienungsanleitungen erklären \n▷ Hilfe bei Formularen und beim Verfassen von Schriftstücken\n▷ Beratung wenn Sie unsicher sind\, ob \n• wenige Handgriffe ausreichen\, um das Problem zu beheben\n• ein Kundendienst gerufen werden sollte\n• eine Ersatzbeschaffung sinnvoll schein \nSie erreichen uns persönlich und telefonisch\ndonnerstags von 9 – 11 Uhr\n0711 357420\nAnrufbeantworter wird wöchentlich abgehört. \nSie erreichen uns online\ntatundrat@forum-esslingen.de\nforum-esslingen.de
URL:https://wandelstadt-esslingen.de/event/tat-rat-%c2%b7-senioren-und-seniorinnen-helfen/2025-11-13/
LOCATION:Forum Esslingen in der Schelztorstraße 38\, 73728 Esslingen\, Schelztorstraße 38\, Esslingen\, 73728\, Deutschland
END:VEVENT
BEGIN:VEVENT
DTSTART;TZID=Europe/Berlin:20251113T140000
DTEND;TZID=Europe/Berlin:20251113T180000
DTSTAMP:20260422T032009
CREATED:20251027T172829Z
LAST-MODIFIED:20251027T172854Z
UID:10006741-1763042400-1763056800@wandelstadt-esslingen.de
SUMMARY:Mein Leben war ein Auf-Dem-Seile-Schweben - Jüdische Deutschsprachige Lyrikerinnen des 20. Jahrhunderts
DESCRIPTION:Die Ausstellung\, erstellt im Auftrag des Träger- und Fördervereins Ehemalige Synagoge Riexingen\, befasst sich mit Leben und Werk von 15 bekannten – wie Nelly Sachs\, Rose Ausländer\, Mascha Kaléko\, Else Lasker-Schüler\, Hilde Domin – und weniger bekannten Schriftstellerinnen wie Esther Dischereit oder Lili Grün. Sie wird durch eine Vernissage eröffnet\, sowie von Vorträgen\, z.B. durch Karl-Josef Kuschel\, und einer Szenischen Lesung der WLB ergänzt. \nKOSTEN:\nFreier Eintritt \nVERANSTALTER:\nEvang. Dekanat\nEvang. Pfarramt für das christlich-\njüdische Gespräch\nFreunde Jüdischer Kultur Esslingen e.V.
URL:https://wandelstadt-esslingen.de/event/mein-leben-war-ein-auf-dem-seile-schweben-juedische-deutschsprachige-lyrikerinnen-des-20-jahrhunderts/2025-11-13/
LOCATION:Franziskanerkirche\, Franziskanergasse\, Esslingen\, 73728
CATEGORIES:Austellung
END:VEVENT
BEGIN:VEVENT
DTSTART;TZID=Europe/Berlin:20251113T150000
DTEND;TZID=Europe/Berlin:20251113T170000
DTSTAMP:20260422T032009
CREATED:20250329T050120Z
LAST-MODIFIED:20250329T050120Z
UID:10005031-1763046000-1763053200@wandelstadt-esslingen.de
SUMMARY:Gesprächskreis Aktuelles Zeitgeschehen
DESCRIPTION:Jeden Donnerstag von 15 : 00 – 17 : 00 Uhr\nOffener Treff – Gesprächskreis Aktuelles Zeitgeschehen\n In lockerer Runde und in einer Atmosphäre der gegenseitigen Toleranz und\ndes Respekts tauschen wir unsere Meinungen und Fragen hinsichtlich aktueller\nThemen (Politik\, Gesellschaft etc.) aus\, wobei wir offen für jedes Alter und jede\nKultur sind.\nVerschiedene Referent:innen und Gastteilnehmende klären zudem in unregel\nmäßigen Abständen zu speziellen Themen auf. Ebenso fließen Haltungen und\nMeinungen verschiedenster Alters- und Bevölkerungsgruppen ein.\nDiskutieren Sie mit uns – wir freuen uns auf Sie!\n Kontakt:\n Matthias Pallmert\,  gaz@mgh-es.de\nOrt: Mehrgenerationen- und Bürgerhaus\, Weilstr. 8
URL:https://wandelstadt-esslingen.de/event/gespraechskreis-aktuelles-zeitgeschehen/2025-11-13/
LOCATION:Mehrgenerationenhaus Esslingen\, Weilstraße 8\, Esslingen
END:VEVENT
BEGIN:VEVENT
DTSTART;TZID=Europe/Berlin:20251113T163000
DTEND;TZID=Europe/Berlin:20251113T183000
DTSTAMP:20260422T032009
CREATED:20251022T140310Z
LAST-MODIFIED:20251022T140310Z
UID:10006696-1763051400-1763058600@wandelstadt-esslingen.de
SUMMARY:Smartphone-Kurs für Seniorinnen und Senioren
DESCRIPTION:Dank des Engagements der Schülerinnen und Schüler des Mörike-Gmnasiums freuen wir uns vom StadtSeniorenRat wieder einen kostenlosen Smartphone-Kurs anbieten zu können. Nutzen Sie die Chance\, im direkten \, persönlichen Gespräch alle Ihre Fragen rund um die digitale Welt los zu werden: Wie komme ich ins Internet? Wie lade ich Apps herunter? Wie stelle ich Kontakt zur Familie und Freunden her \, speichere Fotos ab und verschicke diese? Wie buche ich einen Arzt- oder einen Behördentermin? Wie kaufe ich ein DB- Ticket oder eine Konzertkarte? Und noch viele\, viele Fragen mehr rund um das Smartphone werden die jungen Expertinnen und Experten gerne beantworten. Learning by doing lautet die Devise.\nAnmeldung: bjoern.beyer@esslingen.de oder Tel.: 3512 2182 \n 
URL:https://wandelstadt-esslingen.de/event/smartphone-kurs-fuer-seniorinnen-und-senioren/
LOCATION:Mörike-Gymnasium\, Neckarstr. 38\, 73728 Esslingen
ATTACH;FMTTYPE=image/jpeg:https://wandelstadt-esslingen.de/wp-content/uploads/2025/05/Offener-Treff-Smartphone-scaled.jpg
END:VEVENT
BEGIN:VEVENT
DTSTART;TZID=Europe/Berlin:20251113T173000
DTEND;TZID=Europe/Berlin:20251113T190000
DTSTAMP:20260422T032009
CREATED:20250903T112605Z
LAST-MODIFIED:20250903T112605Z
UID:10006500-1763055000-1763060400@wandelstadt-esslingen.de
SUMMARY:Vegane Ernährung - Mythen\, Vorteile und Risiken (Online-Vortrag)
DESCRIPTION:In diesem kurzweiligen Vortrag werden einige klassische Vorurteile über die rein pflanzliche Ernährung auf wissenschaftlicher Basis beleuchtet und Vorteile den möglichen Risiken gegenübergestellt. Darüber hinaus werden die klassischen Fragen beantwortet\, die immer wieder gestellt werden\, z.B.: Woher bekomme ich mein Protein? Brauche ich Nahrungsergänzungsmittel? Ist eine vegane Ernährung sinnvoll? Außerdem werden hilfreiche Tipps zur praktischen Umsetzung gegeben und Alternativen zu tierischen Produkten beim Kochen und Backen aufgezeigt.
URL:https://wandelstadt-esslingen.de/event/vegane-ernaehrung-mythen-vorteile-und-risiken-online-vortrag-2/
LOCATION:online
ORGANIZER;CN="Volkshochschule Esslingen":MAILTO:info@vhs-esslingen.de
END:VEVENT
BEGIN:VEVENT
DTSTART;TZID=Europe/Berlin:20251113T180000
DTEND;TZID=Europe/Berlin:20251113T200000
DTSTAMP:20260422T032009
CREATED:20250329T050707Z
LAST-MODIFIED:20250329T050707Z
UID:10005123-1763056800-1763064000@wandelstadt-esslingen.de
SUMMARY:Orte des Zuhörens
DESCRIPTION:Donnerstags \n18 : 00 – 20 : 00 Uhr\nOrte des Zuhörens – Caritas-Zentrum Esslingen\n Geschulte haupt- und ehrenamtliche Mitarbeiter:innen nehmen sich Zeit zum\nZuhören. Sie bieten ein offenes Ohr für alle Anliegen in sozialen und finanziellen\nFragen\, Unterstützung bei Anträgen und Bewerbungen sowie Hilfe im Umgang\nmit Behörden. Vertraulich und kostenlos!\nKontakt: Caritas Fils-Neckar-Alb\, Anniko Benedek\,  0711 3969 – 5422
URL:https://wandelstadt-esslingen.de/event/orte-des-zuhoerens/2025-11-13/
LOCATION:Caritas-Zentrum Esslingen\, Mettinger Str. 123\, Esslingen am Neckar\, 73728\, Deutschland
END:VEVENT
BEGIN:VEVENT
DTSTART;TZID=Europe/Berlin:20251113T190000
DTEND;TZID=Europe/Berlin:20251113T190000
DTSTAMP:20260422T032009
CREATED:20240628T160749Z
LAST-MODIFIED:20240629T175416Z
UID:10003635-1763060400-1763060400@wandelstadt-esslingen.de
SUMMARY:Fahrradwerkstatt
DESCRIPTION:Wir unterstützen Dich\, wenn Dein Fahrrad nicht mehr tut was es soll.\nFalls Ihr Interesse und Bedarf an unserer Fahrradwerkstatt habt\, meldet Euch per Mail: info@komma. \nVerantwortlich für die Werkstatt ist der Motorradclub Kuhle Wampe. Sie sind ein basisdemokratisch organisierter Motorradclub mit Sitz im Komma und sie betreiben eine Zweiradwerkstatt. Jeden Donnerstag ist die Fahrradwerkstatt geöffnet – bei gutem Wetter wird möglicherweise auch gegrillt.
URL:https://wandelstadt-esslingen.de/event/fahrrad-werkstatt/2025-11-13/
LOCATION:KOMMA\, Maille 5-9\, Esslingen\, Deutschland
END:VEVENT
BEGIN:VEVENT
DTSTART;TZID=Europe/Berlin:20251113T190000
DTEND;TZID=Europe/Berlin:20251113T190000
DTSTAMP:20260422T032009
CREATED:20251029T180106Z
LAST-MODIFIED:20251029T181328Z
UID:10007141-1763060400-1763060400@wandelstadt-esslingen.de
SUMMARY:Einwohnerversammlung St. Bernhardt\, Kennenburg\, Wiflingshausen
DESCRIPTION:Die Einwohnerversammlungen finden alle drei Jahre statt und dauern nach Möglichkeit nicht länger als zwei Stunden. \n\n\nDer Oberbürgermeister informiert allgemein über kommunalpolitische Themen in Esslingen\, danach liegt der Schwerpunkt auf fünf Themen aus dem Bezirk. Zwei der Themen bestimmt der Bürgerausschuss\, drei weitere Themen wurden im Vorfeld online ermittelt. Die Verwaltung nimmt bei der Versammlung Stellung zu den Themen\, danach ist Zeit für den Austausch. \n\n\nAußerdem erfolgt innerhalb der Einwohnerversammlung auch der Rechenschaftsbericht des Bürgerausschusses sowie die Bekanntgabe des Wahlergebnisses der Wahl des neuen Bürgerausschusses. \n\n\nAm Ende der Versammlung können Teilnehmende über Feedback-Karten direkt Rückmeldung zur Veranstaltung geben und ggf. weitere Themen\, Hinweise oder Fragen nennen. \n\n\nTagesordnung \nVorstellung wie auch Wahl der Kandidierenden für die Bürgerausschüsse finden über das Online-Portal statt. \n\n\nWahlberechtigt sind: \n\n\n\n\nPersonen ab 16 Jahren\ndie im Gebiet des jeweiligen Bürgerausschusses wohnen\n\n\n\n\nInteressierte reichen ihre Bewerbung um eine Kandidatur sowie ein Kurzportrait auf der Online-Plattform ein\, nach Ende der Einreichungsfrist prüft die Verwaltung die Wählbarkeit der Kandidatinnen und Kandidaten. \n\n\nEtwa zwei Wochen bis wenige Tage vor der Versammlung läuft die Online-Abstimmung. Jeder Wahlberechtigte hat so viele Stimmen\, wie es Sitze im Bürgerausschuss gibt. \n\n\nDarüber hinaus kann auch vor Beginn der Einwohnerversammlung vor Ort abgestimmt werden. Wer die Abstimmung vor Ort nutzt\, muss seine Wahlberechtigung mit einem gültigen Ausweisdokument nachweisen. In der Versammlung selbst wird nur noch das Wahlergebnis bekannt gegeben.
URL:https://wandelstadt-esslingen.de/event/einwohnerversammlung-st-bernhardt-kennenburg-wiflingshausen/
LOCATION:Gaststätte Sängerkranz\, Alte Talstraße 10\, Esslingen am Neckar\, 73732
END:VEVENT
END:VCALENDAR