BEGIN:VCALENDAR
VERSION:2.0
PRODID:-//Wandelstadt Esslingen - ECPv6.15.20//NONSGML v1.0//EN
CALSCALE:GREGORIAN
METHOD:PUBLISH
X-WR-CALNAME:Wandelstadt Esslingen
X-ORIGINAL-URL:https://wandelstadt-esslingen.de
X-WR-CALDESC:Veranstaltungen für Wandelstadt Esslingen
REFRESH-INTERVAL;VALUE=DURATION:PT1H
X-Robots-Tag:noindex
X-PUBLISHED-TTL:PT1H
BEGIN:VTIMEZONE
TZID:Europe/Berlin
BEGIN:DAYLIGHT
TZOFFSETFROM:+0100
TZOFFSETTO:+0200
TZNAME:CEST
DTSTART:20240331T010000
END:DAYLIGHT
BEGIN:STANDARD
TZOFFSETFROM:+0200
TZOFFSETTO:+0100
TZNAME:CET
DTSTART:20241027T010000
END:STANDARD
BEGIN:DAYLIGHT
TZOFFSETFROM:+0100
TZOFFSETTO:+0200
TZNAME:CEST
DTSTART:20250330T010000
END:DAYLIGHT
BEGIN:STANDARD
TZOFFSETFROM:+0200
TZOFFSETTO:+0100
TZNAME:CET
DTSTART:20251026T010000
END:STANDARD
BEGIN:DAYLIGHT
TZOFFSETFROM:+0100
TZOFFSETTO:+0200
TZNAME:CEST
DTSTART:20260329T010000
END:DAYLIGHT
BEGIN:STANDARD
TZOFFSETFROM:+0200
TZOFFSETTO:+0100
TZNAME:CET
DTSTART:20261025T010000
END:STANDARD
END:VTIMEZONE
BEGIN:VEVENT
DTSTART;VALUE=DATE:20251031
DTEND;VALUE=DATE:20251110
DTSTAMP:20260422T032007
CREATED:20251023T112417Z
LAST-MODIFIED:20251029T191634Z
UID:10006702-1761868800-1762732799@wandelstadt-esslingen.de
SUMMARY:FIX IT! – UMBAU STATT ABRISS
DESCRIPTION:Die Wanderausstellung FIX IT! – UMBAU STATTT ABRISS hält diesen Herbs Einzug in Esslingen. Die Ausstellung widmet sich der europäischen Bürgerinitiative HouseEurope!\, deren Ziel es ist bis Januar 2026 eine Million Unterstützer*innen zu sammeln. Für einen ökologisch und sozial nachhaltigen Bausektor\, fordert die Initiative gesetzliche Änderungen auf europäischer Ebene\, zugunsten von Sanierung und Pflege bestehender Gebäude und weniger Abriss. \n‍Als Pop-Up-Ausstellung wandert die Ausstellung FIX IT! – UMBAU STATT ABRISS ein Jahr lang durch Deutschland\, fördert den Umbau- und Demokratie-Diskurs und sammelt Unterschriften für HouseEurope!. Neben Informationen zum Instrument der Europäischen Bürgerinitiative und zu HouseEurope! werden gelungene Projekte aus dem bundesweiten Umbau-Atlas des BDA gezeigt. \nDarüber hinaus schafft die Ausstellung lokale Bezüge und fragt anhand konkreter Beispiele wie der Transformation des Hochschulcampus an der Flandernstraße oder dem Neubau des Landratsamts\, wie es in Esslingen um den Umgang mit dem Gebäudebestand steht. \nVeranstaltungsprogramm\nEin umfangreiches Veranstaltungsprogramm begleitet die Ausstellung. Den Auftakt bildet am Donnerstag\, 30.10.\, eine Schubkarrenprozession\, die vom Bahnhofplatz bis zum Kögel-Gebäude führt und dort in die Vernissage der Ausstellung übergeht. \nVortragsreihe „NACHSCHLAG“\nAn jedem Werktag um 12:30 Uhr gibt es die Möglichkeit\, sich mittagspausengeeignet in kompakter Form zu verschiedenen Aspekten der Bauwende zu informieren. Unter dem Motto „Nachschlag“ geben Referentinnen und Referenten z.B. Tipps zur Gebäudesanierung\, berichten über gelungene Umbau-Beispiele oder erklären\, wie das Bauen zum Klimawandel beiträgt. \n3.11.: Peter Reiner: Wie Baudenkmale zur Energiewende beitragen\n4.11.: Prof. Markus Binder: Vom zweiten Leben der Gebäude. Und vom dritten.\n5.11.: Dr. Katja Walther (Stabsstelle Nachhaltigkeit und Klimaschutz der Stadt Esslingen): Hitzevorsorge – unsere Stadt für die Zukunft gestalten\n6.11.: Josef Broll: Haustechnik muss auch funktionieren!\n7.11.: Ann-Kathrin Brodel: Wo kommen unsere Baustoffe her? \nWeitere Veranstaltungen\nAm Mittwoch\, 5.11. um 18 Uhr zeigt die Veranstaltung „WIE SCHÖN WIRD DAS DENN?!“\, wie an der Flandernstraße in alten Hochschulgebäuden ein beispielhaftes neues Wohnquartier entstehen soll.\nDen Abschluss bildet am Sonntag\, 9.11. (verkaufsoffener Sonntag)\, ein Aktionstag zur Bauwende\, mit Kurzvorträgen\, einem CO2-Quiz\, Sonderführungen durch die Ausstellung und vielem mehr. \nDie Ausstellung FIX IT! – UMBAU STATT ABRISS wurde initiiert und produziert von Architects for Future (A4F) für HouseEurope! in Kooperation mit dem Bund Deutscher Architektinnen und Architekten (BDA). Sie wurde ermöglicht durch die Allianz Foundation.\nDie Esslinger Station der Wanderausstellung wird von der A4F Ortsgruppe Esslingen kuratiert.\nIn den kommenden Monaten wird die Ausstellung u.a. auch noch in Stuttgart\, Freiburg und Tübingen zu sehen sein; jeweils mit eigenen inhaltlichen Schwerpunkten. \nOrt\nRathausplatz 14\, Esslingen\n(KÖGEL-Gebäude)\nÖffnungszeiten\nFreitag\, 31.10. – Sonntag\, 9.11.2025\n11:00 – 18:00
URL:https://wandelstadt-esslingen.de/event/fix-it-umbau-stattt-abriss/
LOCATION:Modehaus Kögel
CATEGORIES:Austellung,Kulturveranstaltung
ORGANIZER;CN="Architects for Future Esslingen":MAILTO:esslingen@architects4future.de
END:VEVENT
BEGIN:VEVENT
DTSTART;TZID=Europe/Berlin:20251109T110000
DTEND;TZID=Europe/Berlin:20251109T140000
DTSTAMP:20260422T032007
CREATED:20250329T093850Z
LAST-MODIFIED:20250415T170639Z
UID:10005189-1762686000-1762696800@wandelstadt-esslingen.de
SUMMARY:Veganer Mitbringbrunch mit Vortrag
DESCRIPTION:Unser Brunch findet am Sonntag im Bürgerhaus in der Pliensauvorstadt statt. Beginn ist um 11.00 Uhr\, Einlass ab 10.30 Uhr. Jeder Gast bringt ein veganes Gericht mit und schlemmt sich durch die mitgebrachten Gerichte der anderen Gäste. Getränke und Brot stellen wir kostenlos zur Verfügung\, eine Teilnahmegebühr wird nicht erhoben – Spenden sind natürlich gern gesehen. Eine Anmeldung ist nicht erforderlich. Der Brunch endet gegen 14.00 Uhr. \nBitte melde dich bei Fragen unter esslingen@ariwa.org. \nVortrag \nBei jedem Brunch wird es einen besonderen Gast geben\, der/die uns zu den Themen Veganismus\, Tierrecht\, Umweltschutz oder/und Nachhaltigkeit neue Denkanstöße gibt. Im November 2025 kommt Carina Breisch von der Kleiderei Stuttgart mit dem Thema „Slow Fashion – let’s consume slower together“ zu uns. \nWas bedeutet vegan? \nVegan heißt frei von allen tierischen Produkten\, also auch Honig\, Joghurt\, Sahne\, tierfetthaltiger Margarine usw.\,  wenn du unsicher bist\, melde dich bei uns unter esslingen@ariwa.org. Da auch Kinder bei dem Brunch dabei sind\, bitten wir auf alkoholische Bestandteile zu verzichten.
URL:https://wandelstadt-esslingen.de/event/veganer-mitbringbrunch-mit-vortrag-8/
LOCATION:Bürgerhaus Pliensauvorstadt\, Weilstraße 8\, Esslingen\, 73734
CATEGORIES:Gemütliches Treffen,Infoveranstaltung,Veganer Mitbringbrunch,Vernetzungsveranstaltung
ATTACH;FMTTYPE=image/jpeg:https://wandelstadt-esslingen.de/wp-content/uploads/2025/03/Insta_Brunch_Nov_2025.jpg
ORGANIZER;CN="ARIWA - Ortsgruppe Esslingen":MAILTO:esslingen@ariwa.org
END:VEVENT
BEGIN:VEVENT
DTSTART;TZID=Europe/Berlin:20251109T110000
DTEND;TZID=Europe/Berlin:20251109T180000
DTSTAMP:20260422T032007
CREATED:20251027T145655Z
LAST-MODIFIED:20251027T145655Z
UID:10006722-1762686000-1762711200@wandelstadt-esslingen.de
SUMMARY:Aktionstag Bauwende
DESCRIPTION:Sonntag\, 9.11.\, 11:00 – 18:00 Uhr\nAKTIONSTAG BAUWENDE\nmit Kurzvorträgen\, CO2-Quiz\, Sonderführungen durch die Ausstellung u.v.m. \n  \nDie Wanderausstellung FIX IT! – UMBAU STATTT ABRISS hält diesen Herbs Einzug in Esslingen. Die Ausstellung widmet sich der europäischen Bürgerinitiative HouseEurope!\, deren Ziel es ist bis Januar 2026 eine Million Unterstützer*innen zu sammeln. Für einen ökologisch und sozial nachhaltigen Bausektor\, fordert die Initiative gesetzliche Änderungen auf europäischer Ebene\, zugunsten von Sanierung und Pflege bestehender Gebäude und weniger Abriss. \n‍Als Pop-Up-Ausstellung wandert die Ausstellung FIX IT! – UMBAU STATT ABRISS ein Jahr lang durch Deutschland\, fördert den Umbau- und Demokratie-Diskurs und sammelt Unterschriften für HouseEurope!. Neben Informationen zum Instrument der Europäischen Bürgerinitiative und zu HouseEurope! werden gelungene Projekte aus dem bundesweiten Umbau-Atlas des BDA gezeigt. \nDarüber hinaus schafft die Ausstellung lokale Bezüge und fragt anhand konkreter Beispiele wie der Transformation des Hochschulcampus an der Flandernstraße oder dem Neubau des Landratsamts\, wie es in Esslingen um den Umgang mit dem Gebäudebestand steht. \nVeranstaltungsprogramm\nEin umfangreiches Veranstaltungsprogramm begleitet die Ausstellung. Den Auftakt bildet am Donnerstag\, 30.10.\, eine Schubkarrenprozession\, die vom Bahnhofplatz bis zum Kögel-Gebäude führt und dort in die Vernissage der Ausstellung übergeht. \nVortragsreihe „NACHSCHLAG“\nAn jedem Werktag um 12:30 Uhr gibt es die Möglichkeit\, sich mittagspausengeeignet in kompakter Form zu verschiedenen Aspekten der Bauwende zu informieren. Unter dem Motto „Nachschlag“ geben Referentinnen und Referenten z.B. Tipps zur Gebäudesanierung\, berichten über gelungene Umbau-Beispiele oder erklären\, wie das Bauen zum Klimawandel beiträgt. \n3.11.: Peter Reiner: Wie Baudenkmale zur Energiewende beitragen\n4.11.: Prof. Markus Binder: Vom zweiten Leben der Gebäude. Und vom dritten.\n5.11.: Dr. Katja Walther (Stabsstelle Nachhaltigkeit und Klimaschutz der Stadt Esslingen): Hitzevorsorge – unsere Stadt für die Zukunft gestalten\n6.11.: Josef Broll: Haustechnik muss auch funktionieren!\n7.11.: Ann-Kathrin Brodel: Wo kommen unsere Baustoffe her? \nWeitere Veranstaltungen\nAm Mittwoch\, 5.11. um 18 Uhr zeigt die Veranstaltung „WIE SCHÖN WIRD DAS DENN?!“\, wie an der Flandernstraße in alten Hochschulgebäuden ein beispielhaftes neues Wohnquartier entstehen soll.\nDen Abschluss bildet am Sonntag\, 9.11. (verkaufsoffener Sonntag)\, ein Aktionstag zur Bauwende\, mit Kurzvorträgen\, einem CO2-Quiz\, Sonderführungen durch die Ausstellung und vielem mehr. \nDie Ausstellung FIX IT! – UMBAU STATT ABRISS wurde initiiert und produziert von Architects for Future (A4F) für HouseEurope! in Kooperation mit dem Bund Deutscher Architektinnen und Architekten (BDA). Sie wurde ermöglicht durch die Allianz Foundation.\nDie Esslinger Station der Wanderausstellung wird von der A4F Ortsgruppe Esslingen kuratiert.\nIn den kommenden Monaten wird die Ausstellung u.a. auch noch in Stuttgart\, Freiburg und Tübingen zu sehen sein; jeweils mit eigenen inhaltlichen Schwerpunkten. \nOrt\nRathausplatz 14\, Esslingen\n(KÖGEL-Gebäude)\nÖffnungszeiten\nFreitag\, 31.10. – Sonntag\, 9.11.2025\n11:00 – 18:00
URL:https://wandelstadt-esslingen.de/event/aktionstag-bauwende/
LOCATION:Modehaus Kögel
CATEGORIES:Austellung,Infoveranstaltung,Kulturveranstaltung,Live-Veranstaltung
ORGANIZER;CN="Architects for Future Esslingen":MAILTO:esslingen@architects4future.de
END:VEVENT
BEGIN:VEVENT
DTSTART;TZID=Europe/Berlin:20251109T140000
DTEND;TZID=Europe/Berlin:20251109T180000
DTSTAMP:20260422T032007
CREATED:20251027T172829Z
LAST-MODIFIED:20251027T172854Z
UID:10006737-1762696800-1762711200@wandelstadt-esslingen.de
SUMMARY:Mein Leben war ein Auf-Dem-Seile-Schweben - Jüdische Deutschsprachige Lyrikerinnen des 20. Jahrhunderts
DESCRIPTION:Die Ausstellung\, erstellt im Auftrag des Träger- und Fördervereins Ehemalige Synagoge Riexingen\, befasst sich mit Leben und Werk von 15 bekannten – wie Nelly Sachs\, Rose Ausländer\, Mascha Kaléko\, Else Lasker-Schüler\, Hilde Domin – und weniger bekannten Schriftstellerinnen wie Esther Dischereit oder Lili Grün. Sie wird durch eine Vernissage eröffnet\, sowie von Vorträgen\, z.B. durch Karl-Josef Kuschel\, und einer Szenischen Lesung der WLB ergänzt. \nKOSTEN:\nFreier Eintritt \nVERANSTALTER:\nEvang. Dekanat\nEvang. Pfarramt für das christlich-\njüdische Gespräch\nFreunde Jüdischer Kultur Esslingen e.V.
URL:https://wandelstadt-esslingen.de/event/mein-leben-war-ein-auf-dem-seile-schweben-juedische-deutschsprachige-lyrikerinnen-des-20-jahrhunderts/2025-11-09/
LOCATION:Franziskanerkirche\, Franziskanergasse\, Esslingen\, 73728
CATEGORIES:Austellung
END:VEVENT
END:VCALENDAR