BEGIN:VCALENDAR
VERSION:2.0
PRODID:-//Wandelstadt Esslingen - ECPv6.15.20//NONSGML v1.0//EN
CALSCALE:GREGORIAN
METHOD:PUBLISH
X-WR-CALNAME:Wandelstadt Esslingen
X-ORIGINAL-URL:https://wandelstadt-esslingen.de
X-WR-CALDESC:Veranstaltungen für Wandelstadt Esslingen
REFRESH-INTERVAL;VALUE=DURATION:PT1H
X-Robots-Tag:noindex
X-PUBLISHED-TTL:PT1H
BEGIN:VTIMEZONE
TZID:Europe/Berlin
BEGIN:DAYLIGHT
TZOFFSETFROM:+0100
TZOFFSETTO:+0200
TZNAME:CEST
DTSTART:20240331T010000
END:DAYLIGHT
BEGIN:STANDARD
TZOFFSETFROM:+0200
TZOFFSETTO:+0100
TZNAME:CET
DTSTART:20241027T010000
END:STANDARD
BEGIN:DAYLIGHT
TZOFFSETFROM:+0100
TZOFFSETTO:+0200
TZNAME:CEST
DTSTART:20250330T010000
END:DAYLIGHT
BEGIN:STANDARD
TZOFFSETFROM:+0200
TZOFFSETTO:+0100
TZNAME:CET
DTSTART:20251026T010000
END:STANDARD
BEGIN:DAYLIGHT
TZOFFSETFROM:+0100
TZOFFSETTO:+0200
TZNAME:CEST
DTSTART:20260329T010000
END:DAYLIGHT
BEGIN:STANDARD
TZOFFSETFROM:+0200
TZOFFSETTO:+0100
TZNAME:CET
DTSTART:20261025T010000
END:STANDARD
END:VTIMEZONE
BEGIN:VEVENT
DTSTART;TZID=Europe/Berlin:20251030T090000
DTEND;TZID=Europe/Berlin:20251030T110000
DTSTAMP:20260422T013714
CREATED:20250627T221735Z
LAST-MODIFIED:20250627T221735Z
UID:10005750-1761814800-1761822000@wandelstadt-esslingen.de
SUMMARY:TAT + RAT · Senioren und Seniorinnen helfen
DESCRIPTION:Wobei wir helfen!\nWir unterstützen Sie bei anfallenden Arbeiten\, bei denen „tatkräftige Hilfe“ oder „guter Rat“ benötigt wird. \nBeispiele unserer Tätigkeiten\n▷ Reparaturen im Haushalt \n• Tropfende Wasserhähne\n• Leuchten montieren oder Leuchtmittel austauschen\n• Möbelscharniere reparieren\n• Haltegriffe montieren\n• Montage von Kleinmöbeln\n• und vieles mehr \n▷ Lösung technischer Probleme \n• Digitale Geräte wie Telefon\, Drucker\, Router\, stationärer PC etc.\n• Grundeinstellung Fernseher etc.\n• Bedienungsanleitungen erklären \n▷ Hilfe bei Formularen und beim Verfassen von Schriftstücken\n▷ Beratung wenn Sie unsicher sind\, ob \n• wenige Handgriffe ausreichen\, um das Problem zu beheben\n• ein Kundendienst gerufen werden sollte\n• eine Ersatzbeschaffung sinnvoll schein \nSie erreichen uns persönlich und telefonisch\ndonnerstags von 9 – 11 Uhr\n0711 357420\nAnrufbeantworter wird wöchentlich abgehört. \nSie erreichen uns online\ntatundrat@forum-esslingen.de\nforum-esslingen.de
URL:https://wandelstadt-esslingen.de/event/tat-rat-%c2%b7-senioren-und-seniorinnen-helfen/2025-10-30/
LOCATION:Forum Esslingen in der Schelztorstraße 38\, 73728 Esslingen\, Schelztorstraße 38\, Esslingen\, 73728\, Deutschland
END:VEVENT
BEGIN:VEVENT
DTSTART;TZID=Europe/Berlin:20251030T140000
DTEND;TZID=Europe/Berlin:20251030T160000
DTSTAMP:20260422T013714
CREATED:20251001T150340Z
LAST-MODIFIED:20251001T150340Z
UID:10006640-1761832800-1761840000@wandelstadt-esslingen.de
SUMMARY:Basketta Sterne I
DESCRIPTION:Wir basteln gemeinsam Basketta Sterne. \nAlle Materialien vorhanden. Vorbeikommen während der Workshopzeit möglich. Keine Vorkenntnisse oder vorherige Anmeldung.
URL:https://wandelstadt-esslingen.de/event/basketta-sterne-i/
LOCATION:eva’s Ottilie\, Ottilienplatz 3\, Esslingen\, 73728
ORGANIZER;CN="eva's Ottilie":MAILTO:evas-ottilie-es@eva-stuttgart.de
END:VEVENT
BEGIN:VEVENT
DTSTART;TZID=Europe/Berlin:20251030T143000
DTEND;TZID=Europe/Berlin:20251030T160000
DTSTAMP:20260422T013714
CREATED:20250922T105135Z
LAST-MODIFIED:20250922T105135Z
UID:10006572-1761834600-1761840000@wandelstadt-esslingen.de
SUMMARY:Offenes Singen
DESCRIPTION:Unter dem Motto “Gemeinsam singen macht Freu(n)de lädt der StadtSeniorenRat herzlich alle zum offenen Singen ein. Gerhard Haug begleitet am Klavier.
URL:https://wandelstadt-esslingen.de/event/offenes-singen-5/
LOCATION:Forum Esslingen in der Schelztorstraße 38\, 73728 Esslingen\, Schelztorstraße 38\, Esslingen\, 73728\, Deutschland
CATEGORIES:Kulturveranstaltung
ATTACH;FMTTYPE=image/jpeg:https://wandelstadt-esslingen.de/wp-content/uploads/2025/05/Logo-SSR.jpg
END:VEVENT
BEGIN:VEVENT
DTSTART;TZID=Europe/Berlin:20251030T150000
DTEND;TZID=Europe/Berlin:20251030T170000
DTSTAMP:20260422T013714
CREATED:20250329T050120Z
LAST-MODIFIED:20250329T050120Z
UID:10005029-1761836400-1761843600@wandelstadt-esslingen.de
SUMMARY:Gesprächskreis Aktuelles Zeitgeschehen
DESCRIPTION:Jeden Donnerstag von 15 : 00 – 17 : 00 Uhr\nOffener Treff – Gesprächskreis Aktuelles Zeitgeschehen\n In lockerer Runde und in einer Atmosphäre der gegenseitigen Toleranz und\ndes Respekts tauschen wir unsere Meinungen und Fragen hinsichtlich aktueller\nThemen (Politik\, Gesellschaft etc.) aus\, wobei wir offen für jedes Alter und jede\nKultur sind.\nVerschiedene Referent:innen und Gastteilnehmende klären zudem in unregel\nmäßigen Abständen zu speziellen Themen auf. Ebenso fließen Haltungen und\nMeinungen verschiedenster Alters- und Bevölkerungsgruppen ein.\nDiskutieren Sie mit uns – wir freuen uns auf Sie!\n Kontakt:\n Matthias Pallmert\,  gaz@mgh-es.de\nOrt: Mehrgenerationen- und Bürgerhaus\, Weilstr. 8
URL:https://wandelstadt-esslingen.de/event/gespraechskreis-aktuelles-zeitgeschehen/2025-10-30/
LOCATION:Mehrgenerationenhaus Esslingen\, Weilstraße 8\, Esslingen
END:VEVENT
BEGIN:VEVENT
DTSTART;TZID=Europe/Berlin:20251030T180000
DTEND;TZID=Europe/Berlin:20251030T193000
DTSTAMP:20260422T013714
CREATED:20230625T103140Z
LAST-MODIFIED:20260418T103221Z
UID:10006539-1761847200-1761852600@wandelstadt-esslingen.de
SUMMARY:Müllsammelspaziergang – Transition Town Esslingen & Zuzule
DESCRIPTION:Jeder kann mitmachen. Bitte per kurz über das Kontaktformular auf www.transition-town-es.de anmelden\, damit wir den Treffpunkt mitteilen können. Putzutensilien werden gestellt. Veranstalter: Transition Town Esslingen zusammen mit Zuzule
URL:https://wandelstadt-esslingen.de/event/ag-muellsammelspaziergang-5-2-2-2-2/2025-10-30/
ORGANIZER;CN="Transition Town Esslingen - Stadt im Wandel":MAILTO:kontakt@transition-town-es.de
END:VEVENT
BEGIN:VEVENT
DTSTART;TZID=Europe/Berlin:20251030T180000
DTEND;TZID=Europe/Berlin:20251030T200000
DTSTAMP:20260422T013714
CREATED:20250329T050707Z
LAST-MODIFIED:20250329T050707Z
UID:10005121-1761847200-1761854400@wandelstadt-esslingen.de
SUMMARY:Orte des Zuhörens
DESCRIPTION:Donnerstags \n18 : 00 – 20 : 00 Uhr\nOrte des Zuhörens – Caritas-Zentrum Esslingen\n Geschulte haupt- und ehrenamtliche Mitarbeiter:innen nehmen sich Zeit zum\nZuhören. Sie bieten ein offenes Ohr für alle Anliegen in sozialen und finanziellen\nFragen\, Unterstützung bei Anträgen und Bewerbungen sowie Hilfe im Umgang\nmit Behörden. Vertraulich und kostenlos!\nKontakt: Caritas Fils-Neckar-Alb\, Anniko Benedek\,  0711 3969 – 5422
URL:https://wandelstadt-esslingen.de/event/orte-des-zuhoerens/2025-10-30/
LOCATION:Caritas-Zentrum Esslingen\, Mettinger Str. 123\, Esslingen am Neckar\, 73728\, Deutschland
END:VEVENT
BEGIN:VEVENT
DTSTART;TZID=Europe/Berlin:20251030T180000
DTEND;TZID=Europe/Berlin:20251030T210000
DTSTAMP:20260422T013714
CREATED:20251027T145054Z
LAST-MODIFIED:20251027T145450Z
UID:10006721-1761847200-1761858000@wandelstadt-esslingen.de
SUMMARY:Schubkarrenprozession und Vernissage: FIX IT - Umbau statt Abriss
DESCRIPTION:Schubkarrenprozession vom Bahnhofplatz bis zum Kögel-Gebäude mit anschließender Vernissage der Ausstellung \n  \nDie Wanderausstellung FIX IT! – UMBAU STATTT ABRISS hält diesen Herbs Einzug in Esslingen. Die Ausstellung widmet sich der europäischen Bürgerinitiative HouseEurope!\, deren Ziel es ist bis Januar 2026 eine Million Unterstützer*innen zu sammeln. Für einen ökologisch und sozial nachhaltigen Bausektor\, fordert die Initiative gesetzliche Änderungen auf europäischer Ebene\, zugunsten von Sanierung und Pflege bestehender Gebäude und weniger Abriss. \n‍Als Pop-Up-Ausstellung wandert die Ausstellung FIX IT! – UMBAU STATT ABRISS ein Jahr lang durch Deutschland\, fördert den Umbau- und Demokratie-Diskurs und sammelt Unterschriften für HouseEurope!. Neben Informationen zum Instrument der Europäischen Bürgerinitiative und zu HouseEurope! werden gelungene Projekte aus dem bundesweiten Umbau-Atlas des BDA gezeigt. \nDarüber hinaus schafft die Ausstellung lokale Bezüge und fragt anhand konkreter Beispiele wie der Transformation des Hochschulcampus an der Flandernstraße oder dem Neubau des Landratsamts\, wie es in Esslingen um den Umgang mit dem Gebäudebestand steht. \nVeranstaltungsprogramm\nEin umfangreiches Veranstaltungsprogramm begleitet die Ausstellung. Den Auftakt bildet am Donnerstag\, 30.10.\, eine Schubkarrenprozession\, die vom Bahnhofplatz bis zum Kögel-Gebäude führt und dort in die Vernissage der Ausstellung übergeht. \nVortragsreihe „NACHSCHLAG“\nAn jedem Werktag um 12:30 Uhr gibt es die Möglichkeit\, sich mittagspausengeeignet in kompakter Form zu verschiedenen Aspekten der Bauwende zu informieren. Unter dem Motto „Nachschlag“ geben Referentinnen und Referenten z.B. Tipps zur Gebäudesanierung\, berichten über gelungene Umbau-Beispiele oder erklären\, wie das Bauen zum Klimawandel beiträgt. \n3.11.: Peter Reiner: Wie Baudenkmale zur Energiewende beitragen\n4.11.: Prof. Markus Binder: Vom zweiten Leben der Gebäude. Und vom dritten.\n5.11.: Dr. Katja Walther (Stabsstelle Nachhaltigkeit und Klimaschutz der Stadt Esslingen): Hitzevorsorge – unsere Stadt für die Zukunft gestalten\n6.11.: Josef Broll: Haustechnik muss auch funktionieren!\n7.11.: Ann-Kathrin Brodel: Wo kommen unsere Baustoffe her? \nWeitere Veranstaltungen\nAm Mittwoch\, 5.11. um 18 Uhr zeigt die Veranstaltung „WIE SCHÖN WIRD DAS DENN?!“\, wie an der Flandernstraße in alten Hochschulgebäuden ein beispielhaftes neues Wohnquartier entstehen soll.\nDen Abschluss bildet am Sonntag\, 9.11. (verkaufsoffener Sonntag)\, ein Aktionstag zur Bauwende\, mit Kurzvorträgen\, einem CO2-Quiz\, Sonderführungen durch die Ausstellung und vielem mehr. \nDie Ausstellung FIX IT! – UMBAU STATT ABRISS wurde initiiert und produziert von Architects for Future (A4F) für HouseEurope! in Kooperation mit dem Bund Deutscher Architektinnen und Architekten (BDA). Sie wurde ermöglicht durch die Allianz Foundation.\nDie Esslinger Station der Wanderausstellung wird von der A4F Ortsgruppe Esslingen kuratiert.\nIn den kommenden Monaten wird die Ausstellung u.a. auch noch in Stuttgart\, Freiburg und Tübingen zu sehen sein; jeweils mit eigenen inhaltlichen Schwerpunkten. \nOrt\nRathausplatz 14\, Esslingen\n(KÖGEL-Gebäude)\nÖffnungszeiten\nFreitag\, 31.10. – Sonntag\, 9.11.2025\n11:00 – 18:00
URL:https://wandelstadt-esslingen.de/event/schubkarrenprozession-und-vernissage-eroeffnung-ausstellung-fix-it/
LOCATION:Modehaus Kögel
CATEGORIES:Austellung,Infoveranstaltung,Kulturveranstaltung,Live-Veranstaltung
ORGANIZER;CN="Architects for Future Esslingen":MAILTO:esslingen@architects4future.de
END:VEVENT
BEGIN:VEVENT
DTSTART;TZID=Europe/Berlin:20251030T190000
DTEND;TZID=Europe/Berlin:20251030T190000
DTSTAMP:20260422T013714
CREATED:20240628T160749Z
LAST-MODIFIED:20240629T175416Z
UID:10003633-1761850800-1761850800@wandelstadt-esslingen.de
SUMMARY:Fahrradwerkstatt
DESCRIPTION:Wir unterstützen Dich\, wenn Dein Fahrrad nicht mehr tut was es soll.\nFalls Ihr Interesse und Bedarf an unserer Fahrradwerkstatt habt\, meldet Euch per Mail: info@komma. \nVerantwortlich für die Werkstatt ist der Motorradclub Kuhle Wampe. Sie sind ein basisdemokratisch organisierter Motorradclub mit Sitz im Komma und sie betreiben eine Zweiradwerkstatt. Jeden Donnerstag ist die Fahrradwerkstatt geöffnet – bei gutem Wetter wird möglicherweise auch gegrillt.
URL:https://wandelstadt-esslingen.de/event/fahrrad-werkstatt/2025-10-30/
LOCATION:KOMMA\, Maille 5-9\, Esslingen\, Deutschland
END:VEVENT
END:VCALENDAR