BEGIN:VCALENDAR
VERSION:2.0
PRODID:-//Wandelstadt Esslingen - ECPv6.15.20//NONSGML v1.0//EN
CALSCALE:GREGORIAN
METHOD:PUBLISH
X-WR-CALNAME:Wandelstadt Esslingen
X-ORIGINAL-URL:https://wandelstadt-esslingen.de
X-WR-CALDESC:Veranstaltungen für Wandelstadt Esslingen
REFRESH-INTERVAL;VALUE=DURATION:PT1H
X-Robots-Tag:noindex
X-PUBLISHED-TTL:PT1H
BEGIN:VTIMEZONE
TZID:Europe/Berlin
BEGIN:DAYLIGHT
TZOFFSETFROM:+0100
TZOFFSETTO:+0200
TZNAME:CEST
DTSTART:20240331T010000
END:DAYLIGHT
BEGIN:STANDARD
TZOFFSETFROM:+0200
TZOFFSETTO:+0100
TZNAME:CET
DTSTART:20241027T010000
END:STANDARD
BEGIN:DAYLIGHT
TZOFFSETFROM:+0100
TZOFFSETTO:+0200
TZNAME:CEST
DTSTART:20250330T010000
END:DAYLIGHT
BEGIN:STANDARD
TZOFFSETFROM:+0200
TZOFFSETTO:+0100
TZNAME:CET
DTSTART:20251026T010000
END:STANDARD
BEGIN:DAYLIGHT
TZOFFSETFROM:+0100
TZOFFSETTO:+0200
TZNAME:CEST
DTSTART:20260329T010000
END:DAYLIGHT
BEGIN:STANDARD
TZOFFSETFROM:+0200
TZOFFSETTO:+0100
TZNAME:CET
DTSTART:20261025T010000
END:STANDARD
END:VTIMEZONE
BEGIN:VEVENT
DTSTART;TZID=Europe/Berlin:20251026T140000
DTEND;TZID=Europe/Berlin:20251026T140000
DTSTAMP:20260422T033013
CREATED:20251023T113939Z
LAST-MODIFIED:20251023T113944Z
UID:10002873-1761487200-1761487200@wandelstadt-esslingen.de
SUMMARY:Queeres Treffen im Park
DESCRIPTION:Willkommen beim Queeren Treff im Maille Park! ☀️ \nJeden 4. Sonntag im Monat ab 14 Uhr kommen wir zusammen\, um in entspannter Atmosphäre zu plaudern\, Spiele zu spielen und vieles mehr zu erleben. \nAlle sind herzlich willkommen! 🫶 \nBitte beachtet\, dass bei regnerischem Wetter 🌧 der Treff wahrscheinlich abgesagt wird. Aktuelle Informationen dazu findet ihr auf unserem Instagram-Account QueerES e.V. \nFalls du Fragen hast oder dich nicht alleine hintraust\, kannst du dich gerne im Voraus melden. Wir freuen uns darauf\, gemeinsam Zeit zu verbringen und uns auszutauschen! 😊
URL:https://wandelstadt-esslingen.de/event/queeres-treffen-im-park-3/
LOCATION:Maillepark\, Wehrneckarstraße\, Esslingen\, 73728
CATEGORIES:Gemütliches Treffen,Vernetzungsveranstaltung
ATTACH;FMTTYPE=image/jpeg:https://wandelstadt-esslingen.de/wp-content/uploads/2024/05/IMG-20240505-WA0001-scaled.jpg
END:VEVENT
BEGIN:VEVENT
DTSTART;TZID=Europe/Berlin:20251026T150000
DTEND;TZID=Europe/Berlin:20251026T180000
DTSTAMP:20260422T033013
CREATED:20250516T204955Z
LAST-MODIFIED:20260106T170831Z
UID:10006543-1761490800-1761501600@wandelstadt-esslingen.de
SUMMARY:AG Tu was - Wochenendworkshop - Transition Town Esslingen
DESCRIPTION:Die AG Tu was trifft sich regulär einmal pro Monat donnerstags und gelegentlich auch am Wochenende\, um gemeinsam Möglichkeiten eines nachhaltigeren Lebensstils auszuprobieren. Dabei gibt es Aktionen für Kopf\, Herz und Hand. Interessierte können sich gerne über unsere Webseite www.transition-town-es.de anmelden.
URL:https://wandelstadt-esslingen.de/event/ag-tu-was-wochenendworkshop/2025-10-26/
END:VEVENT
END:VCALENDAR