BEGIN:VCALENDAR
VERSION:2.0
PRODID:-//Wandelstadt Esslingen - ECPv6.15.20//NONSGML v1.0//EN
CALSCALE:GREGORIAN
METHOD:PUBLISH
X-WR-CALNAME:Wandelstadt Esslingen
X-ORIGINAL-URL:https://wandelstadt-esslingen.de
X-WR-CALDESC:Veranstaltungen für Wandelstadt Esslingen
REFRESH-INTERVAL;VALUE=DURATION:PT1H
X-Robots-Tag:noindex
X-PUBLISHED-TTL:PT1H
BEGIN:VTIMEZONE
TZID:Europe/Berlin
BEGIN:DAYLIGHT
TZOFFSETFROM:+0100
TZOFFSETTO:+0200
TZNAME:CEST
DTSTART:20240331T010000
END:DAYLIGHT
BEGIN:STANDARD
TZOFFSETFROM:+0200
TZOFFSETTO:+0100
TZNAME:CET
DTSTART:20241027T010000
END:STANDARD
BEGIN:DAYLIGHT
TZOFFSETFROM:+0100
TZOFFSETTO:+0200
TZNAME:CEST
DTSTART:20250330T010000
END:DAYLIGHT
BEGIN:STANDARD
TZOFFSETFROM:+0200
TZOFFSETTO:+0100
TZNAME:CET
DTSTART:20251026T010000
END:STANDARD
BEGIN:DAYLIGHT
TZOFFSETFROM:+0100
TZOFFSETTO:+0200
TZNAME:CEST
DTSTART:20260329T010000
END:DAYLIGHT
BEGIN:STANDARD
TZOFFSETFROM:+0200
TZOFFSETTO:+0100
TZNAME:CET
DTSTART:20261025T010000
END:STANDARD
END:VTIMEZONE
BEGIN:VEVENT
DTSTART;TZID=Europe/Berlin:20251020T180000
DTEND;TZID=Europe/Berlin:20251020T193000
DTSTAMP:20260422T033014
CREATED:20250927T142021Z
LAST-MODIFIED:20250927T142021Z
UID:10006615-1760983200-1760988600@wandelstadt-esslingen.de
SUMMARY:Zu gut für die Tonne: Wie "Foodsharing" unsere Zukunft ernährt.
DESCRIPTION:Warum landen so viele Lebensmittel im Müll – und was können wir dagegen tun? \nIn Deutschland werden jedes Jahr Tonnen von Lebensmitteln weggeworfen. Doch es gibt Menschen\, die dem aktiv etwas entgegensetzen – zum Beispiel durch Foodsharing. \nIn diesem Vortrag erfahren Sie\, wie die Initiative Foodsharing funktioniert\, wer mitmachen kann und wie gerettete Lebensmittel sinnvoll verteilt werden. Außerdem beleuchten wir die Hauptursachen für Lebensmittelverschwendung und zeigen\, wie man mit einfachen Mitteln im Alltag bewusster einkaufen\, lagern und genießen kann. \nOb Sie sich fürs Mitmachen interessieren oder einfach nur nachhaltiger mit Lebensmitteln umgehen möchten – dieser Abend bietet wertvolle Impulse\, konkrete Tipps und Raum für Austausch. \nEin Abend für alle\, die mit kleinen Schritten Großes bewirken wollen!
URL:https://wandelstadt-esslingen.de/event/zu-gut-fuer-die-tonne-wie-foodsharing-unsere-zukunft-ernaehrt/
LOCATION:online
ORGANIZER;CN="Volkshochschule Esslingen":MAILTO:info@vhs-esslingen.de
END:VEVENT
BEGIN:VEVENT
DTSTART;TZID=Europe/Berlin:20251020T180000
DTEND;TZID=Europe/Berlin:20251020T213000
DTSTAMP:20260422T033014
CREATED:20250821T111343Z
LAST-MODIFIED:20250821T111343Z
UID:10006195-1760983200-1760995800@wandelstadt-esslingen.de
SUMMARY:Gärtnern im Stadtacker für Vielfalt und Kunst
DESCRIPTION:Der Stadtacker lädt zum gemeinsamen Gärtnern ein\, zum Austauschen\, Experimentieren und Genießen. \n  \nHier werden historische Gemüsesorten angebaut\, gemeinsam geerntet und ihr Saatgut gesichert. Gemeinsam probieren wir tradierte Anbaumethoden aus und denken den Garten als einen Ort für alle Lebewesen. Neben dem Gärtnern liegt ein starker Fokus auf künstlerischer Praxis im Garten\, traditionellen handwerklichen Techniken und einem achtsamen und wertschätzenden Miteinander. \n  \nAlle sind herzlich eingeladen mit uns zu gärtnern\, zu gestalten und zu entspannen! \n  \nWarum alte Gemüsesorten? \nAlte oder historische Gemüsesorten stammen aus der Zeit vor der Industrialisierung und unterscheiden sich oft stark von Supermarktware. Sie sind regional angepasst und meist widerstandsfähiger gegenüber Umweltbedingungen wie Trockenheit oder kargen Böden. Ihre Vielfalt an Formen und Geschmäckern bereichert Gärten und Teller. Zudem bieten sie in der Regel mehr Nährstoffe als moderne Züchtungen. \nNeben dem Gärtnern liegt auch ein starker Fokus auf künstlerischer Praxis\, traditionellen handwerklichen Techniken aus dem Garten und einer achtsamen und wertschätzenden Haltung“\, sagt Johanna Knoop\, Projektleitung des Stadtackers. „Durch das Anbauen alter Gemüsesorten wird nicht nur die Vielfalt auf den Tellern bereichert\, sondern auch ein Beitrag zum Fortbestand bedrohter Kulturpflanzen geleistet.“ \n\n\nIm Stadtacker treffen sich Menschen regelmäßig\, um gemeinsam zu gärtnern\, zu ernten und neue Rezepte auszuprobieren. Bei Workshops werden sowohl traditionelle und als auch kreative Techniken erlernt\, wie beispielsweise das Färben mit Pflanzen oder der Bau von Unterschlüpfen für Tiere. Der Stadtacker wird nicht als rein ertragsorientiertes Projekt betrachtet\, sondern als ein Experimentierfeld für gemeinsames Lernen und praktische Erfahrungen. \nDas Miteinander im Garten ist geprägt von Offenheit\, Transparenz\, Respekt\, Wertschätzung und Diskriminierungssensibilität. Ein Umfeld\, das von Genuss\, Kreativität und gegenseitiger Unterstützung geprägt ist\, in dem sich alle willkommen fühlen und sich frei entfalten können. \n\nStandort: \nDer Stadtacker befindet sich vor dem alten Gärtnerhaus (Pulverwiesen 21) mit historischem Bezug. Das Gewächshaus des Gebäudes wird für das Projekt zur Anzucht der Pflanzen wieder aktiviert und belebt. Ursprünglich baute hier der Gärtner für die Familie Merkel im 19. Jahrhundert schon Gemüse an.
URL:https://wandelstadt-esslingen.de/event/gaertnern-im-stadtacker-fuer-vielfalt-und-kunst/2025-10-20/
LOCATION:Stadtacker\, Pulverwiesen 11\, Esslingen\, 73728
CATEGORIES:Beteiligung,Infoveranstaltung,Live-Veranstaltung
END:VEVENT
BEGIN:VEVENT
DTSTART;TZID=Europe/Berlin:20251020T183000
DTEND;TZID=Europe/Berlin:20251020T183000
DTSTAMP:20260422T033014
CREATED:20250922T183102Z
LAST-MODIFIED:20260303T190526Z
UID:10006584-1760985000-1760985000@wandelstadt-esslingen.de
SUMMARY:Teamtreffen Wandelstadt Esslingen
DESCRIPTION:Du hast ein Herz für gute Nachrichten und willst zeigen\, was in Esslingen alles in Bewegung ist? Dann komm in unser Team und hilf mit\, die Good News des Wandels sichtbar zu machen!\nOb Website-Gestaltung mit WordPress\, Content pflegen\, Newsletter basteln oder Social Media bespielen – wir freuen uns über Menschen\, die Lust haben\, sich auszuprobieren oder ihr Wissen mit uns zu teilen. \nOder Du bist in Esslingen engagiert und wünschst Dir mehr Aufmerksamkeit oder helfende Hände für dein Projekt? Dann nimm gerne Kontakt mit uns auf und komme zu einem unserer Treffen! Wir freuen uns Dich kennenzulernen und gemeinsam zu überlegen\, wie wir deiner Initiative mehr Licht geben können. \nBei uns geht es um eine Kultur des Miteinanders und darum\, mit Freude etwas Sinnvolles auf die Beine zu stellen. Ehrenamt mit Herz eben. \nWir treffen uns alle zwei Wochen montagabends im Forum für Bürgerengagement\, Schelztorstr. 38. Beginn um 18:00 zu einem optionalen gemeinsamen Abendessen oder ab 18:30\, um direkt zu starten. Ende ist pünktlich um 21 Uhr. \nHast du noch Fragen? Dann schreib uns gerne eine Mail oder schau in unsere FAQ.\nDu möchtest zu einem Treffen kommen? Dann melde Dich bitte verbindlich an unter info@wandelstadt-esslingen.de \nWir freuen uns darauf\, Dich kennenzulernen! \n \n 
URL:https://wandelstadt-esslingen.de/event/teamtreffen-wandelstadt-esslingen/2025-10-20/
LOCATION:Forum Esslingen – Zentrum für Bürgerengagement\, Schelztorstraße 38\, Esslingen\, Deutschland
ORGANIZER;CN="Wandelstadt Esslingen":MAILTO:info@wandelstadt-esslingen.de
END:VEVENT
BEGIN:VEVENT
DTSTART;TZID=Europe/Berlin:20251020T190000
DTEND;TZID=Europe/Berlin:20251020T190000
DTSTAMP:20260422T033014
CREATED:20250927T141719Z
LAST-MODIFIED:20250927T141724Z
UID:10006613-1760986800-1760986800@wandelstadt-esslingen.de
SUMMARY:vhs.wissen live: FriedenspreisträgerIn des Deutschen Buchhandels 2025
DESCRIPTION:Stephan Detjen\, Hauptstadtkorrespondent des Deutschlandradios\, spricht mit dem Friedenspreisträger Karl Schlögel über dessen Leben und historischen Arbeiten\, aktuelle politische Entwicklungen und den Friedenspreis. \nDie Schauspielerin Verena Noll liest aus Schlögels Büchern. \nKarl Schlögel gilt als einer der profiliertesten Kenner Osteuropas. \nIn seinen Arbeiten verbindet er detailreiche Alltagsbeobachtungen mit einer raumbezogenen Geschichtsschreibung\, um die Kultur- und Zeitgeschichte Russlands und Osteuropas neu zu erzählen. \nVon 1990 bis 1994 war Karl Schlögel Professor für Osteuropäische Geschichte an der Universität Konstanz\, von 1994 bis zu seiner Emeritierung im Jahr 2013 an der Europa-Universität Viadrina in Frankfurt (Oder). \nEr ist vielfach ausgezeichnet\, u.a. mit dem Gerda-Henkel-Preis 2024 und zuletzt mit dem Friedenspreis des Deutschen Buchhandels. \nDie Veranstaltung findet in Kooperation mit dem Börsenvereins des Deutschen Buchhandels e.V. und der Stadt Leipzig in Zusammenarbeit mit dem Leipziger Literarischen Herbst statt.
URL:https://wandelstadt-esslingen.de/event/vhs-wissen-live-friedenspreistraegerin-des-deutschen-buchhandels-2025/
LOCATION:online
ORGANIZER;CN="Volkshochschule Esslingen":MAILTO:info@vhs-esslingen.de
END:VEVENT
BEGIN:VEVENT
DTSTART;TZID=Europe/Berlin:20251020T190000
DTEND;TZID=Europe/Berlin:20251020T210000
DTSTAMP:20260422T033014
CREATED:20241114T091015Z
LAST-MODIFIED:20241114T091015Z
UID:10004438-1760986800-1760994000@wandelstadt-esslingen.de
SUMMARY:Treffen des Bündnis für Klimagerechtigkeit
DESCRIPTION:Herzliche Einladung mit uns aktiv zu sein \nJa\, wir wollen noch mehr bewegen in Esslingen und laden Sie herzlich ein\, sich gemeinsam mit uns für den nötigen ökologischen\, ökonomischen\, sozialen und kulturellen Wandel zu engagieren. Wir freuen uns sowohl auf neue Gruppen wie auch auf Einzelpersonen\, die sich gerne einbringen möchten! \nHier vor Ort können wir in Esslingen die Veränderung leben\, die wir uns für unsere Welt wünschen. Wir treffen uns als gesamtes Bündnis in der Regel jeden zweiten Montagabend im Monat um 19 Uhr online\, um zu planen\, zu organisieren\, zu berichten und unsere Erfolge zu teilen. Herzliche Einladung an neue Mitmacher:innen uns ganz unverbindlich kennenzulernen! \n  \nIhr Kontakt zu uns: \nThomas Albrecht \ninfo@klimagerechtigkeit-esslingen.de \nwww.klimagerechtigkeit-esslingen.de
URL:https://wandelstadt-esslingen.de/event/treffen-des-buendnis-fuer-klimagerechtigkeit-6/2025-10-20/
LOCATION:Forum Esslingen – Zentrum für Bürgerengagement\, Schelztorstraße 38\, Esslingen\, Deutschland
ATTACH;FMTTYPE=image/jpeg:https://wandelstadt-esslingen.de/wp-content/uploads/2022/07/klimagerechtig-esslingen.jpg
ORGANIZER;CN="B%C3%BCndnis f%C3%BCr Klimagerechtigkeit Esslingen":MAILTO:info@klimagerechtigkeit-esslingen.de
END:VEVENT
BEGIN:VEVENT
DTSTART;TZID=Europe/Berlin:20251020T190000
DTEND;TZID=Europe/Berlin:20251020T210000
DTSTAMP:20260422T033014
CREATED:20250223T085849Z
LAST-MODIFIED:20250223T085849Z
UID:10004855-1760986800-1760994000@wandelstadt-esslingen.de
SUMMARY:Hefezopf am Abend – ein Nachbarschaftstreff!
DESCRIPTION:Mit dem „Hefezopf am Abend“ im Mehrgenerationen Bürgerhaus ist eine Plattform entstanden\, an der\nauch Menschen teilnehmen können\, die tagsüber keine Zeit haben. Hier lernen\nsich vor allem neue Bewohner:innen kennen und tauschen sich mit Pliensauvorstädter:\ninnen über die vielfältigen Themen zum Leben im Stadtteil und der Stadt\naus. Zu den Abenden werden unregelmäßig auch Akteur:innen aus dem Stadtteil\neingeladen
URL:https://wandelstadt-esslingen.de/event/hefezopf-am-abend-ein-nachbarschaftstreff/2025-10-20/
LOCATION:Mehrgenerationen- und Bürgerhaus Pliensauvorstadt\, Weilstr. 8\, Esslingen am Neckar\, Baden Württemberg\, 73734\, Deutschland
ORGANIZER;CN="F%C3%B6rderverein Pliensauvorstadt e.V.":MAILTO:fv@fv-pvs.de
END:VEVENT
END:VCALENDAR