BEGIN:VCALENDAR
VERSION:2.0
PRODID:-//Wandelstadt Esslingen - ECPv6.15.20//NONSGML v1.0//EN
CALSCALE:GREGORIAN
METHOD:PUBLISH
X-WR-CALNAME:Wandelstadt Esslingen
X-ORIGINAL-URL:https://wandelstadt-esslingen.de
X-WR-CALDESC:Veranstaltungen für Wandelstadt Esslingen
REFRESH-INTERVAL;VALUE=DURATION:PT1H
X-Robots-Tag:noindex
X-PUBLISHED-TTL:PT1H
BEGIN:VTIMEZONE
TZID:Europe/Berlin
BEGIN:DAYLIGHT
TZOFFSETFROM:+0100
TZOFFSETTO:+0200
TZNAME:CEST
DTSTART:20240331T010000
END:DAYLIGHT
BEGIN:STANDARD
TZOFFSETFROM:+0200
TZOFFSETTO:+0100
TZNAME:CET
DTSTART:20241027T010000
END:STANDARD
BEGIN:DAYLIGHT
TZOFFSETFROM:+0100
TZOFFSETTO:+0200
TZNAME:CEST
DTSTART:20250330T010000
END:DAYLIGHT
BEGIN:STANDARD
TZOFFSETFROM:+0200
TZOFFSETTO:+0100
TZNAME:CET
DTSTART:20251026T010000
END:STANDARD
BEGIN:DAYLIGHT
TZOFFSETFROM:+0100
TZOFFSETTO:+0200
TZNAME:CEST
DTSTART:20260329T010000
END:DAYLIGHT
BEGIN:STANDARD
TZOFFSETFROM:+0200
TZOFFSETTO:+0100
TZNAME:CET
DTSTART:20261025T010000
END:STANDARD
END:VTIMEZONE
BEGIN:VEVENT
DTSTART;TZID=Europe/Berlin:20251017T090000
DTEND;TZID=Europe/Berlin:20251017T110000
DTSTAMP:20260422T051115
CREATED:20250922T104306Z
LAST-MODIFIED:20250922T104306Z
UID:10006568-1760691600-1760698800@wandelstadt-esslingen.de
SUMMARY:Freitagssprechstunde
DESCRIPTION:Rufen Sie an! Vorstandsmitglieder vom StadtSeniorenRat haben von 9 bis 11 Uhr ein offenes Ohr für alle Anliegen von Seniorinnen sowie Senioren und vermitteln auch Termine bei der Esslinger Initiative zur Erstellung von Vorsorgepapieren wie Vollmachten und Patientenverfügungen: Telefon 0711 357420
URL:https://wandelstadt-esslingen.de/event/freitagssprechstunde-15/
LOCATION:Forum Esslingen in der Schelztorstraße 38\, 73728 Esslingen\, Schelztorstraße 38\, Esslingen\, 73728\, Deutschland
CATEGORIES:Infoveranstaltung
ATTACH;FMTTYPE=image/jpeg:https://wandelstadt-esslingen.de/wp-content/uploads/2025/05/Telefonieren.jpg
END:VEVENT
BEGIN:VEVENT
DTSTART;TZID=Europe/Berlin:20251017T140000
DTEND;TZID=Europe/Berlin:20251017T160000
DTSTAMP:20260422T051115
CREATED:20250424T162646Z
LAST-MODIFIED:20250424T162714Z
UID:10002547-1760709600-1760716800@wandelstadt-esslingen.de
SUMMARY:Beratung Esslinger Initiative
DESCRIPTION:Das Leben vom guten Ende her denken.\n\n\n\n\n\n\n\n\n\n\n\n\n\n\n\n\n\n\n\n\nFreitags 14 bis 16 Uhr kostenlose Beratungen der Esslinger Initiative e.V.\nAnmeldung; Fr 9-11 Uhr über Tel. 0711/357420 \nJa das ist unangenehm\, wo doch jetzt Leben dran ist. Scheint doch auch logisch zu sein es so anzugehen wie Heinz Erhardt seine Gedichte anfing „Ich fang mal mit dem Anfang an“.\n„Das Leben vom guten Ende her denken“ ist quasi das Motto der Esslinger Initiative um die es hier heute geht. Sie selbst bezeichnet sich als \n„Eine Initiative für die Wahrung von Menschenwürde und Selbstbestimmung im Alter und bei Krankheit“\, ausgehend von der Frage: „ \nWie kann das Selbstbestimmungsrecht im Alter und bei Krankheit – also in schwierigen Lebensphasen – erhalten werden?“. \nDie Esslinger Initiative … \n\nsetzt sich ein für einen menschenwürdigen Umgang mit Schwerstkranken und Sterbenden\nfördert die Verbesserung der medizinischen und pflegerischen Versorgung Schwerstkranker und Sterbender (Palliative Care)\ntritt ein für die Wahrung des Selbstbestimmungsrechts im Gesundheitswesen und in der Altenpflege\nwirbt für ihre Anliegen in öffentlichen Veranstaltungen\nbietet Beratungen zur Vorsorge an\nstellt Formulare zur Vorsorge zur Verfügung\nschult Ehrenamtliche zu kompetenten Beraterinnen und Beratern und bildet diese regelmäßig weiter\nunterstützt die Durchsetzung einer vorsorgenden Gesundheitsplanung (ACP)\n\n  \nDas besondere Angebot der Esslinger Initiative ist eine kostenlose und unabhängige Beratung zur Vorsorge\, abgestimmt auf die ganz persönliche Situation. Beratungsstellen im gesamten Landkreis Esslingen und darüber hinaus bieten diese Hilfe an.\nDas Ende geht alle an – ein Angebot an alle über 18! \nBitte vorab anmelden unter 0711/357420.
URL:https://wandelstadt-esslingen.de/event/beratung-esslinger-initiative-bitte-vorab-anmelden-2/2025-10-17/
LOCATION:Forum Esslingen – Zentrum für Bürgerengagement\, Schelztorstraße 38\, Esslingen\, Deutschland
ORGANIZER;CN="Esslinger Initiative e.V.":MAILTO:news@esslinger-initiative.de
END:VEVENT
BEGIN:VEVENT
DTSTART;TZID=Europe/Berlin:20251017T150000
DTEND;TZID=Europe/Berlin:20251017T180000
DTSTAMP:20260422T051115
CREATED:20251013T074826Z
LAST-MODIFIED:20251013T074826Z
UID:10006667-1760713200-1760724000@wandelstadt-esslingen.de
SUMMARY:Vesperbänkle kommt wieder ins ZuZule
DESCRIPTION:Verkostung leckerer vollwertiger Brotaufstriche mit dem Koch und Ernährungsberater Jens Schlagenhauf \n– ob Apfel-Zwiebel\, sonnige Tomate oder Rote Bete – \nes ist für jede*n etwas dabei und einfach immer ein Gaumenschmaus. \nJens bringt auch immer weitere Aufstrich-Überraschungen mit\, damit wir alle einen leckeren und entspannten Nachmittag im ZuZule erleben. \nDie Vesperbänkle Brotaufstriche können an diesem Tag ODER AUCH sonst bei uns zu unseren Öffnungszeiten gekauft werden. \nNeben den kleinen und großen Schätzen aus unserem Secondhand Shop eignen sich auch Jens‘ Brotaufstriche sehr gut als kleine Aufmerksamkeit für liebe Menschen zum Geburtstag\, zu Weihnachten etc.
URL:https://wandelstadt-esslingen.de/event/vesperbaenkle-kommt-wieder-ins-zuzule/
CATEGORIES:Gemütliches Treffen
ORGANIZER;CN="ZuZule":MAILTO:zuzule@mail.de
END:VEVENT
BEGIN:VEVENT
DTSTART;TZID=Europe/Berlin:20251017T153000
DTEND;TZID=Europe/Berlin:20251017T153000
DTSTAMP:20260422T051115
CREATED:20250627T213609Z
LAST-MODIFIED:20250627T213901Z
UID:10005726-1760715000-1760715000@wandelstadt-esslingen.de
SUMMARY:Drum Circle
DESCRIPTION:Die Runde wächst Stück für Stück und wir freuen uns über jeden Teilnehmer. Von Jung bis Alt\, mit und ohne Vorerfahrungen sind Alle willkommen\, die Freude haben am Rhythmus\, am gemeinsamen Musizieren und Improvisieren oder einfach Lust haben mal etwas Neues auszuprobieren und die Kraft der Musik zu erleben. Es ist einfach jedes Mal ein sehr schönes Miteinander.j
URL:https://wandelstadt-esslingen.de/event/drum-circle-2/2025-10-17/
LOCATION:Seniorenresidenz Charlottenhof\, Plochinger Straße 21-27\, Esslingen\, 73730
CATEGORIES:Kulturveranstaltung
ATTACH;FMTTYPE=image/jpeg:https://wandelstadt-esslingen.de/wp-content/uploads/2025/06/DrumCirlce.jpg
ORGANIZER;CN="Musik und Bewegung Kerstin Br%C3%A4utigam":MAILTO:k.b.MusikundBewegung@gmx.de
END:VEVENT
BEGIN:VEVENT
DTSTART;TZID=Europe/Berlin:20251017T180000
DTEND;TZID=Europe/Berlin:20251017T180000
DTSTAMP:20260422T051115
CREATED:20221010T204011Z
LAST-MODIFIED:20221010T204011Z
UID:10005586-1760724000-1760724000@wandelstadt-esslingen.de
SUMMARY:Critical Mass
DESCRIPTION:Critical Mass ist eine weltweite Fahrrad­bewegung\, um eine Alternative zum motorisi­erten Individual­verkehr aufzu­zeigen. Grundlage bildet Paragraph 27 der Straßenverkehrs-Ordnung. \nBei der Critical Mass Esslingen treffen sich jeden 3. Freitag im Monat Radfahrerinnen und Radfahrer zur gemeinsamen Fahrrad­ausfahrt durch Esslingen. Treffpunkt ist um 18:00 Uhr auf dem Bahnhofsvorplatz. Im Anschluss findet oft noch ein Erfahrungsaustausch beim „Radlerstammtisch“ statt.
URL:https://wandelstadt-esslingen.de/event/critical-mass-2/2025-10-17/
LOCATION:Bahnhofsvorplatz\, Esslingen
ORGANIZER;CN="Critical Mass":MAILTO:schugra@posteo.de
END:VEVENT
END:VCALENDAR