BEGIN:VCALENDAR
VERSION:2.0
PRODID:-//Wandelstadt Esslingen - ECPv6.15.20//NONSGML v1.0//EN
CALSCALE:GREGORIAN
METHOD:PUBLISH
X-WR-CALNAME:Wandelstadt Esslingen
X-ORIGINAL-URL:https://wandelstadt-esslingen.de
X-WR-CALDESC:Veranstaltungen für Wandelstadt Esslingen
REFRESH-INTERVAL;VALUE=DURATION:PT1H
X-Robots-Tag:noindex
X-PUBLISHED-TTL:PT1H
BEGIN:VTIMEZONE
TZID:Europe/Berlin
BEGIN:DAYLIGHT
TZOFFSETFROM:+0100
TZOFFSETTO:+0200
TZNAME:CEST
DTSTART:20240331T010000
END:DAYLIGHT
BEGIN:STANDARD
TZOFFSETFROM:+0200
TZOFFSETTO:+0100
TZNAME:CET
DTSTART:20241027T010000
END:STANDARD
BEGIN:DAYLIGHT
TZOFFSETFROM:+0100
TZOFFSETTO:+0200
TZNAME:CEST
DTSTART:20250330T010000
END:DAYLIGHT
BEGIN:STANDARD
TZOFFSETFROM:+0200
TZOFFSETTO:+0100
TZNAME:CET
DTSTART:20251026T010000
END:STANDARD
BEGIN:DAYLIGHT
TZOFFSETFROM:+0100
TZOFFSETTO:+0200
TZNAME:CEST
DTSTART:20260329T010000
END:DAYLIGHT
BEGIN:STANDARD
TZOFFSETFROM:+0200
TZOFFSETTO:+0100
TZNAME:CET
DTSTART:20261025T010000
END:STANDARD
END:VTIMEZONE
BEGIN:VEVENT
DTSTART;TZID=Europe/Berlin:20251007T143000
DTEND;TZID=Europe/Berlin:20251007T160000
DTSTAMP:20260422T051115
CREATED:20250922T104922Z
LAST-MODIFIED:20250922T104922Z
UID:10006571-1759847400-1759852800@wandelstadt-esslingen.de
SUMMARY:Offenes Singen
DESCRIPTION:Unter dem Motto “Gemeinsam singen macht Freu(n)de lädt der StadtSeniorenRat herzlich alle zum offenen Singen ein. Gerhard Haug begleitet am Klavier.
URL:https://wandelstadt-esslingen.de/event/offenes-singen-4/
LOCATION:Gemeindezentrum Hainbachtal\, Talstraße 52\, Esslingen
CATEGORIES:Kulturveranstaltung
ATTACH;FMTTYPE=image/jpeg:https://wandelstadt-esslingen.de/wp-content/uploads/2025/05/Logo-SSR.jpg
END:VEVENT
BEGIN:VEVENT
DTSTART;TZID=Europe/Berlin:20251007T150000
DTEND;TZID=Europe/Berlin:20251007T150000
DTSTAMP:20260422T051115
CREATED:20250927T140321Z
LAST-MODIFIED:20250928T114159Z
UID:10006624-1759849200-1759849200@wandelstadt-esslingen.de
SUMMARY:KOKI Special: Lore Hirrlinger trifft Leah Weigand
DESCRIPTION:Di | 07.10.2025 | 15.00 Uhr | 18:00 Uhr\n90 Minuten | FSK 0 | deutsche Originalfassung \nEin unvergesslicher Abend mit Film\, Poesie und Musik im Kommunalen Kino Esslingen. Mit Lore Hirrlinger und Leah Weigand treffen zwei engagierte\, mutige\, starke Frauen aufeinander\, die beide für ein wenig mehr WIR in unserer Gemeinschaft stehen. Leah Weigand präsentiert moderne Gedichte\, die von ihren persönlichen Erfahrungen in der Pflege und der Suche nach gelebter Menschlichkeit erzählen – berührende und inspirierende Texte wie „Ungepflegt“\, der während der Corona-Zeit viral ging. Lore Hirrlinger hat sich in ihrem 96-jährigen Leben immer für Menschen eingesetzt\, die auf Unterstützung angewiesen waren. Als Mitbegründerin der Sozialstation Esslingen legte sie den Grundstein für einen zeitgemäßen\, menschlichen Pflegeansatz in Esslingen. Ihr Engagement für ältere\, eingeschränkte und kranke Menschen sowie Menschen mit Behinderung machte sie zu einer wahren Pionierin der Pflege. \nSpieltermine\n Di | 07.10.2025 | 15.00 Uhr  \nDi | 07.10.2025 | 18.00 Uhr
URL:https://wandelstadt-esslingen.de/event/lore-hirrlinger-trifft-leah-weigand/2025-10-07/1/
LOCATION:Kommunales Kino\, Maille 4-9\, Esslingen\, 73728\, Deutschland
END:VEVENT
BEGIN:VEVENT
DTSTART;TZID=Europe/Berlin:20251007T163000
DTEND;TZID=Europe/Berlin:20251007T183000
DTSTAMP:20260422T051115
CREATED:20240819T152750Z
LAST-MODIFIED:20260201T184829Z
UID:10006553-1759854600-1759861800@wandelstadt-esslingen.de
SUMMARY:Öffnung der Nutzpflanzenbibliothek - Transition Town Esslingen
DESCRIPTION:Die Esslinger Nutzpflanzenbibliothek öffnet ihre Schatzkiste zur Ausleihe und Rückgabe als offenes Angebot in der Esslinger Stadtbücherei. Ihr findet uns im 1.OG in der Mitte. Jede*r kann Nutzer*in unserer Tomatenvielfalt werden und mithelfen die über 150 samenfesten Sorten zu erhalten. Eine Mitgliedschaft in der Stadtbücherei ist nicht erforderlich. Mehr Infos unter www.transition-town-es.de
URL:https://wandelstadt-esslingen.de/event/oeffnung-der-nutzpflanzenbibliothek/2025-10-07/
LOCATION:Stadtbibliothek\, Heugasse 9\, Esslingen\, Deutschland
ORGANIZER;CN="Transition Town Esslingen - Stadt im Wandel":MAILTO:kontakt@transition-town-es.de
END:VEVENT
BEGIN:VEVENT
DTSTART;TZID=Europe/Berlin:20251007T180000
DTEND;TZID=Europe/Berlin:20251007T180000
DTSTAMP:20260422T051115
CREATED:20250927T140321Z
LAST-MODIFIED:20250928T114159Z
UID:10006625-1759860000-1759860000@wandelstadt-esslingen.de
SUMMARY:KOKI Special: Lore Hirrlinger trifft Leah Weigand
DESCRIPTION:Di | 07.10.2025 | 15.00 Uhr | 18:00 Uhr\n90 Minuten | FSK 0 | deutsche Originalfassung \nEin unvergesslicher Abend mit Film\, Poesie und Musik im Kommunalen Kino Esslingen. Mit Lore Hirrlinger und Leah Weigand treffen zwei engagierte\, mutige\, starke Frauen aufeinander\, die beide für ein wenig mehr WIR in unserer Gemeinschaft stehen. Leah Weigand präsentiert moderne Gedichte\, die von ihren persönlichen Erfahrungen in der Pflege und der Suche nach gelebter Menschlichkeit erzählen – berührende und inspirierende Texte wie „Ungepflegt“\, der während der Corona-Zeit viral ging. Lore Hirrlinger hat sich in ihrem 96-jährigen Leben immer für Menschen eingesetzt\, die auf Unterstützung angewiesen waren. Als Mitbegründerin der Sozialstation Esslingen legte sie den Grundstein für einen zeitgemäßen\, menschlichen Pflegeansatz in Esslingen. Ihr Engagement für ältere\, eingeschränkte und kranke Menschen sowie Menschen mit Behinderung machte sie zu einer wahren Pionierin der Pflege. \nSpieltermine\n Di | 07.10.2025 | 15.00 Uhr  \nDi | 07.10.2025 | 18.00 Uhr
URL:https://wandelstadt-esslingen.de/event/lore-hirrlinger-trifft-leah-weigand/2025-10-07/2/
LOCATION:Kommunales Kino\, Maille 4-9\, Esslingen\, 73728\, Deutschland
END:VEVENT
BEGIN:VEVENT
DTSTART;TZID=Europe/Berlin:20251007T191500
DTEND;TZID=Europe/Berlin:20251007T201500
DTSTAMP:20260422T051115
CREATED:20240520T091234Z
LAST-MODIFIED:20260106T174409Z
UID:10006136-1759864500-1759868100@wandelstadt-esslingen.de
SUMMARY:Inklusive Lachyoga-Gruppe
DESCRIPTION:Lachen ist nicht nur gesund\, sondern auch ansteckend. Und genau darum geht es bei Lachyoga. Gemeinsam lachen und sich gut fühlen\, Stress abbauen und entspannen. Zudem stärkt Lachen die Gesundheit. \n\n\n\n\n\nWann:\nDienstags von 19:15 – 20:15 Uhr\nEinstieg jederzeit möglich!\nKeine Anmeldung erforderlich.\n\n\n\nFür wen:\nFür (fast) jeden geeignet\, da Lachyoga keine schwierigen körperlichen Übungen beinhaltet.\n(siehe Details zur Barrierefreiheit)\n\n\nKursleitung:\nSusanne Klaus (Lachyoga Master Trainerin\, Stuttgarter Lachschule)\n\n\nKosten:\nkeine (freiwillige Spendenbasis)\n\n\nMitzubringen:\netwas zum Trinken
URL:https://wandelstadt-esslingen.de/event/inklusive-lachyoga-gruppe/2025-10-07/
LOCATION:Forum Esslingen – Zentrum für Bürgerengagement\, Schelztorstraße 38\, Esslingen\, Deutschland
ATTACH;FMTTYPE=image/jpeg:https://wandelstadt-esslingen.de/wp-content/uploads/2024/05/Lachyoga-Gruppe_Forum-Esslingen_16-9-scaled.jpg
ORGANIZER;CN="InklusivES - Der Esslinger Stammtisch zum Thema Inklusion":MAILTO:c.lira@inklusives.de
END:VEVENT
END:VCALENDAR