BEGIN:VCALENDAR
VERSION:2.0
PRODID:-//Wandelstadt Esslingen - ECPv6.15.20//NONSGML v1.0//EN
CALSCALE:GREGORIAN
METHOD:PUBLISH
X-ORIGINAL-URL:https://wandelstadt-esslingen.de
X-WR-CALDESC:Veranstaltungen für Wandelstadt Esslingen
REFRESH-INTERVAL;VALUE=DURATION:PT1H
X-Robots-Tag:noindex
X-PUBLISHED-TTL:PT1H
BEGIN:VTIMEZONE
TZID:Europe/Berlin
BEGIN:DAYLIGHT
TZOFFSETFROM:+0100
TZOFFSETTO:+0200
TZNAME:CEST
DTSTART:20240331T010000
END:DAYLIGHT
BEGIN:STANDARD
TZOFFSETFROM:+0200
TZOFFSETTO:+0100
TZNAME:CET
DTSTART:20241027T010000
END:STANDARD
BEGIN:DAYLIGHT
TZOFFSETFROM:+0100
TZOFFSETTO:+0200
TZNAME:CEST
DTSTART:20250330T010000
END:DAYLIGHT
BEGIN:STANDARD
TZOFFSETFROM:+0200
TZOFFSETTO:+0100
TZNAME:CET
DTSTART:20251026T010000
END:STANDARD
BEGIN:DAYLIGHT
TZOFFSETFROM:+0100
TZOFFSETTO:+0200
TZNAME:CEST
DTSTART:20260329T010000
END:DAYLIGHT
BEGIN:STANDARD
TZOFFSETFROM:+0200
TZOFFSETTO:+0100
TZNAME:CET
DTSTART:20261025T010000
END:STANDARD
END:VTIMEZONE
BEGIN:VEVENT
DTSTART;TZID=Europe/Berlin:20251006T170000
DTEND;TZID=Europe/Berlin:20251006T190000
DTSTAMP:20260422T051232
CREATED:20250927T141101Z
LAST-MODIFIED:20250927T141101Z
UID:10006609-1759770000-1759777200@wandelstadt-esslingen.de
SUMMARY:Bürger-PV-Beratung
DESCRIPTION:Jetzt zum Solarpotenzial auf Ihrem Dach beraten lassen\nIn Kooperation mit der Regionalgruppe Esslingen der Teckwerke Bürgerenergie eG bietet die Klimaschutzagentur des Landkreises Esslingen Eigentümer*innen von Wohngebäuden bzw. Wohnungen wöchentlich kostengünstige Beratungen zu allen Themen und Fragestellungen rund um die Solarenergie an. \nZur Beratungsvorbereitung sind neben den Kontaktdaten verschiedene Informationen zum Objekt nötig\, die über eine webbasierte Anmeldung erfasst werden. Je vollständiger diese sind\, desto fundierter kann die Beratung erfolgen. Diese Daten werden nicht an Dritte weitergegeben. Die Buchung ist kostenpflichtig und nur kostenlos stornierbar binnen einer Woche vor der gebuchten Beratung. Je Beratung sind 55 Minuten vorgesehen\, eine Beratungseinheit kostet 70 € brutto und findet immer montags in den Räumen der Klimaschutzagentur in der Kandlerstraße 1/1 (Nebenstandort)\, 73728 Esslingen a. N. nähe Bahnhof statt. Die Bürgersolarberater wurden fachlich von den Teckwerken geschult und auch weiterhin betreut und fortgebildet. \nDie Bürger-PV-Beratung leistet folgendes: \n    Bewertung der Eignung des Hauses\n    Identifikation geeigneter Teilflächen und Ermittlung der möglichen Belegungsflächen mit PV-Modulen\n    Bewertung des zu erwartenden Ertrages\n    Abschätzung von Kosten und Wirtschaftlichkeit\, sowie Eigenverbrauch und Unabhängigkeitsgrad\n    Hinweise zu beachtender weiterer Aspekte wie Tauglichkeit des vorhandenen Zählerschrankes\, Inselbetrieb\, Notstrom und Wallbox sowie Laden mit Eigenstrom.
URL:https://wandelstadt-esslingen.de/event/buerger-pv-beratung/
LOCATION:Klimaschutzagentur des Landkreises Esslingen\, Kandlerstraße 8\, Esslingen am Neckar\, 73728
ORGANIZER;CN="Klimaschutzagentur des Landkreises Esslingen gGmbH":MAILTO:info@ksa-es.de
END:VEVENT
BEGIN:VEVENT
DTSTART;TZID=Europe/Berlin:20251006T180000
DTEND;TZID=Europe/Berlin:20251006T213000
DTSTAMP:20260422T051232
CREATED:20250821T111343Z
LAST-MODIFIED:20250821T111343Z
UID:10006193-1759773600-1759786200@wandelstadt-esslingen.de
SUMMARY:Gärtnern im Stadtacker für Vielfalt und Kunst
DESCRIPTION:Der Stadtacker lädt zum gemeinsamen Gärtnern ein\, zum Austauschen\, Experimentieren und Genießen. \n  \nHier werden historische Gemüsesorten angebaut\, gemeinsam geerntet und ihr Saatgut gesichert. Gemeinsam probieren wir tradierte Anbaumethoden aus und denken den Garten als einen Ort für alle Lebewesen. Neben dem Gärtnern liegt ein starker Fokus auf künstlerischer Praxis im Garten\, traditionellen handwerklichen Techniken und einem achtsamen und wertschätzenden Miteinander. \n  \nAlle sind herzlich eingeladen mit uns zu gärtnern\, zu gestalten und zu entspannen! \n  \nWarum alte Gemüsesorten? \nAlte oder historische Gemüsesorten stammen aus der Zeit vor der Industrialisierung und unterscheiden sich oft stark von Supermarktware. Sie sind regional angepasst und meist widerstandsfähiger gegenüber Umweltbedingungen wie Trockenheit oder kargen Böden. Ihre Vielfalt an Formen und Geschmäckern bereichert Gärten und Teller. Zudem bieten sie in der Regel mehr Nährstoffe als moderne Züchtungen. \nNeben dem Gärtnern liegt auch ein starker Fokus auf künstlerischer Praxis\, traditionellen handwerklichen Techniken aus dem Garten und einer achtsamen und wertschätzenden Haltung“\, sagt Johanna Knoop\, Projektleitung des Stadtackers. „Durch das Anbauen alter Gemüsesorten wird nicht nur die Vielfalt auf den Tellern bereichert\, sondern auch ein Beitrag zum Fortbestand bedrohter Kulturpflanzen geleistet.“ \n\n\nIm Stadtacker treffen sich Menschen regelmäßig\, um gemeinsam zu gärtnern\, zu ernten und neue Rezepte auszuprobieren. Bei Workshops werden sowohl traditionelle und als auch kreative Techniken erlernt\, wie beispielsweise das Färben mit Pflanzen oder der Bau von Unterschlüpfen für Tiere. Der Stadtacker wird nicht als rein ertragsorientiertes Projekt betrachtet\, sondern als ein Experimentierfeld für gemeinsames Lernen und praktische Erfahrungen. \nDas Miteinander im Garten ist geprägt von Offenheit\, Transparenz\, Respekt\, Wertschätzung und Diskriminierungssensibilität. Ein Umfeld\, das von Genuss\, Kreativität und gegenseitiger Unterstützung geprägt ist\, in dem sich alle willkommen fühlen und sich frei entfalten können. \n\nStandort: \nDer Stadtacker befindet sich vor dem alten Gärtnerhaus (Pulverwiesen 21) mit historischem Bezug. Das Gewächshaus des Gebäudes wird für das Projekt zur Anzucht der Pflanzen wieder aktiviert und belebt. Ursprünglich baute hier der Gärtner für die Familie Merkel im 19. Jahrhundert schon Gemüse an.
URL:https://wandelstadt-esslingen.de/event/gaertnern-im-stadtacker-fuer-vielfalt-und-kunst/2025-10-06/
LOCATION:Stadtacker\, Pulverwiesen 11\, Esslingen\, 73728
CATEGORIES:Beteiligung,Infoveranstaltung,Live-Veranstaltung
END:VEVENT
BEGIN:VEVENT
DTSTART;TZID=Europe/Berlin:20251006T183000
DTEND;TZID=Europe/Berlin:20251006T183000
DTSTAMP:20260422T051232
CREATED:20250922T183102Z
LAST-MODIFIED:20260303T190526Z
UID:10006574-1759775400-1759775400@wandelstadt-esslingen.de
SUMMARY:Teamtreffen Wandelstadt Esslingen
DESCRIPTION:Du hast ein Herz für gute Nachrichten und willst zeigen\, was in Esslingen alles in Bewegung ist? Dann komm in unser Team und hilf mit\, die Good News des Wandels sichtbar zu machen!\nOb Website-Gestaltung mit WordPress\, Content pflegen\, Newsletter basteln oder Social Media bespielen – wir freuen uns über Menschen\, die Lust haben\, sich auszuprobieren oder ihr Wissen mit uns zu teilen. \nOder Du bist in Esslingen engagiert und wünschst Dir mehr Aufmerksamkeit oder helfende Hände für dein Projekt? Dann nimm gerne Kontakt mit uns auf und komme zu einem unserer Treffen! Wir freuen uns Dich kennenzulernen und gemeinsam zu überlegen\, wie wir deiner Initiative mehr Licht geben können. \nBei uns geht es um eine Kultur des Miteinanders und darum\, mit Freude etwas Sinnvolles auf die Beine zu stellen. Ehrenamt mit Herz eben. \nWir treffen uns alle zwei Wochen montagabends im Forum für Bürgerengagement\, Schelztorstr. 38. Beginn um 18:00 zu einem optionalen gemeinsamen Abendessen oder ab 18:30\, um direkt zu starten. Ende ist pünktlich um 21 Uhr. \nHast du noch Fragen? Dann schreib uns gerne eine Mail oder schau in unsere FAQ.\nDu möchtest zu einem Treffen kommen? Dann melde Dich bitte verbindlich an unter info@wandelstadt-esslingen.de \nWir freuen uns darauf\, Dich kennenzulernen! \n \n 
URL:https://wandelstadt-esslingen.de/event/teamtreffen-wandelstadt-esslingen/2025-10-06/
LOCATION:Forum Esslingen – Zentrum für Bürgerengagement\, Schelztorstraße 38\, Esslingen\, Deutschland
ORGANIZER;CN="Wandelstadt Esslingen":MAILTO:info@wandelstadt-esslingen.de
END:VEVENT
BEGIN:VEVENT
DTSTART;TZID=Europe/Berlin:20251006T190000
DTEND;TZID=Europe/Berlin:20251006T210000
DTSTAMP:20260422T051232
CREATED:20250927T125854Z
LAST-MODIFIED:20250927T125854Z
UID:10006602-1759777200-1759784400@wandelstadt-esslingen.de
SUMMARY:Esslingen aufs Rad
DESCRIPTION:öffentliche Sitzung\, Neues zum Radaktivismus in Esslingen
URL:https://wandelstadt-esslingen.de/event/esslingen-aufs-rad-4/
LOCATION:Forum Esslingen in der Schelztorstraße 38\, 73728 Esslingen\, Schelztorstraße 38\, Esslingen\, 73728\, Deutschland
END:VEVENT
END:VCALENDAR