BEGIN:VCALENDAR
VERSION:2.0
PRODID:-//Wandelstadt Esslingen - ECPv6.15.20//NONSGML v1.0//EN
CALSCALE:GREGORIAN
METHOD:PUBLISH
X-WR-CALNAME:Wandelstadt Esslingen
X-ORIGINAL-URL:https://wandelstadt-esslingen.de
X-WR-CALDESC:Veranstaltungen für Wandelstadt Esslingen
REFRESH-INTERVAL;VALUE=DURATION:PT1H
X-Robots-Tag:noindex
X-PUBLISHED-TTL:PT1H
BEGIN:VTIMEZONE
TZID:Europe/Berlin
BEGIN:DAYLIGHT
TZOFFSETFROM:+0100
TZOFFSETTO:+0200
TZNAME:CEST
DTSTART:20240331T010000
END:DAYLIGHT
BEGIN:STANDARD
TZOFFSETFROM:+0200
TZOFFSETTO:+0100
TZNAME:CET
DTSTART:20241027T010000
END:STANDARD
BEGIN:DAYLIGHT
TZOFFSETFROM:+0100
TZOFFSETTO:+0200
TZNAME:CEST
DTSTART:20250330T010000
END:DAYLIGHT
BEGIN:STANDARD
TZOFFSETFROM:+0200
TZOFFSETTO:+0100
TZNAME:CET
DTSTART:20251026T010000
END:STANDARD
BEGIN:DAYLIGHT
TZOFFSETFROM:+0100
TZOFFSETTO:+0200
TZNAME:CEST
DTSTART:20260329T010000
END:DAYLIGHT
BEGIN:STANDARD
TZOFFSETFROM:+0200
TZOFFSETTO:+0100
TZNAME:CET
DTSTART:20261025T010000
END:STANDARD
END:VTIMEZONE
BEGIN:VEVENT
DTSTART;VALUE=DATE:20250711
DTEND;VALUE=DATE:20251006
DTSTAMP:20260422T071513
CREATED:20250821T110752Z
LAST-MODIFIED:20250821T110752Z
UID:10006186-1752192000-1759708799@wandelstadt-esslingen.de
SUMMARY:(K)eine Pause - Ausruhen im digitalen Zeitalter
DESCRIPTION:In unserer durchgetakteten Welt geht oft verloren\, was eigentlich grundlegend ist: echte Pausen. Die Ausstellung (K)eine Pause – Ausruhen im digitalen Zeitalter zeigt in zehn internationalen künstlerischen Positionen\, wie sehr unsere Lebensrealität vom ständigen Funktionieren geprägt ist – und schafft bewusst Räume für Ruhe\, Achtsamkeit und Innehalten. \nZwei Leitgedanken stehen dabei im Zentrum: Die Digitalisierung greift tief in unseren Alltag ein – Apps\, Posts\, Gesundheitsdaten und permanente Erreichbarkeit fordern unsere Aufmerksamkeit rund um die Uhr. Gleichzeitig ist Ausruhen längst nicht für alle selbstverständlich: Wer sich eine Pause leisten kann\, hängt oft von finanziellen Mitteln\, sozialer Absicherung und dem Zugang zu geschützten Räumen ab. \nDie Ausstellung lädt dazu ein\, über diese Ungleichheiten nachzudenken – und die Pause als Notwendigkeit\, aber auch als politisches Statement neu zu entdecken. \nAusstellende Künstler: Caline Aoun\, Patrizio Di Massimo\, Jeppe Hein\, Judith Hopf\, Moritz Jekat\, Anna Jermolaewa\, Thomas Liu Le Lann\, Martin Parr\, Sophie Utikal\, Bill Viola\, Wiktoria
URL:https://wandelstadt-esslingen.de/event/keine-pause-ausruhen-im-digitalen-zeitalter/
LOCATION:Villa Merkel\, Pulverwiesen 25\, Esslingen\, 73726\, Deutschland
CATEGORIES:Austellung,Kulturveranstaltung
END:VEVENT
BEGIN:VEVENT
DTSTART;TZID=Europe/Berlin:20250919T080000
DTEND;TZID=Europe/Berlin:20250919T170000
DTSTAMP:20260422T071513
CREATED:20250821T105856Z
LAST-MODIFIED:20250821T105856Z
UID:10006184-1758268800-1758301200@wandelstadt-esslingen.de
SUMMARY:walk\, meet and eat
DESCRIPTION:Schwerpunkt der diesjährigen Bundesengagementwoche „Engagement macht stark“ ist das Thema Einsamkeit. Das bürgerschaftliche Engagement kann Einsamkeitsspiralen durchbrechen und zwischenmenschliche Verbindungen schaffen. In diesem Rahmen bietet die Esslinger Freiwilligenagentur gemeinsam mit der Stadt Esslingen das Projekt „walk\, meet and eat“ an:\nAuf einem Spaziergang soll die Esslinger Engagement-Landschaft besser kennengelernt werden. Die Tour führt durch fünf spannende Stationen in Esslingen\, bei denen Einblicke in verschiedene ehrenamtliche Tätigkeiten erhalten werden sowie Ansprechpersonen vor Ort kennengelernt werden.\nEingeladen sind alle\, die sich über ein Engagement informieren und sich austauschen und vernetzen wollen. \nSTATION 1: 17 Uhr . Schelztorstraße 38\nForum – Zentrum für Bürgerengagement\nSTATION 2: 18 Uhr . Berlinerstraße 27\nDiakonisches Beratungszentrum\nSTATION 3: 18:45 Uhr . Sirnauer Straße 7\nCarisatt Tafel\nSTATION 4: 19:15 Uhr . Franziskanergasse 7\nZAK (Zentrum für Arbeit und Kommunikation)\nSTATION 5: 20 Uhr . Milchstraße 17\nMakerspace / Linuxcafe – Fingerbüfett und Ende der Tour\nAnmeldung: zusammen@esslingen.de oder unter 0711 3512-3406 (bis spätestens 12.09.2025)\nDie Teilnehmendenzahl ist auf 30 Personen begrenzt. Nähere Informationen im Flyer oder unter https://www.esslingen.de/walk-meet-eat
URL:https://wandelstadt-esslingen.de/event/walk-meet-and-eat/
LOCATION:Forum Esslingen\, Schelztorstraße 38\, Esslingen\, 73728
CATEGORIES:Infoveranstaltung
END:VEVENT
BEGIN:VEVENT
DTSTART;TZID=Europe/Berlin:20250919T090000
DTEND;TZID=Europe/Berlin:20250919T110000
DTSTAMP:20260422T071513
CREATED:20250822T083855Z
LAST-MODIFIED:20250822T083855Z
UID:10006457-1758272400-1758279600@wandelstadt-esslingen.de
SUMMARY:Freitagssprechstunde
DESCRIPTION:Rufen Sie an! Vorstandsmitglieder vom StadtSeniorenRat haben von 9 bis 11 Uhr ein offenes Ohr für alle Anliegen von Seniorinnen sowie Senioren und vermitteln auch Termine bei der Esslinger Initiative zur Erstellung von Vorsorgepapieren wie Vollmachten und Patientenverfügungen: Telefon 0711 357420 \n 
URL:https://wandelstadt-esslingen.de/event/freitagssprechstunde-12/
LOCATION:Forum Esslingen in der Schelztorstraße 38\, 73728 Esslingen\, Schelztorstraße 38\, Esslingen\, 73728\, Deutschland
CATEGORIES:Infoveranstaltung
ATTACH;FMTTYPE=image/jpeg:https://wandelstadt-esslingen.de/wp-content/uploads/2025/05/Telefonieren.jpg
END:VEVENT
BEGIN:VEVENT
DTSTART;TZID=Europe/Berlin:20250919T140000
DTEND;TZID=Europe/Berlin:20250919T160000
DTSTAMP:20260422T071513
CREATED:20250424T162646Z
LAST-MODIFIED:20250424T162714Z
UID:10002543-1758290400-1758297600@wandelstadt-esslingen.de
SUMMARY:Beratung Esslinger Initiative
DESCRIPTION:Das Leben vom guten Ende her denken.\n\n\n\n\n\n\n\n\n\n\n\n\n\n\n\n\n\n\n\n\nFreitags 14 bis 16 Uhr kostenlose Beratungen der Esslinger Initiative e.V.\nAnmeldung; Fr 9-11 Uhr über Tel. 0711/357420 \nJa das ist unangenehm\, wo doch jetzt Leben dran ist. Scheint doch auch logisch zu sein es so anzugehen wie Heinz Erhardt seine Gedichte anfing „Ich fang mal mit dem Anfang an“.\n„Das Leben vom guten Ende her denken“ ist quasi das Motto der Esslinger Initiative um die es hier heute geht. Sie selbst bezeichnet sich als \n„Eine Initiative für die Wahrung von Menschenwürde und Selbstbestimmung im Alter und bei Krankheit“\, ausgehend von der Frage: „ \nWie kann das Selbstbestimmungsrecht im Alter und bei Krankheit – also in schwierigen Lebensphasen – erhalten werden?“. \nDie Esslinger Initiative … \n\nsetzt sich ein für einen menschenwürdigen Umgang mit Schwerstkranken und Sterbenden\nfördert die Verbesserung der medizinischen und pflegerischen Versorgung Schwerstkranker und Sterbender (Palliative Care)\ntritt ein für die Wahrung des Selbstbestimmungsrechts im Gesundheitswesen und in der Altenpflege\nwirbt für ihre Anliegen in öffentlichen Veranstaltungen\nbietet Beratungen zur Vorsorge an\nstellt Formulare zur Vorsorge zur Verfügung\nschult Ehrenamtliche zu kompetenten Beraterinnen und Beratern und bildet diese regelmäßig weiter\nunterstützt die Durchsetzung einer vorsorgenden Gesundheitsplanung (ACP)\n\n  \nDas besondere Angebot der Esslinger Initiative ist eine kostenlose und unabhängige Beratung zur Vorsorge\, abgestimmt auf die ganz persönliche Situation. Beratungsstellen im gesamten Landkreis Esslingen und darüber hinaus bieten diese Hilfe an.\nDas Ende geht alle an – ein Angebot an alle über 18! \nBitte vorab anmelden unter 0711/357420.
URL:https://wandelstadt-esslingen.de/event/beratung-esslinger-initiative-bitte-vorab-anmelden-2/2025-09-19/
LOCATION:Forum Esslingen – Zentrum für Bürgerengagement\, Schelztorstraße 38\, Esslingen\, Deutschland
ORGANIZER;CN="Esslinger Initiative e.V.":MAILTO:news@esslinger-initiative.de
END:VEVENT
BEGIN:VEVENT
DTSTART;TZID=Europe/Berlin:20250919T143000
DTEND;TZID=Europe/Berlin:20250919T180000
DTSTAMP:20260422T071513
CREATED:20250822T084440Z
LAST-MODIFIED:20250822T084440Z
UID:10006460-1758292200-1758304800@wandelstadt-esslingen.de
SUMMARY:Waldführung: Berkheimer Waldgeschichte
DESCRIPTION:Im Rahmen des „Waldfühlprogramms“ im Landkreis Esslingen finden auch im Esslinger Forst Führungen statt. \nAm Freitag\, 19. September\, können Sie den Esslinger Stadtförster Ingo Hanak in den Berkheimer Wald begleiten. Ab 14:30 Uhr verrät er den Teilnehmenden\, warum der Esslinger Stadtwald von Berkheimern bewacht werden musste\, wieso man zittert wie Espenlaub und woher das Spächele seinen Namen hat. \nZur Teilnahme an der Waldführung wird um Anmeldung per E-Mail gebeten.
URL:https://wandelstadt-esslingen.de/event/waldfuehrung-berkheimer-waldgeschichte/
LOCATION:Berkheim\, Esslingen-Berkheim
CATEGORIES:Ausflug,Infoveranstaltung,Kulturveranstaltung,Live-Veranstaltung,Wanderung
END:VEVENT
BEGIN:VEVENT
DTSTART;TZID=Europe/Berlin:20250919T180000
DTEND;TZID=Europe/Berlin:20250919T180000
DTSTAMP:20260422T071513
CREATED:20221010T204011Z
LAST-MODIFIED:20221010T204011Z
UID:10005585-1758304800-1758304800@wandelstadt-esslingen.de
SUMMARY:Critical Mass
DESCRIPTION:Critical Mass ist eine weltweite Fahrrad­bewegung\, um eine Alternative zum motorisi­erten Individual­verkehr aufzu­zeigen. Grundlage bildet Paragraph 27 der Straßenverkehrs-Ordnung. \nBei der Critical Mass Esslingen treffen sich jeden 3. Freitag im Monat Radfahrerinnen und Radfahrer zur gemeinsamen Fahrrad­ausfahrt durch Esslingen. Treffpunkt ist um 18:00 Uhr auf dem Bahnhofsvorplatz. Im Anschluss findet oft noch ein Erfahrungsaustausch beim „Radlerstammtisch“ statt.
URL:https://wandelstadt-esslingen.de/event/critical-mass-2/2025-09-19/
LOCATION:Bahnhofsvorplatz\, Esslingen
ORGANIZER;CN="Critical Mass":MAILTO:schugra@posteo.de
END:VEVENT
END:VCALENDAR