BEGIN:VCALENDAR
VERSION:2.0
PRODID:-//Wandelstadt Esslingen - ECPv6.15.20//NONSGML v1.0//EN
CALSCALE:GREGORIAN
METHOD:PUBLISH
X-ORIGINAL-URL:https://wandelstadt-esslingen.de
X-WR-CALDESC:Veranstaltungen für Wandelstadt Esslingen
REFRESH-INTERVAL;VALUE=DURATION:PT1H
X-Robots-Tag:noindex
X-PUBLISHED-TTL:PT1H
BEGIN:VTIMEZONE
TZID:Europe/Berlin
BEGIN:DAYLIGHT
TZOFFSETFROM:+0100
TZOFFSETTO:+0200
TZNAME:CEST
DTSTART:20240331T010000
END:DAYLIGHT
BEGIN:STANDARD
TZOFFSETFROM:+0200
TZOFFSETTO:+0100
TZNAME:CET
DTSTART:20241027T010000
END:STANDARD
BEGIN:DAYLIGHT
TZOFFSETFROM:+0100
TZOFFSETTO:+0200
TZNAME:CEST
DTSTART:20250330T010000
END:DAYLIGHT
BEGIN:STANDARD
TZOFFSETFROM:+0200
TZOFFSETTO:+0100
TZNAME:CET
DTSTART:20251026T010000
END:STANDARD
BEGIN:DAYLIGHT
TZOFFSETFROM:+0100
TZOFFSETTO:+0200
TZNAME:CEST
DTSTART:20260329T010000
END:DAYLIGHT
BEGIN:STANDARD
TZOFFSETFROM:+0200
TZOFFSETTO:+0100
TZNAME:CET
DTSTART:20261025T010000
END:STANDARD
END:VTIMEZONE
BEGIN:VEVENT
DTSTART;VALUE=DATE:20250711
DTEND;VALUE=DATE:20251006
DTSTAMP:20260422T070438
CREATED:20250821T110752Z
LAST-MODIFIED:20250821T110752Z
UID:10006186-1752192000-1759708799@wandelstadt-esslingen.de
SUMMARY:(K)eine Pause - Ausruhen im digitalen Zeitalter
DESCRIPTION:In unserer durchgetakteten Welt geht oft verloren\, was eigentlich grundlegend ist: echte Pausen. Die Ausstellung (K)eine Pause – Ausruhen im digitalen Zeitalter zeigt in zehn internationalen künstlerischen Positionen\, wie sehr unsere Lebensrealität vom ständigen Funktionieren geprägt ist – und schafft bewusst Räume für Ruhe\, Achtsamkeit und Innehalten. \nZwei Leitgedanken stehen dabei im Zentrum: Die Digitalisierung greift tief in unseren Alltag ein – Apps\, Posts\, Gesundheitsdaten und permanente Erreichbarkeit fordern unsere Aufmerksamkeit rund um die Uhr. Gleichzeitig ist Ausruhen längst nicht für alle selbstverständlich: Wer sich eine Pause leisten kann\, hängt oft von finanziellen Mitteln\, sozialer Absicherung und dem Zugang zu geschützten Räumen ab. \nDie Ausstellung lädt dazu ein\, über diese Ungleichheiten nachzudenken – und die Pause als Notwendigkeit\, aber auch als politisches Statement neu zu entdecken. \nAusstellende Künstler: Caline Aoun\, Patrizio Di Massimo\, Jeppe Hein\, Judith Hopf\, Moritz Jekat\, Anna Jermolaewa\, Thomas Liu Le Lann\, Martin Parr\, Sophie Utikal\, Bill Viola\, Wiktoria
URL:https://wandelstadt-esslingen.de/event/keine-pause-ausruhen-im-digitalen-zeitalter/
LOCATION:Villa Merkel\, Pulverwiesen 25\, Esslingen\, 73726\, Deutschland
CATEGORIES:Austellung,Kulturveranstaltung
END:VEVENT
BEGIN:VEVENT
DTSTART;TZID=Europe/Berlin:20250916T130000
DTEND;TZID=Europe/Berlin:20250916T170000
DTSTAMP:20260422T070438
CREATED:20250903T101029Z
LAST-MODIFIED:20250903T101029Z
UID:10006498-1758027600-1758042000@wandelstadt-esslingen.de
SUMMARY:Führung durch das historische Wasserkraftwerk
DESCRIPTION:Die Chancen und Herausforderungen der Energiewende stehen im Mittelpunkt der Kurzen Wege des Stadtseniorenrates. Nach einer Fahrt  mit der S1 nach Untertürkheim folgt eine  Führung durch das historische Wasserkraftwerk \, erbaut 1899.  Treffpunkt: 13 Uhr am ZOB\, Fahrt mit der S1 bis Untertürkheim um 13.18 Uhr\, Anmeldung: Petra Ritter 0173 376 74 59
URL:https://wandelstadt-esslingen.de/event/fuehrung-durch-das-historische-wasserkraftwerk/
LOCATION:Treffpunkt am ZOB\, Bahnhof\, Esslingen
CATEGORIES:Ausflug
ATTACH;FMTTYPE=image/jpeg:https://wandelstadt-esslingen.de/wp-content/uploads/2025/02/Logo-SSR.jpg
END:VEVENT
BEGIN:VEVENT
DTSTART;TZID=Europe/Berlin:20250916T150000
DTEND;TZID=Europe/Berlin:20250916T160000
DTSTAMP:20260422T070438
CREATED:20241225T181159Z
LAST-MODIFIED:20250830T185824Z
UID:10006484-1758034800-1758038400@wandelstadt-esslingen.de
SUMMARY:Sprechstunde für Bürgerinnen und Bürger bei Herrn Erster Bürgermeister Ingo Rust
DESCRIPTION:Herr Erster Bürgermeister Rust leitet das Dezernat für Finanzen\, Digitalisierung\, Klinikum und Öffentlichen Nahverkehr. \nWenn Sie also Anregungen\, Lob oder Kritik in den Bereichen… \n\n…städtischer Haushalt\,\n…städtische Steuern\,\n…Digitalisierung städtischer Einrichtungen\,\n…das Klinikum Esslingen\, \n…den Busverkehr in Esslingen oder \n…die städtischen Veranstaltungsstätten haben\, \n\n\nmelden Sie sich gerne zur Sprechstunde für Bürgerinnen und Bürger an. \nNeues Rathaus\n1. Stock\, Zimmer 113
URL:https://wandelstadt-esslingen.de/event/sprechstunde-fuer-buergerinnen-und-buerger-bei-herrn-erster-buergermeister-ingo-rust/2025-09-16/
LOCATION:Neues Rathaus\, Rathausplatz 2\, Esslingen am Neckar\, 73728
CATEGORIES:Beteiligung,Vernetzungsveranstaltung
END:VEVENT
BEGIN:VEVENT
DTSTART;TZID=Europe/Berlin:20250916T191500
DTEND;TZID=Europe/Berlin:20250916T201500
DTSTAMP:20260422T070438
CREATED:20240520T091234Z
LAST-MODIFIED:20260106T174409Z
UID:10006133-1758050100-1758053700@wandelstadt-esslingen.de
SUMMARY:Inklusive Lachyoga-Gruppe
DESCRIPTION:Lachen ist nicht nur gesund\, sondern auch ansteckend. Und genau darum geht es bei Lachyoga. Gemeinsam lachen und sich gut fühlen\, Stress abbauen und entspannen. Zudem stärkt Lachen die Gesundheit. \n\n\n\n\n\nWann:\nDienstags von 19:15 – 20:15 Uhr\nEinstieg jederzeit möglich!\nKeine Anmeldung erforderlich.\n\n\n\nFür wen:\nFür (fast) jeden geeignet\, da Lachyoga keine schwierigen körperlichen Übungen beinhaltet.\n(siehe Details zur Barrierefreiheit)\n\n\nKursleitung:\nSusanne Klaus (Lachyoga Master Trainerin\, Stuttgarter Lachschule)\n\n\nKosten:\nkeine (freiwillige Spendenbasis)\n\n\nMitzubringen:\netwas zum Trinken
URL:https://wandelstadt-esslingen.de/event/inklusive-lachyoga-gruppe/2025-09-16/
LOCATION:Forum Esslingen – Zentrum für Bürgerengagement\, Schelztorstraße 38\, Esslingen\, Deutschland
ATTACH;FMTTYPE=image/jpeg:https://wandelstadt-esslingen.de/wp-content/uploads/2024/05/Lachyoga-Gruppe_Forum-Esslingen_16-9-scaled.jpg
ORGANIZER;CN="InklusivES - Der Esslinger Stammtisch zum Thema Inklusion":MAILTO:c.lira@inklusives.de
END:VEVENT
END:VCALENDAR