BEGIN:VCALENDAR
VERSION:2.0
PRODID:-//Wandelstadt Esslingen - ECPv6.15.20//NONSGML v1.0//EN
CALSCALE:GREGORIAN
METHOD:PUBLISH
X-WR-CALNAME:Wandelstadt Esslingen
X-ORIGINAL-URL:https://wandelstadt-esslingen.de
X-WR-CALDESC:Veranstaltungen für Wandelstadt Esslingen
REFRESH-INTERVAL;VALUE=DURATION:PT1H
X-Robots-Tag:noindex
X-PUBLISHED-TTL:PT1H
BEGIN:VTIMEZONE
TZID:Europe/Berlin
BEGIN:DAYLIGHT
TZOFFSETFROM:+0100
TZOFFSETTO:+0200
TZNAME:CEST
DTSTART:20240331T010000
END:DAYLIGHT
BEGIN:STANDARD
TZOFFSETFROM:+0200
TZOFFSETTO:+0100
TZNAME:CET
DTSTART:20241027T010000
END:STANDARD
BEGIN:DAYLIGHT
TZOFFSETFROM:+0100
TZOFFSETTO:+0200
TZNAME:CEST
DTSTART:20250330T010000
END:DAYLIGHT
BEGIN:STANDARD
TZOFFSETFROM:+0200
TZOFFSETTO:+0100
TZNAME:CET
DTSTART:20251026T010000
END:STANDARD
BEGIN:DAYLIGHT
TZOFFSETFROM:+0100
TZOFFSETTO:+0200
TZNAME:CEST
DTSTART:20260329T010000
END:DAYLIGHT
BEGIN:STANDARD
TZOFFSETFROM:+0200
TZOFFSETTO:+0100
TZNAME:CET
DTSTART:20261025T010000
END:STANDARD
END:VTIMEZONE
BEGIN:VEVENT
DTSTART;VALUE=DATE:20250711
DTEND;VALUE=DATE:20251006
DTSTAMP:20260422T071512
CREATED:20250821T110752Z
LAST-MODIFIED:20250821T110752Z
UID:10006186-1752192000-1759708799@wandelstadt-esslingen.de
SUMMARY:(K)eine Pause - Ausruhen im digitalen Zeitalter
DESCRIPTION:In unserer durchgetakteten Welt geht oft verloren\, was eigentlich grundlegend ist: echte Pausen. Die Ausstellung (K)eine Pause – Ausruhen im digitalen Zeitalter zeigt in zehn internationalen künstlerischen Positionen\, wie sehr unsere Lebensrealität vom ständigen Funktionieren geprägt ist – und schafft bewusst Räume für Ruhe\, Achtsamkeit und Innehalten. \nZwei Leitgedanken stehen dabei im Zentrum: Die Digitalisierung greift tief in unseren Alltag ein – Apps\, Posts\, Gesundheitsdaten und permanente Erreichbarkeit fordern unsere Aufmerksamkeit rund um die Uhr. Gleichzeitig ist Ausruhen längst nicht für alle selbstverständlich: Wer sich eine Pause leisten kann\, hängt oft von finanziellen Mitteln\, sozialer Absicherung und dem Zugang zu geschützten Räumen ab. \nDie Ausstellung lädt dazu ein\, über diese Ungleichheiten nachzudenken – und die Pause als Notwendigkeit\, aber auch als politisches Statement neu zu entdecken. \nAusstellende Künstler: Caline Aoun\, Patrizio Di Massimo\, Jeppe Hein\, Judith Hopf\, Moritz Jekat\, Anna Jermolaewa\, Thomas Liu Le Lann\, Martin Parr\, Sophie Utikal\, Bill Viola\, Wiktoria
URL:https://wandelstadt-esslingen.de/event/keine-pause-ausruhen-im-digitalen-zeitalter/
LOCATION:Villa Merkel\, Pulverwiesen 25\, Esslingen\, 73726\, Deutschland
CATEGORIES:Austellung,Kulturveranstaltung
END:VEVENT
BEGIN:VEVENT
DTSTART;TZID=Europe/Berlin:20250912T090000
DTEND;TZID=Europe/Berlin:20250912T110000
DTSTAMP:20260422T071512
CREATED:20250822T083443Z
LAST-MODIFIED:20250822T083443Z
UID:10006455-1757667600-1757674800@wandelstadt-esslingen.de
SUMMARY:Freitagssprechstunde
DESCRIPTION:Rufen Sie an! Vorstandsmitglieder vom StadtSeniorenRat haben von 9 bis 11 Uhr ein offenes Ohr für alle Anliegen von Seniorinnen sowie Senioren und vermitteln auch Termine bei der Esslinger Initiative zur Erstellung von Vorsorgepapieren wie Vollmachten und Patientenverfügungen: Telefon 0711 357420 \n 
URL:https://wandelstadt-esslingen.de/event/freitagssprechstunde-11/
LOCATION:Forum Esslingen in der Schelztorstraße 38\, 73728 Esslingen\, Schelztorstraße 38\, Esslingen\, 73728\, Deutschland
CATEGORIES:Infoveranstaltung
ATTACH;FMTTYPE=image/jpeg:https://wandelstadt-esslingen.de/wp-content/uploads/2025/05/Telefonieren.jpg
END:VEVENT
BEGIN:VEVENT
DTSTART;TZID=Europe/Berlin:20250912T140000
DTEND;TZID=Europe/Berlin:20250912T160000
DTSTAMP:20260422T071512
CREATED:20250424T162646Z
LAST-MODIFIED:20250424T162714Z
UID:10002542-1757685600-1757692800@wandelstadt-esslingen.de
SUMMARY:Beratung Esslinger Initiative
DESCRIPTION:Das Leben vom guten Ende her denken.\n\n\n\n\n\n\n\n\n\n\n\n\n\n\n\n\n\n\n\n\nFreitags 14 bis 16 Uhr kostenlose Beratungen der Esslinger Initiative e.V.\nAnmeldung; Fr 9-11 Uhr über Tel. 0711/357420 \nJa das ist unangenehm\, wo doch jetzt Leben dran ist. Scheint doch auch logisch zu sein es so anzugehen wie Heinz Erhardt seine Gedichte anfing „Ich fang mal mit dem Anfang an“.\n„Das Leben vom guten Ende her denken“ ist quasi das Motto der Esslinger Initiative um die es hier heute geht. Sie selbst bezeichnet sich als \n„Eine Initiative für die Wahrung von Menschenwürde und Selbstbestimmung im Alter und bei Krankheit“\, ausgehend von der Frage: „ \nWie kann das Selbstbestimmungsrecht im Alter und bei Krankheit – also in schwierigen Lebensphasen – erhalten werden?“. \nDie Esslinger Initiative … \n\nsetzt sich ein für einen menschenwürdigen Umgang mit Schwerstkranken und Sterbenden\nfördert die Verbesserung der medizinischen und pflegerischen Versorgung Schwerstkranker und Sterbender (Palliative Care)\ntritt ein für die Wahrung des Selbstbestimmungsrechts im Gesundheitswesen und in der Altenpflege\nwirbt für ihre Anliegen in öffentlichen Veranstaltungen\nbietet Beratungen zur Vorsorge an\nstellt Formulare zur Vorsorge zur Verfügung\nschult Ehrenamtliche zu kompetenten Beraterinnen und Beratern und bildet diese regelmäßig weiter\nunterstützt die Durchsetzung einer vorsorgenden Gesundheitsplanung (ACP)\n\n  \nDas besondere Angebot der Esslinger Initiative ist eine kostenlose und unabhängige Beratung zur Vorsorge\, abgestimmt auf die ganz persönliche Situation. Beratungsstellen im gesamten Landkreis Esslingen und darüber hinaus bieten diese Hilfe an.\nDas Ende geht alle an – ein Angebot an alle über 18! \nBitte vorab anmelden unter 0711/357420.
URL:https://wandelstadt-esslingen.de/event/beratung-esslinger-initiative-bitte-vorab-anmelden-2/2025-09-12/
LOCATION:Forum Esslingen – Zentrum für Bürgerengagement\, Schelztorstraße 38\, Esslingen\, Deutschland
ORGANIZER;CN="Esslinger Initiative e.V.":MAILTO:news@esslinger-initiative.de
END:VEVENT
BEGIN:VEVENT
DTSTART;TZID=Europe/Berlin:20250912T153000
DTEND;TZID=Europe/Berlin:20250912T153000
DTSTAMP:20260422T071512
CREATED:20250627T213609Z
LAST-MODIFIED:20250627T213901Z
UID:10005725-1757691000-1757691000@wandelstadt-esslingen.de
SUMMARY:Drum Circle
DESCRIPTION:Die Runde wächst Stück für Stück und wir freuen uns über jeden Teilnehmer. Von Jung bis Alt\, mit und ohne Vorerfahrungen sind Alle willkommen\, die Freude haben am Rhythmus\, am gemeinsamen Musizieren und Improvisieren oder einfach Lust haben mal etwas Neues auszuprobieren und die Kraft der Musik zu erleben. Es ist einfach jedes Mal ein sehr schönes Miteinander.j
URL:https://wandelstadt-esslingen.de/event/drum-circle-2/2025-09-12/
LOCATION:Seniorenresidenz Charlottenhof\, Plochinger Straße 21-27\, Esslingen\, 73730
CATEGORIES:Kulturveranstaltung
ATTACH;FMTTYPE=image/jpeg:https://wandelstadt-esslingen.de/wp-content/uploads/2025/06/DrumCirlce.jpg
ORGANIZER;CN="Musik und Bewegung Kerstin Br%C3%A4utigam":MAILTO:k.b.MusikundBewegung@gmx.de
END:VEVENT
BEGIN:VEVENT
DTSTART;TZID=Europe/Berlin:20250912T160000
DTEND;TZID=Europe/Berlin:20250912T220000
DTSTAMP:20260422T071512
CREATED:20250519T180900Z
LAST-MODIFIED:20250519T180900Z
UID:10005473-1757692800-1757714400@wandelstadt-esslingen.de
SUMMARY:Onkel Oskars Garten
DESCRIPTION:Sommerfreude im Esslinger Merkelpark! ☀️ \nDer Sommer steht vor der Tür – und wir können es kaum erwarten\, den wunderschönen\, historischen Merkelpark wieder mit Leben zu füllen! Nach den Veranstaltungen smashdiggawyld und der Premiere von Ab in … Onkel Oskars Garten im letzten Jahr legen wir 2025 noch eine Schippe drauf: \nFreut euch auf eine bunte Veranstaltungsreihe von Mitte Juni bis September! Statt nur an einem Wochenende feiern wir den Sommer dieses Jahr flexibel und wetterunabhängig\, immer wieder zu den Öffnungszeiten des fuenfbisneun:\nDonnerstag\, Freitag und Samstag 16–22 Uhr sowie Sonntag 14–20 Uhr \nEuch erwartet ein vielseitiges Programm in entspannter Park-Atmosphäre: \n🎶 Musik & DJ-Sets – zum Mitswingen und Genießen📖 Lesungen & Diskussionen – für Kopf und Herz🎭 Kulturelle & interaktive Aktionen – zum Mitmachen und Staunen🏀 Sport & Spiel – für Groß und Klein☕ Feine Gastronomie – zum Abkühlen und Anstossen \nUnd das Beste: Sollte das Wetter mal nicht mitspielen\, holen wir das Programm einfach an einem anderen Tag nach – so bleibt der Sommer voller Highlights! \nKommt vorbei\, bringt Freund*innen und Familie mit\, schnappt euch eine Decke und genießt die langen Sommerabende.
URL:https://wandelstadt-esslingen.de/event/onkel-oskars-garten-3/2025-09-12/
ORGANIZER;CN="Stadtjugendring Esslingen eV.":MAILTO:info@sjr-es.de
END:VEVENT
END:VCALENDAR