BEGIN:VCALENDAR
VERSION:2.0
PRODID:-//Wandelstadt Esslingen - ECPv6.15.20//NONSGML v1.0//EN
CALSCALE:GREGORIAN
METHOD:PUBLISH
X-ORIGINAL-URL:https://wandelstadt-esslingen.de
X-WR-CALDESC:Veranstaltungen für Wandelstadt Esslingen
REFRESH-INTERVAL;VALUE=DURATION:PT1H
X-Robots-Tag:noindex
X-PUBLISHED-TTL:PT1H
BEGIN:VTIMEZONE
TZID:Europe/Berlin
BEGIN:DAYLIGHT
TZOFFSETFROM:+0100
TZOFFSETTO:+0200
TZNAME:CEST
DTSTART:20240331T010000
END:DAYLIGHT
BEGIN:STANDARD
TZOFFSETFROM:+0200
TZOFFSETTO:+0100
TZNAME:CET
DTSTART:20241027T010000
END:STANDARD
BEGIN:DAYLIGHT
TZOFFSETFROM:+0100
TZOFFSETTO:+0200
TZNAME:CEST
DTSTART:20250330T010000
END:DAYLIGHT
BEGIN:STANDARD
TZOFFSETFROM:+0200
TZOFFSETTO:+0100
TZNAME:CET
DTSTART:20251026T010000
END:STANDARD
BEGIN:DAYLIGHT
TZOFFSETFROM:+0100
TZOFFSETTO:+0200
TZNAME:CEST
DTSTART:20260329T010000
END:DAYLIGHT
BEGIN:STANDARD
TZOFFSETFROM:+0200
TZOFFSETTO:+0100
TZNAME:CET
DTSTART:20261025T010000
END:STANDARD
END:VTIMEZONE
BEGIN:VEVENT
DTSTART;VALUE=DATE:20250711
DTEND;VALUE=DATE:20251006
DTSTAMP:20260422T113531
CREATED:20250821T110752Z
LAST-MODIFIED:20250821T110752Z
UID:10006186-1752192000-1759708799@wandelstadt-esslingen.de
SUMMARY:(K)eine Pause - Ausruhen im digitalen Zeitalter
DESCRIPTION:In unserer durchgetakteten Welt geht oft verloren\, was eigentlich grundlegend ist: echte Pausen. Die Ausstellung (K)eine Pause – Ausruhen im digitalen Zeitalter zeigt in zehn internationalen künstlerischen Positionen\, wie sehr unsere Lebensrealität vom ständigen Funktionieren geprägt ist – und schafft bewusst Räume für Ruhe\, Achtsamkeit und Innehalten. \nZwei Leitgedanken stehen dabei im Zentrum: Die Digitalisierung greift tief in unseren Alltag ein – Apps\, Posts\, Gesundheitsdaten und permanente Erreichbarkeit fordern unsere Aufmerksamkeit rund um die Uhr. Gleichzeitig ist Ausruhen längst nicht für alle selbstverständlich: Wer sich eine Pause leisten kann\, hängt oft von finanziellen Mitteln\, sozialer Absicherung und dem Zugang zu geschützten Räumen ab. \nDie Ausstellung lädt dazu ein\, über diese Ungleichheiten nachzudenken – und die Pause als Notwendigkeit\, aber auch als politisches Statement neu zu entdecken. \nAusstellende Künstler: Caline Aoun\, Patrizio Di Massimo\, Jeppe Hein\, Judith Hopf\, Moritz Jekat\, Anna Jermolaewa\, Thomas Liu Le Lann\, Martin Parr\, Sophie Utikal\, Bill Viola\, Wiktoria
URL:https://wandelstadt-esslingen.de/event/keine-pause-ausruhen-im-digitalen-zeitalter/
LOCATION:Villa Merkel\, Pulverwiesen 25\, Esslingen\, 73726\, Deutschland
CATEGORIES:Austellung,Kulturveranstaltung
END:VEVENT
BEGIN:VEVENT
DTSTART;TZID=Europe/Berlin:20250720T110000
DTEND;TZID=Europe/Berlin:20250720T110000
DTSTAMP:20260422T113531
CREATED:20231024T145423Z
LAST-MODIFIED:20260218T101216Z
UID:10002058-1753009200-1753009200@wandelstadt-esslingen.de
SUMMARY:Internationales Frühstück
DESCRIPTION:Das Internationale Frühstück ist mittlerweile in Esslingen zur Institution geworden. Der Verein ADG e.V. (Interkulturelles Forum Esslingen) organisiert und gestaltet jeden 3. Sonntag im Monat Begegnungen zwischen Menschen unterschiedlicher Herkunft und Kultur. In den Räumen des Kulturzentrums Dieselstrasse treffen sich monatlich bis zu hundert bzw. jährlich über tausend Menschen in gemütlicher Atmosphäre zum Austausch. Für das Wohlergehen der Gäste sorgen engagierte Ehrenamtliche\, denen diese Begegnungen schon seit vielen Jahren am Herzen liegen. Mittlerweile organisieren diese  hier nicht nur „Brot\, Brötchen\, Butter\, Marmelade\, Kaffee und Tee“ \, sondern stellen ein vielseitiges internationales Frühstück auf die Beine. Um die Quantität des Frühstücks bezuibehalten\, sowie\, um die stetig steigende Zahl der Gäste weiterhin bewältigen zu können\, bedarf es jedoch zusätzlicher Unterstützung. Ehrenamtlich engagierte Helfer/innen sind daher nicht nur herzlich willkommen. \nJeden 3. Sonntag im Monat um 11 Uhr im Kulturzentrum Dieselstrasse! \nPreise: \n\nErwachsene: 10.-€\nKinder/Ermäßigt: 5.-€\nFamilie mit  einem Kind: 22.-€\nFamilie mit zwei Kinder: 25.-€\nAufpreis für Veranstaltungen im Rahmen des Frühstücks: 5.-€
URL:https://wandelstadt-esslingen.de/event/internationales-fruehstueck/2025-07-20/
LOCATION:Kulturzentrum Dieselstraße\, Dieselstraße 26\, Esslingen\, Deutschland
END:VEVENT
BEGIN:VEVENT
DTSTART;TZID=Europe/Berlin:20250720T110000
DTEND;TZID=Europe/Berlin:20250720T110000
DTSTAMP:20260422T113531
CREATED:20250627T214436Z
LAST-MODIFIED:20250627T214436Z
UID:10005729-1753009200-1753009200@wandelstadt-esslingen.de
SUMMARY:Summerbrunch
DESCRIPTION:Zum Abschluss von zwei Wochen Parklücke laden wir euch zu einem gemeinsamen Sommerbrunch ein – mit DJ-Sounds\, gutem Essen und Platz für alle\, von klein bis groß\, die nochmal den Sommer feiern möchten. \nEs erwartet euch ein einfaches\, vegetarisches Frühstücksbüfett mit Filterkaffee\, Tee und Orangensaft – alles gegen eine kleine Spende. Weitere warme und kalte Getränke können an der Bar erworben werden. Bei Unverträglichkeiten oder Sonderwünschen darf auch gerne eigenes Essen mitgebracht werden. Außerdem könnt ihr euch auch auf das Kaffee-Fahrrad vom Lovely Lots freuen\, das euch mit hochwertigen Kaffeekreationen versorgt. Der Stadtjugendring Esslingen versorgt uns mit einem Spielmobil\, sodass auch unter unseren kleinen Gästen keine Langeweile aufkommen kann. Für die passende Stimmung sorgt DJ Kemal Eißele mit entspannter Musik am Vormittag. Auf dem großen Platz ist genug Raum zum Sitzen\, Spielen\, Tanzen oder einfach zum Plaudern auf der Picknickdecke. \nUm eine Vorabanmeldung bis Freitag 18.7. wird gebeten\, damit wir genug Essen vorbereiten – und nichts übrig bleibt. \nAb 14 Uhr wird die Musik dann nochmal aufgedreht\, wir tanzen gemütlich in den Nachmittag und feiern gemeinsam den Abschluss von zwei Wochen Parklücke.\nKommt vorbei und stoßt noch einmal mit uns an! \nWie immer gilt: Wir feiern bei jedem Wetter. Sollte es regnen\, ziehen wir einfach in den Saal um und kreieren dort Festivalvibes.
URL:https://wandelstadt-esslingen.de/event/summerbrunch/
LOCATION:Kulturzentrum Dieselstraße\, Dieselstraße 26\, Esslingen\, Deutschland
ORGANIZER;CN="Kulturzentrum Dieselstra%C3%9Fe":MAILTO:info@dieselstrasse.de
END:VEVENT
BEGIN:VEVENT
DTSTART;TZID=Europe/Berlin:20250720T140000
DTEND;TZID=Europe/Berlin:20250720T200000
DTSTAMP:20260422T113531
CREATED:20250519T180953Z
LAST-MODIFIED:20250519T180953Z
UID:10005492-1753020000-1753041600@wandelstadt-esslingen.de
SUMMARY:Onkel Oskars Garten
DESCRIPTION:Sommerfreude im Esslinger Merkelpark! ☀️ \nDer Sommer steht vor der Tür – und wir können es kaum erwarten\, den wunderschönen\, historischen Merkelpark wieder mit Leben zu füllen! Nach den Veranstaltungen smashdiggawyld und der Premiere von Ab in … Onkel Oskars Garten im letzten Jahr legen wir 2025 noch eine Schippe drauf: \nFreut euch auf eine bunte Veranstaltungsreihe von Mitte Juni bis September! Statt nur an einem Wochenende feiern wir den Sommer dieses Jahr flexibel und wetterunabhängig\, immer wieder zu den Öffnungszeiten des fuenfbisneun:\nDonnerstag\, Freitag und Samstag 16–22 Uhr sowie Sonntag 14–20 Uhr \nEuch erwartet ein vielseitiges Programm in entspannter Park-Atmosphäre: \n🎶 Musik & DJ-Sets – zum Mitswingen und Genießen📖 Lesungen & Diskussionen – für Kopf und Herz🎭 Kulturelle & interaktive Aktionen – zum Mitmachen und Staunen🏀 Sport & Spiel – für Groß und Klein☕ Feine Gastronomie – zum Abkühlen und Anstossen \nUnd das Beste: Sollte das Wetter mal nicht mitspielen\, holen wir das Programm einfach an einem anderen Tag nach – so bleibt der Sommer voller Highlights! \nKommt vorbei\, bringt Freund*innen und Familie mit\, schnappt euch eine Decke und genießt die langen Sommerabende.
URL:https://wandelstadt-esslingen.de/event/onkel-oskars-garten-4/2025-07-20/
ORGANIZER;CN="Stadtjugendring Esslingen eV.":MAILTO:info@sjr-es.de
END:VEVENT
BEGIN:VEVENT
DTSTART;TZID=Europe/Berlin:20250720T150000
DTEND;TZID=Europe/Berlin:20250720T170000
DTSTAMP:20260422T113531
CREATED:20250516T204955Z
LAST-MODIFIED:20260106T170831Z
UID:10005677-1753023600-1753030800@wandelstadt-esslingen.de
SUMMARY:AG Tu was - Wochenendworkshop - Transition Town Esslingen
DESCRIPTION:Die AG Tu was trifft sich regulär einmal pro Monat donnerstags und gelegentlich auch am Wochenende\, um gemeinsam Möglichkeiten eines nachhaltigeren Lebensstils auszuprobieren. Dabei gibt es Aktionen für Kopf\, Herz und Hand. Interessierte können sich gerne über unsere Webseite www.transition-town-es.de anmelden.
URL:https://wandelstadt-esslingen.de/event/ag-tu-was-wochenendworkshop/2025-07-20/
END:VEVENT
END:VCALENDAR