BEGIN:VCALENDAR
VERSION:2.0
PRODID:-//Wandelstadt Esslingen - ECPv6.15.20//NONSGML v1.0//EN
CALSCALE:GREGORIAN
METHOD:PUBLISH
X-WR-CALNAME:Wandelstadt Esslingen
X-ORIGINAL-URL:https://wandelstadt-esslingen.de
X-WR-CALDESC:Veranstaltungen für Wandelstadt Esslingen
REFRESH-INTERVAL;VALUE=DURATION:PT1H
X-Robots-Tag:noindex
X-PUBLISHED-TTL:PT1H
BEGIN:VTIMEZONE
TZID:Europe/Berlin
BEGIN:DAYLIGHT
TZOFFSETFROM:+0100
TZOFFSETTO:+0200
TZNAME:CEST
DTSTART:20240331T010000
END:DAYLIGHT
BEGIN:STANDARD
TZOFFSETFROM:+0200
TZOFFSETTO:+0100
TZNAME:CET
DTSTART:20241027T010000
END:STANDARD
BEGIN:DAYLIGHT
TZOFFSETFROM:+0100
TZOFFSETTO:+0200
TZNAME:CEST
DTSTART:20250330T010000
END:DAYLIGHT
BEGIN:STANDARD
TZOFFSETFROM:+0200
TZOFFSETTO:+0100
TZNAME:CET
DTSTART:20251026T010000
END:STANDARD
BEGIN:DAYLIGHT
TZOFFSETFROM:+0100
TZOFFSETTO:+0200
TZNAME:CEST
DTSTART:20260329T010000
END:DAYLIGHT
BEGIN:STANDARD
TZOFFSETFROM:+0200
TZOFFSETTO:+0100
TZNAME:CET
DTSTART:20261025T010000
END:STANDARD
END:VTIMEZONE
BEGIN:VEVENT
DTSTART;TZID=Europe/Berlin:20250710T090000
DTEND;TZID=Europe/Berlin:20250710T110000
DTSTAMP:20260422T101232
CREATED:20250627T221735Z
LAST-MODIFIED:20250627T221735Z
UID:10005734-1752138000-1752145200@wandelstadt-esslingen.de
SUMMARY:TAT + RAT · Senioren und Seniorinnen helfen
DESCRIPTION:Wobei wir helfen!\nWir unterstützen Sie bei anfallenden Arbeiten\, bei denen „tatkräftige Hilfe“ oder „guter Rat“ benötigt wird. \nBeispiele unserer Tätigkeiten\n▷ Reparaturen im Haushalt \n• Tropfende Wasserhähne\n• Leuchten montieren oder Leuchtmittel austauschen\n• Möbelscharniere reparieren\n• Haltegriffe montieren\n• Montage von Kleinmöbeln\n• und vieles mehr \n▷ Lösung technischer Probleme \n• Digitale Geräte wie Telefon\, Drucker\, Router\, stationärer PC etc.\n• Grundeinstellung Fernseher etc.\n• Bedienungsanleitungen erklären \n▷ Hilfe bei Formularen und beim Verfassen von Schriftstücken\n▷ Beratung wenn Sie unsicher sind\, ob \n• wenige Handgriffe ausreichen\, um das Problem zu beheben\n• ein Kundendienst gerufen werden sollte\n• eine Ersatzbeschaffung sinnvoll schein \nSie erreichen uns persönlich und telefonisch\ndonnerstags von 9 – 11 Uhr\n0711 357420\nAnrufbeantworter wird wöchentlich abgehört. \nSie erreichen uns online\ntatundrat@forum-esslingen.de\nforum-esslingen.de
URL:https://wandelstadt-esslingen.de/event/tat-rat-%c2%b7-senioren-und-seniorinnen-helfen/2025-07-10/
LOCATION:Forum Esslingen in der Schelztorstraße 38\, 73728 Esslingen\, Schelztorstraße 38\, Esslingen\, 73728\, Deutschland
END:VEVENT
BEGIN:VEVENT
DTSTART;TZID=Europe/Berlin:20250710T093000
DTEND;TZID=Europe/Berlin:20250710T123000
DTSTAMP:20260422T101232
CREATED:20250624T172108Z
LAST-MODIFIED:20250624T172108Z
UID:10005690-1752139800-1752150600@wandelstadt-esslingen.de
SUMMARY:Kostenfreie und unabhängige Energieberatung
DESCRIPTION:Die Klimaschutzagentur des Landkreises Esslingen bietet in Kooperation mit der Verbraucherzentrale Baden-Württemberg unabhängige Energieberatungen im Kreis an. \nUnabhängige Informationen zu den Themen energieeffiziente Gebäudemodernisierung\, Heizungsoptimierung und Heizungstausch\, Wärmepumpen im Bestand\, Solarenergie\, Nebenkostenabrechnungen sowie Stromsparen im Haushalt sind die klassischen Themen einer Energieberatung. \nTerminvereinbarung \ntelefonisch bei der Klimaschutzagentur \nunter 0711 – 20 70 30 – 70 \nMo – Do von 09:00 – 13:00 Uhr
URL:https://wandelstadt-esslingen.de/event/kostenfreie-und-unabhaengige-energieberatung-4/
LOCATION:Klimaschutzagentur des Landkreises Esslingen\, Kandlerstraße 8\, Esslingen am Neckar\, 73728
CATEGORIES:Workshop
ORGANIZER;CN="Klimaschutzagentur des Landkreises Esslingen gGmbH":MAILTO:info@ksa-es.de
END:VEVENT
BEGIN:VEVENT
DTSTART;TZID=Europe/Berlin:20250710T140000
DTEND;TZID=Europe/Berlin:20250710T160000
DTSTAMP:20260422T101232
CREATED:20250701T112844Z
LAST-MODIFIED:20250701T112844Z
UID:10006017-1752156000-1752163200@wandelstadt-esslingen.de
SUMMARY:Karten gestalten
DESCRIPTION:Wir wollen Karten upcyceln und gestalten. Egal ob gemalt\, gezeichnet\, geklebt\, mit Schnur\, Wolle oder Glitzer gearbeitet wird. Lass deiner Kreativität freien Lauf. \nAlle Materialien vorhanden. Vorbeikommen während der Workshopzeit möglich. Keine Vorkenntnisse oder vorherige Anmeldung.
URL:https://wandelstadt-esslingen.de/event/karten-gestalten/
LOCATION:eva’s Ottilie\, Ottilienplatz 3\, Esslingen\, 73728
ORGANIZER;CN="eva's Ottilie":MAILTO:evas-ottilie-es@eva-stuttgart.de
END:VEVENT
BEGIN:VEVENT
DTSTART;TZID=Europe/Berlin:20250710T150000
DTEND;TZID=Europe/Berlin:20250710T170000
DTSTAMP:20260422T101232
CREATED:20250329T050120Z
LAST-MODIFIED:20250329T050120Z
UID:10005013-1752159600-1752166800@wandelstadt-esslingen.de
SUMMARY:Gesprächskreis Aktuelles Zeitgeschehen
DESCRIPTION:Jeden Donnerstag von 15 : 00 – 17 : 00 Uhr\nOffener Treff – Gesprächskreis Aktuelles Zeitgeschehen\n In lockerer Runde und in einer Atmosphäre der gegenseitigen Toleranz und\ndes Respekts tauschen wir unsere Meinungen und Fragen hinsichtlich aktueller\nThemen (Politik\, Gesellschaft etc.) aus\, wobei wir offen für jedes Alter und jede\nKultur sind.\nVerschiedene Referent:innen und Gastteilnehmende klären zudem in unregel\nmäßigen Abständen zu speziellen Themen auf. Ebenso fließen Haltungen und\nMeinungen verschiedenster Alters- und Bevölkerungsgruppen ein.\nDiskutieren Sie mit uns – wir freuen uns auf Sie!\n Kontakt:\n Matthias Pallmert\,  gaz@mgh-es.de\nOrt: Mehrgenerationen- und Bürgerhaus\, Weilstr. 8
URL:https://wandelstadt-esslingen.de/event/gespraechskreis-aktuelles-zeitgeschehen/2025-07-10/
LOCATION:Mehrgenerationenhaus Esslingen\, Weilstraße 8\, Esslingen
END:VEVENT
BEGIN:VEVENT
DTSTART;TZID=Europe/Berlin:20250710T150000
DTEND;TZID=Europe/Berlin:20250710T170000
DTSTAMP:20260422T101232
CREATED:20250626T085502Z
LAST-MODIFIED:20250626T085502Z
UID:10005696-1752159600-1752166800@wandelstadt-esslingen.de
SUMMARY:Vortrag “Vorsicht Betrüger!”
DESCRIPTION:Enkeltrick\, Schockanrufe\, Betrug mit WhatsApp-Nachrichten oder ein falscher Polizist\, der sich am Telefon meldet: Immer wieder werden vor allem ältere Menschen mit einer besonders hinterhältigen Form des Betruges behelligt. Und die Betrüger ändern fortwährend ihre Methode\, um die Opfer um ihr Geld zu bringen. Ralf Brenner\, Sicherheitsberater für Senioren beim Kreisseniorenrat und ehemaliger Polizeibeamter klärt über die Maschen der Täter auf. Denn wer diese nicht kennt\, läuft Gefahr darauf hereinzufallen. In diesem Vortrag erfahren Sie auch\, wie Sie sich davor schützen können. Vorsicht: Wenn die Polizei anruft\, ist niemals die Rufnummer 110 im Telefon-Display zu sehen!
URL:https://wandelstadt-esslingen.de/event/vortrag-vorsicht-betrueger/
LOCATION:Forum Esslingen in der Schelztorstraße 38\, 73728 Esslingen\, Schelztorstraße 38\, Esslingen\, 73728\, Deutschland
CATEGORIES:Infoveranstaltung
ATTACH;FMTTYPE=image/jpeg:https://wandelstadt-esslingen.de/wp-content/uploads/2025/06/old-man-6664138_640.jpg
END:VEVENT
BEGIN:VEVENT
DTSTART;TZID=Europe/Berlin:20250710T150000
DTEND;TZID=Europe/Berlin:20250710T180000
DTSTAMP:20260422T101232
CREATED:20250624T171348Z
LAST-MODIFIED:20250624T171348Z
UID:10005689-1752159600-1752170400@wandelstadt-esslingen.de
SUMMARY:Kostenfreie und unabhängige Energieberatung
DESCRIPTION:Die Klimaschutzagentur des Landkreises Esslingen bietet in Kooperation mit der Verbraucherzentrale Baden-Württemberg unabhängige Energieberatungen im Kreis an. \nUnabhängige Informationen zu den Themen energieeffiziente Gebäudemodernisierung\, Heizungsoptimierung und Heizungstausch\, Wärmepumpen im Bestand\, Solarenergie\, Nebenkostenabrechnungen sowie Stromsparen im Haushalt sind die klassischen Themen einer Energieberatung. \nTerminvereinbarung \ntelefonisch bei der Klimaschutzagentur \nunter 0711 – 20 70 30 – 70 \nMo – Do von 09:00 – 13:00 Uhr
URL:https://wandelstadt-esslingen.de/event/kostenfreie-und-unabhaengige-energieberatung-3/
LOCATION:Klimaschutzagentur des Landkreises Esslingen\, Kandlerstraße 8\, Esslingen am Neckar\, 73728
CATEGORIES:Workshop
ORGANIZER;CN="Klimaschutzagentur des Landkreises Esslingen gGmbH":MAILTO:info@ksa-es.de
END:VEVENT
BEGIN:VEVENT
DTSTART;TZID=Europe/Berlin:20250710T160000
DTEND;TZID=Europe/Berlin:20250710T220000
DTSTAMP:20260422T101232
CREATED:20250519T180826Z
LAST-MODIFIED:20250519T180826Z
UID:10005438-1752163200-1752184800@wandelstadt-esslingen.de
SUMMARY:Onkel Oskars Garten
DESCRIPTION:Sommerfreude im Esslinger Merkelpark! ☀️ \nDer Sommer steht vor der Tür – und wir können es kaum erwarten\, den wunderschönen\, historischen Merkelpark wieder mit Leben zu füllen! Nach den Veranstaltungen smashdiggawyld und der Premiere von Ab in … Onkel Oskars Garten im letzten Jahr legen wir 2025 noch eine Schippe drauf: \nFreut euch auf eine bunte Veranstaltungsreihe von Mitte Juni bis September! Statt nur an einem Wochenende feiern wir den Sommer dieses Jahr flexibel und wetterunabhängig\, immer wieder zu den Öffnungszeiten des fuenfbisneun:\nDonnerstag\, Freitag und Samstag 16–22 Uhr sowie Sonntag 14–20 Uhr \nEuch erwartet ein vielseitiges Programm in entspannter Park-Atmosphäre: \n🎶 Musik & DJ-Sets – zum Mitswingen und Genießen📖 Lesungen & Diskussionen – für Kopf und Herz🎭 Kulturelle & interaktive Aktionen – zum Mitmachen und Staunen🏀 Sport & Spiel – für Groß und Klein☕ Feine Gastronomie – zum Abkühlen und Anstossen \nUnd das Beste: Sollte das Wetter mal nicht mitspielen\, holen wir das Programm einfach an einem anderen Tag nach – so bleibt der Sommer voller Highlights! \nKommt vorbei\, bringt Freund*innen und Familie mit\, schnappt euch eine Decke und genießt die langen Sommerabende.
URL:https://wandelstadt-esslingen.de/event/onkel-oskars-garten-2/2025-07-10/
ORGANIZER;CN="Stadtjugendring Esslingen eV.":MAILTO:info@sjr-es.de
END:VEVENT
BEGIN:VEVENT
DTSTART;TZID=Europe/Berlin:20250710T180000
DTEND;TZID=Europe/Berlin:20250710T200000
DTSTAMP:20260422T101232
CREATED:20250329T050707Z
LAST-MODIFIED:20250329T050707Z
UID:10005105-1752170400-1752177600@wandelstadt-esslingen.de
SUMMARY:Orte des Zuhörens
DESCRIPTION:Donnerstags \n18 : 00 – 20 : 00 Uhr\nOrte des Zuhörens – Caritas-Zentrum Esslingen\n Geschulte haupt- und ehrenamtliche Mitarbeiter:innen nehmen sich Zeit zum\nZuhören. Sie bieten ein offenes Ohr für alle Anliegen in sozialen und finanziellen\nFragen\, Unterstützung bei Anträgen und Bewerbungen sowie Hilfe im Umgang\nmit Behörden. Vertraulich und kostenlos!\nKontakt: Caritas Fils-Neckar-Alb\, Anniko Benedek\,  0711 3969 – 5422
URL:https://wandelstadt-esslingen.de/event/orte-des-zuhoerens/2025-07-10/
LOCATION:Caritas-Zentrum Esslingen\, Mettinger Str. 123\, Esslingen am Neckar\, 73728\, Deutschland
END:VEVENT
BEGIN:VEVENT
DTSTART;TZID=Europe/Berlin:20250710T190000
DTEND;TZID=Europe/Berlin:20250710T190000
DTSTAMP:20260422T101232
CREATED:20240628T160749Z
LAST-MODIFIED:20240629T175416Z
UID:10003617-1752174000-1752174000@wandelstadt-esslingen.de
SUMMARY:Fahrradwerkstatt
DESCRIPTION:Wir unterstützen Dich\, wenn Dein Fahrrad nicht mehr tut was es soll.\nFalls Ihr Interesse und Bedarf an unserer Fahrradwerkstatt habt\, meldet Euch per Mail: info@komma. \nVerantwortlich für die Werkstatt ist der Motorradclub Kuhle Wampe. Sie sind ein basisdemokratisch organisierter Motorradclub mit Sitz im Komma und sie betreiben eine Zweiradwerkstatt. Jeden Donnerstag ist die Fahrradwerkstatt geöffnet – bei gutem Wetter wird möglicherweise auch gegrillt.
URL:https://wandelstadt-esslingen.de/event/fahrrad-werkstatt/2025-07-10/
LOCATION:KOMMA\, Maille 5-9\, Esslingen\, Deutschland
END:VEVENT
BEGIN:VEVENT
DTSTART;TZID=Europe/Berlin:20250710T200000
DTEND;TZID=Europe/Berlin:20250710T214500
DTSTAMP:20260422T101232
CREATED:20250526T152527Z
LAST-MODIFIED:20250526T152527Z
UID:10005537-1752177600-1752183900@wandelstadt-esslingen.de
SUMMARY:Kein Land - Theater
DESCRIPTION:Du musst dringend zum Friseur.\n\n\n\nEine kleine Insel in den Malediven\, die der Flut nur noch dank des Mülls zu widerstehen vermag – denn sie besteht aus eben diesem Müll. Adrian und Jesolo bauen als die letzten Menschen am Müllberg weiter\, recyceln Brauchbares und verbrennen den Rest. \nDie beiden kennen die Welt nur aus der Perspektive ihres abgelegenen Eilands. Sie führen eine – auch sprachlich – eher kümmerliche\, ja absurde Existenz. Eines Tages findet Jesolo ein „Gummiding“\, ein Gummiboot\, das sich als potentielles Bett nutzen ließe\, das aber auch zum Objekt einer Utopie wird: Man könnte damit nach Amerika reisen. Mit der nächsten Fähre kommt ein verirrtes Touristen-Pärchen an\, das eigentlich nur ein paar Cocktails am Strand der Malediven trinken wollte. Nun wollen sie schleunigst wieder weg. Das gelingt ihnen\, indem sie die Naivität der Inselbewohner mit der touristentypischen Rücksichtslosigkeit ausnutzen\, und damit deren Ressourcen endgültig zerstören. Egoismus und Nachhaltigkeit funktionieren eben nicht nebeneinander. \nDer zweite Teil des Stücks macht einen Zeitsprung: Eine Erlebnis-Ausstellung in naher Zukunft widmet sich der Erinnerung an die Malediven. Ein Guide erläutert einer Besucherin\, wie eine paradiesische Lagune zur größten Müllkippe der Region wurde\, wie das Klima sich veränderte und schließlich das Meer die gesamte Inselgruppe verschluckte. Originale Artefakte zeugen von der damaligen Zeit: Chipstüten\, Rollkoffer\, ein löchriges Gummiboot … \nDie Müllinsel Thilafushi gibt es tatsächlich seit 1992\, sie gilt als größte Müllinsel der Welt. Magdalena Schrefel entwirft mit „Keinland“ eine groteske Welt\, in der die Folgen des Klimawandels und der Umweltverschmutzung bereits Realität geworden sind. Eine Zukunftsvision ohne moralinsauren Naturalismus\, voller Komik und Sprachwitz und ausgesucht schrägen Situationen. \n——— \nDie Esslinger Zeitung schreibt über die Premiere: „Müll\, Meer\, Malediven: Endspiel mit Klimawandel. In Magdalena Schrefels absurdem Realdrama „Keinland“ ist an vielen Stellen der Erde kein Land mehr\, weil der Meeresspiegel gestiegen ist. Laura Tetzlaff hat das auf einer Müllinsel spielende Stück an der Esslinger Landesbühne inszeniert.“ \nDer vollständige Artikel ist in der Online-Ausgabe der Esslinger Zeitung nachzulesen.
URL:https://wandelstadt-esslingen.de/event/kein-land-theater-5/
LOCATION:Württembergische Landesbühne – Schauspielhaus mit Podium 1 & 2\, Ritterstraße 11\, Esslingen\, Deutschland
CATEGORIES:Kulturveranstaltung
END:VEVENT
END:VCALENDAR