BEGIN:VCALENDAR
VERSION:2.0
PRODID:-//Wandelstadt Esslingen - ECPv6.15.20//NONSGML v1.0//EN
CALSCALE:GREGORIAN
METHOD:PUBLISH
X-WR-CALNAME:Wandelstadt Esslingen
X-ORIGINAL-URL:https://wandelstadt-esslingen.de
X-WR-CALDESC:Veranstaltungen für Wandelstadt Esslingen
REFRESH-INTERVAL;VALUE=DURATION:PT1H
X-Robots-Tag:noindex
X-PUBLISHED-TTL:PT1H
BEGIN:VTIMEZONE
TZID:Europe/Berlin
BEGIN:DAYLIGHT
TZOFFSETFROM:+0100
TZOFFSETTO:+0200
TZNAME:CEST
DTSTART:20240331T010000
END:DAYLIGHT
BEGIN:STANDARD
TZOFFSETFROM:+0200
TZOFFSETTO:+0100
TZNAME:CET
DTSTART:20241027T010000
END:STANDARD
BEGIN:DAYLIGHT
TZOFFSETFROM:+0100
TZOFFSETTO:+0200
TZNAME:CEST
DTSTART:20250330T010000
END:DAYLIGHT
BEGIN:STANDARD
TZOFFSETFROM:+0200
TZOFFSETTO:+0100
TZNAME:CET
DTSTART:20251026T010000
END:STANDARD
BEGIN:DAYLIGHT
TZOFFSETFROM:+0100
TZOFFSETTO:+0200
TZNAME:CEST
DTSTART:20260329T010000
END:DAYLIGHT
BEGIN:STANDARD
TZOFFSETFROM:+0200
TZOFFSETTO:+0100
TZNAME:CET
DTSTART:20261025T010000
END:STANDARD
END:VTIMEZONE
BEGIN:VEVENT
DTSTART;TZID=Europe/Berlin:20250703T090000
DTEND;TZID=Europe/Berlin:20250703T110000
DTSTAMP:20260424T124731
CREATED:20250627T221735Z
LAST-MODIFIED:20250627T221735Z
UID:10005733-1751533200-1751540400@wandelstadt-esslingen.de
SUMMARY:TAT + RAT · Senioren und Seniorinnen helfen
DESCRIPTION:Wobei wir helfen!\nWir unterstützen Sie bei anfallenden Arbeiten\, bei denen „tatkräftige Hilfe“ oder „guter Rat“ benötigt wird. \nBeispiele unserer Tätigkeiten\n▷ Reparaturen im Haushalt \n• Tropfende Wasserhähne\n• Leuchten montieren oder Leuchtmittel austauschen\n• Möbelscharniere reparieren\n• Haltegriffe montieren\n• Montage von Kleinmöbeln\n• und vieles mehr \n▷ Lösung technischer Probleme \n• Digitale Geräte wie Telefon\, Drucker\, Router\, stationärer PC etc.\n• Grundeinstellung Fernseher etc.\n• Bedienungsanleitungen erklären \n▷ Hilfe bei Formularen und beim Verfassen von Schriftstücken\n▷ Beratung wenn Sie unsicher sind\, ob \n• wenige Handgriffe ausreichen\, um das Problem zu beheben\n• ein Kundendienst gerufen werden sollte\n• eine Ersatzbeschaffung sinnvoll schein \nSie erreichen uns persönlich und telefonisch\ndonnerstags von 9 – 11 Uhr\n0711 357420\nAnrufbeantworter wird wöchentlich abgehört. \nSie erreichen uns online\ntatundrat@forum-esslingen.de\nforum-esslingen.de
URL:https://wandelstadt-esslingen.de/event/tat-rat-%c2%b7-senioren-und-seniorinnen-helfen/2025-07-03/
LOCATION:Forum Esslingen in der Schelztorstraße 38\, 73728 Esslingen\, Schelztorstraße 38\, Esslingen\, 73728\, Deutschland
END:VEVENT
BEGIN:VEVENT
DTSTART;TZID=Europe/Berlin:20250703T150000
DTEND;TZID=Europe/Berlin:20250703T170000
DTSTAMP:20260424T124731
CREATED:20250329T050120Z
LAST-MODIFIED:20250329T050120Z
UID:10005012-1751554800-1751562000@wandelstadt-esslingen.de
SUMMARY:Gesprächskreis Aktuelles Zeitgeschehen
DESCRIPTION:Jeden Donnerstag von 15 : 00 – 17 : 00 Uhr\nOffener Treff – Gesprächskreis Aktuelles Zeitgeschehen\n In lockerer Runde und in einer Atmosphäre der gegenseitigen Toleranz und\ndes Respekts tauschen wir unsere Meinungen und Fragen hinsichtlich aktueller\nThemen (Politik\, Gesellschaft etc.) aus\, wobei wir offen für jedes Alter und jede\nKultur sind.\nVerschiedene Referent:innen und Gastteilnehmende klären zudem in unregel\nmäßigen Abständen zu speziellen Themen auf. Ebenso fließen Haltungen und\nMeinungen verschiedenster Alters- und Bevölkerungsgruppen ein.\nDiskutieren Sie mit uns – wir freuen uns auf Sie!\n Kontakt:\n Matthias Pallmert\,  gaz@mgh-es.de\nOrt: Mehrgenerationen- und Bürgerhaus\, Weilstr. 8
URL:https://wandelstadt-esslingen.de/event/gespraechskreis-aktuelles-zeitgeschehen/2025-07-03/
LOCATION:Mehrgenerationenhaus Esslingen\, Weilstraße 8\, Esslingen
END:VEVENT
BEGIN:VEVENT
DTSTART;TZID=Europe/Berlin:20250703T160000
DTEND;TZID=Europe/Berlin:20250703T220000
DTSTAMP:20260424T124731
CREATED:20250519T180826Z
LAST-MODIFIED:20250519T180826Z
UID:10005437-1751558400-1751580000@wandelstadt-esslingen.de
SUMMARY:Onkel Oskars Garten
DESCRIPTION:Sommerfreude im Esslinger Merkelpark! ☀️ \nDer Sommer steht vor der Tür – und wir können es kaum erwarten\, den wunderschönen\, historischen Merkelpark wieder mit Leben zu füllen! Nach den Veranstaltungen smashdiggawyld und der Premiere von Ab in … Onkel Oskars Garten im letzten Jahr legen wir 2025 noch eine Schippe drauf: \nFreut euch auf eine bunte Veranstaltungsreihe von Mitte Juni bis September! Statt nur an einem Wochenende feiern wir den Sommer dieses Jahr flexibel und wetterunabhängig\, immer wieder zu den Öffnungszeiten des fuenfbisneun:\nDonnerstag\, Freitag und Samstag 16–22 Uhr sowie Sonntag 14–20 Uhr \nEuch erwartet ein vielseitiges Programm in entspannter Park-Atmosphäre: \n🎶 Musik & DJ-Sets – zum Mitswingen und Genießen📖 Lesungen & Diskussionen – für Kopf und Herz🎭 Kulturelle & interaktive Aktionen – zum Mitmachen und Staunen🏀 Sport & Spiel – für Groß und Klein☕ Feine Gastronomie – zum Abkühlen und Anstossen \nUnd das Beste: Sollte das Wetter mal nicht mitspielen\, holen wir das Programm einfach an einem anderen Tag nach – so bleibt der Sommer voller Highlights! \nKommt vorbei\, bringt Freund*innen und Familie mit\, schnappt euch eine Decke und genießt die langen Sommerabende.
URL:https://wandelstadt-esslingen.de/event/onkel-oskars-garten-2/2025-07-03/
ORGANIZER;CN="Stadtjugendring Esslingen eV.":MAILTO:info@sjr-es.de
END:VEVENT
BEGIN:VEVENT
DTSTART;TZID=Europe/Berlin:20250703T180000
DTEND;TZID=Europe/Berlin:20250703T200000
DTSTAMP:20260424T124731
CREATED:20250329T050707Z
LAST-MODIFIED:20250329T050707Z
UID:10005104-1751565600-1751572800@wandelstadt-esslingen.de
SUMMARY:Orte des Zuhörens
DESCRIPTION:Donnerstags \n18 : 00 – 20 : 00 Uhr\nOrte des Zuhörens – Caritas-Zentrum Esslingen\n Geschulte haupt- und ehrenamtliche Mitarbeiter:innen nehmen sich Zeit zum\nZuhören. Sie bieten ein offenes Ohr für alle Anliegen in sozialen und finanziellen\nFragen\, Unterstützung bei Anträgen und Bewerbungen sowie Hilfe im Umgang\nmit Behörden. Vertraulich und kostenlos!\nKontakt: Caritas Fils-Neckar-Alb\, Anniko Benedek\,  0711 3969 – 5422
URL:https://wandelstadt-esslingen.de/event/orte-des-zuhoerens/2025-07-03/
LOCATION:Caritas-Zentrum Esslingen\, Mettinger Str. 123\, Esslingen am Neckar\, 73728\, Deutschland
END:VEVENT
BEGIN:VEVENT
DTSTART;TZID=Europe/Berlin:20250703T190000
DTEND;TZID=Europe/Berlin:20250703T190000
DTSTAMP:20260424T124731
CREATED:20240628T160749Z
LAST-MODIFIED:20240629T175416Z
UID:10003616-1751569200-1751569200@wandelstadt-esslingen.de
SUMMARY:Fahrradwerkstatt
DESCRIPTION:Wir unterstützen Dich\, wenn Dein Fahrrad nicht mehr tut was es soll.\nFalls Ihr Interesse und Bedarf an unserer Fahrradwerkstatt habt\, meldet Euch per Mail: info@komma. \nVerantwortlich für die Werkstatt ist der Motorradclub Kuhle Wampe. Sie sind ein basisdemokratisch organisierter Motorradclub mit Sitz im Komma und sie betreiben eine Zweiradwerkstatt. Jeden Donnerstag ist die Fahrradwerkstatt geöffnet – bei gutem Wetter wird möglicherweise auch gegrillt.
URL:https://wandelstadt-esslingen.de/event/fahrrad-werkstatt/2025-07-03/
LOCATION:KOMMA\, Maille 5-9\, Esslingen\, Deutschland
END:VEVENT
END:VCALENDAR