BEGIN:VCALENDAR
VERSION:2.0
PRODID:-//Wandelstadt Esslingen - ECPv6.15.20//NONSGML v1.0//EN
CALSCALE:GREGORIAN
METHOD:PUBLISH
X-WR-CALNAME:Wandelstadt Esslingen
X-ORIGINAL-URL:https://wandelstadt-esslingen.de
X-WR-CALDESC:Veranstaltungen für Wandelstadt Esslingen
REFRESH-INTERVAL;VALUE=DURATION:PT1H
X-Robots-Tag:noindex
X-PUBLISHED-TTL:PT1H
BEGIN:VTIMEZONE
TZID:Europe/Berlin
BEGIN:DAYLIGHT
TZOFFSETFROM:+0100
TZOFFSETTO:+0200
TZNAME:CEST
DTSTART:20240331T010000
END:DAYLIGHT
BEGIN:STANDARD
TZOFFSETFROM:+0200
TZOFFSETTO:+0100
TZNAME:CET
DTSTART:20241027T010000
END:STANDARD
BEGIN:DAYLIGHT
TZOFFSETFROM:+0100
TZOFFSETTO:+0200
TZNAME:CEST
DTSTART:20250330T010000
END:DAYLIGHT
BEGIN:STANDARD
TZOFFSETFROM:+0200
TZOFFSETTO:+0100
TZNAME:CET
DTSTART:20251026T010000
END:STANDARD
BEGIN:DAYLIGHT
TZOFFSETFROM:+0100
TZOFFSETTO:+0200
TZNAME:CEST
DTSTART:20260329T010000
END:DAYLIGHT
BEGIN:STANDARD
TZOFFSETFROM:+0200
TZOFFSETTO:+0100
TZNAME:CET
DTSTART:20261025T010000
END:STANDARD
END:VTIMEZONE
BEGIN:VEVENT
DTSTART;TZID=Europe/Berlin:20250701T143000
DTEND;TZID=Europe/Berlin:20250701T160000
DTSTAMP:20260422T101233
CREATED:20250626T090454Z
LAST-MODIFIED:20250626T090454Z
UID:10005697-1751380200-1751385600@wandelstadt-esslingen.de
SUMMARY:Offenes Singen
DESCRIPTION:Unter dem Motto “Gemeinsam singen macht Freu(n)de“ lädt der StadtSeniorenRat herzlich alle zum kostenlosen offenen Singen ein. Gerhard Haug begleitet am Klavier.
URL:https://wandelstadt-esslingen.de/event/offenes-singen-2/
LOCATION:Gemeindezentrum Hainbachtal\, Talstraße 52\, Esslingen
CATEGORIES:Kulturveranstaltung
ATTACH;FMTTYPE=image/jpeg:https://wandelstadt-esslingen.de/wp-content/uploads/2025/05/Logo-SSR.jpg
END:VEVENT
BEGIN:VEVENT
DTSTART;TZID=Europe/Berlin:20250701T191500
DTEND;TZID=Europe/Berlin:20250701T201500
DTSTAMP:20260422T101233
CREATED:20240520T091234Z
LAST-MODIFIED:20260106T174409Z
UID:10005714-1751397300-1751400900@wandelstadt-esslingen.de
SUMMARY:Inklusive Lachyoga-Gruppe
DESCRIPTION:Lachen ist nicht nur gesund\, sondern auch ansteckend. Und genau darum geht es bei Lachyoga. Gemeinsam lachen und sich gut fühlen\, Stress abbauen und entspannen. Zudem stärkt Lachen die Gesundheit. \n\n\n\n\n\nWann:\nDienstags von 19:15 – 20:15 Uhr\nEinstieg jederzeit möglich!\nKeine Anmeldung erforderlich.\n\n\n\nFür wen:\nFür (fast) jeden geeignet\, da Lachyoga keine schwierigen körperlichen Übungen beinhaltet.\n(siehe Details zur Barrierefreiheit)\n\n\nKursleitung:\nSusanne Klaus (Lachyoga Master Trainerin\, Stuttgarter Lachschule)\n\n\nKosten:\nkeine (freiwillige Spendenbasis)\n\n\nMitzubringen:\netwas zum Trinken
URL:https://wandelstadt-esslingen.de/event/inklusive-lachyoga-gruppe/2025-07-01/
LOCATION:Forum Esslingen – Zentrum für Bürgerengagement\, Schelztorstraße 38\, Esslingen\, Deutschland
ATTACH;FMTTYPE=image/jpeg:https://wandelstadt-esslingen.de/wp-content/uploads/2024/05/Lachyoga-Gruppe_Forum-Esslingen_16-9-scaled.jpg
ORGANIZER;CN="InklusivES - Der Esslinger Stammtisch zum Thema Inklusion":MAILTO:c.lira@inklusives.de
END:VEVENT
BEGIN:VEVENT
DTSTART;TZID=Europe/Berlin:20250701T193000
DTEND;TZID=Europe/Berlin:20250701T213000
DTSTAMP:20260422T101233
CREATED:20250624T160238Z
LAST-MODIFIED:20250624T160238Z
UID:10005687-1751398200-1751405400@wandelstadt-esslingen.de
SUMMARY:Das Zeitalter des Populismus. Zur Vorgeschichte der Gegenwart
DESCRIPTION:Buchvorstellung\, Vortrag und Diskussion mit Jan Gerber\n\nKehrt der Faschismus wieder? Diese Frage begleitet den Aufstieg des Populismus. Sie steht für den Versuch\, sich die unverstandene Gegenwart mit den Begriffen der Vergangenheit zu erklären. Die Erfolge von AfD\, Lega\, Trump und Co. haben jedoch weniger mit Mussolinis Marsch auf Rom oder der Machtübertragung auf Hitler zu tun. Sie gehen vor allem auf die sozialen und ökonomischen Veränderungen der letzten Jahrzehnte zurück. Der politische Stil des Populismus entspricht den arbeits- und lebensweltlichen Erfahrungen der meisten Menschen inzwischen stärker als der traditionelle Politikbetrieb. Auch deshalb werden die etablierten Parteien die gegenwärtigen Krisen nicht überleben\, zumindest nicht in ihrer bisherigen Form; auch deshalb kommen sie bei ihren Versuchen\, gegen den Populismus vorzugehen\, oft so unbeholfen daher: Sie kämpfen gleichermaßen gegen einen Pappkameraden wie gegen das Bild ihrer eigenen Zukunft. Wer den Populismus angemessen kritisieren will\, muss hingegen wissen\, was er überhaupt ist\, welchen Entwicklungen er seine Entstehung verdankt und warum er so erfolgreich ist. Das ist das Ziel der zweiten Ausgabe der „Hallischen Jahrbücher“\, deren Schwerpunkt dem „Zeitalter des Populismus“ gewidmet ist.\nJan Gerber ist Historiker und Politikwissenschaftler. Er gehört zu den Herausgebern der „Hallischen Jahrbücher“.
URL:https://wandelstadt-esslingen.de/event/das-zeitalter-des-populismus-zur-vorgeschichte-der-gegenwart/
LOCATION:KOMMA Esslingen\, Maille 5-9\, Esslingen\, 73728\, Deutschland
END:VEVENT
END:VCALENDAR