BEGIN:VCALENDAR
VERSION:2.0
PRODID:-//Wandelstadt Esslingen - ECPv6.15.20//NONSGML v1.0//EN
CALSCALE:GREGORIAN
METHOD:PUBLISH
X-ORIGINAL-URL:https://wandelstadt-esslingen.de
X-WR-CALDESC:Veranstaltungen für Wandelstadt Esslingen
REFRESH-INTERVAL;VALUE=DURATION:PT1H
X-Robots-Tag:noindex
X-PUBLISHED-TTL:PT1H
BEGIN:VTIMEZONE
TZID:Europe/Berlin
BEGIN:DAYLIGHT
TZOFFSETFROM:+0100
TZOFFSETTO:+0200
TZNAME:CEST
DTSTART:20240331T010000
END:DAYLIGHT
BEGIN:STANDARD
TZOFFSETFROM:+0200
TZOFFSETTO:+0100
TZNAME:CET
DTSTART:20241027T010000
END:STANDARD
BEGIN:DAYLIGHT
TZOFFSETFROM:+0100
TZOFFSETTO:+0200
TZNAME:CEST
DTSTART:20250330T010000
END:DAYLIGHT
BEGIN:STANDARD
TZOFFSETFROM:+0200
TZOFFSETTO:+0100
TZNAME:CET
DTSTART:20251026T010000
END:STANDARD
BEGIN:DAYLIGHT
TZOFFSETFROM:+0100
TZOFFSETTO:+0200
TZNAME:CEST
DTSTART:20260329T010000
END:DAYLIGHT
BEGIN:STANDARD
TZOFFSETFROM:+0200
TZOFFSETTO:+0100
TZNAME:CET
DTSTART:20261025T010000
END:STANDARD
END:VTIMEZONE
BEGIN:VEVENT
DTSTART;TZID=Europe/Berlin:20250626T140000
DTEND;TZID=Europe/Berlin:20250626T160000
DTSTAMP:20260422T101254
CREATED:20250603T093517Z
LAST-MODIFIED:20250603T093517Z
UID:10005572-1750946400-1750953600@wandelstadt-esslingen.de
SUMMARY:Collage
DESCRIPTION:Gemeinsam wollen wir die Collage erkunden. Aus Zeitungsschnipseln\, Bildern uvm. in die Welt des Collagierens eintauchen. Ob du eine Wunschcollage\, Ressourcencollage oder einfach das Material kennenlernen und dich ausprobieren magst. Du entscheidest. \nAlle Materialien vorhanden\, du kannst gerne etwas mitbringen\, wenn du eine Idee hast\, Material von dir verarbeiten möchtest. Vorbeikommen während der Workshopzeit möglich. Keine Vorkenntnisse oder vorherige Anmeldung nötig.
URL:https://wandelstadt-esslingen.de/event/collage-2/
LOCATION:eva’s Ottilie\, Ottilienplatz 3\, Esslingen\, 73728
ORGANIZER;CN="eva's Ottilie":MAILTO:evas-ottilie-es@eva-stuttgart.de
END:VEVENT
BEGIN:VEVENT
DTSTART;TZID=Europe/Berlin:20250626T143000
DTEND;TZID=Europe/Berlin:20250626T160000
DTSTAMP:20260422T101254
CREATED:20250530T135602Z
LAST-MODIFIED:20250626T090040Z
UID:10005568-1750948200-1750953600@wandelstadt-esslingen.de
SUMMARY:Offenes Singen
DESCRIPTION:Unter dem Motto “Gemeinsam singen macht Freu(n)de lädt der StadtSeniorenRat herzlich alle zum offenen Singen ein. Gerhard Haug begleitet am Klavier.
URL:https://wandelstadt-esslingen.de/event/offenes-singen/
LOCATION:Forum Esslingen in der Schelztorstraße 38\, 73728 Esslingen\, Schelztorstraße 38\, Esslingen\, 73728\, Deutschland
CATEGORIES:Kulturveranstaltung
ATTACH;FMTTYPE=image/jpeg:https://wandelstadt-esslingen.de/wp-content/uploads/2025/05/Logo-SSR.jpg
END:VEVENT
BEGIN:VEVENT
DTSTART;TZID=Europe/Berlin:20250626T150000
DTEND;TZID=Europe/Berlin:20250626T170000
DTSTAMP:20260422T101254
CREATED:20250329T050120Z
LAST-MODIFIED:20250329T050120Z
UID:10005011-1750950000-1750957200@wandelstadt-esslingen.de
SUMMARY:Gesprächskreis Aktuelles Zeitgeschehen
DESCRIPTION:Jeden Donnerstag von 15 : 00 – 17 : 00 Uhr\nOffener Treff – Gesprächskreis Aktuelles Zeitgeschehen\n In lockerer Runde und in einer Atmosphäre der gegenseitigen Toleranz und\ndes Respekts tauschen wir unsere Meinungen und Fragen hinsichtlich aktueller\nThemen (Politik\, Gesellschaft etc.) aus\, wobei wir offen für jedes Alter und jede\nKultur sind.\nVerschiedene Referent:innen und Gastteilnehmende klären zudem in unregel\nmäßigen Abständen zu speziellen Themen auf. Ebenso fließen Haltungen und\nMeinungen verschiedenster Alters- und Bevölkerungsgruppen ein.\nDiskutieren Sie mit uns – wir freuen uns auf Sie!\n Kontakt:\n Matthias Pallmert\,  gaz@mgh-es.de\nOrt: Mehrgenerationen- und Bürgerhaus\, Weilstr. 8
URL:https://wandelstadt-esslingen.de/event/gespraechskreis-aktuelles-zeitgeschehen/2025-06-26/
LOCATION:Mehrgenerationenhaus Esslingen\, Weilstraße 8\, Esslingen
END:VEVENT
BEGIN:VEVENT
DTSTART;TZID=Europe/Berlin:20250626T160000
DTEND;TZID=Europe/Berlin:20250626T220000
DTSTAMP:20260422T101254
CREATED:20250519T180826Z
LAST-MODIFIED:20250519T180826Z
UID:10005436-1750953600-1750975200@wandelstadt-esslingen.de
SUMMARY:Onkel Oskars Garten
DESCRIPTION:Sommerfreude im Esslinger Merkelpark! ☀️ \nDer Sommer steht vor der Tür – und wir können es kaum erwarten\, den wunderschönen\, historischen Merkelpark wieder mit Leben zu füllen! Nach den Veranstaltungen smashdiggawyld und der Premiere von Ab in … Onkel Oskars Garten im letzten Jahr legen wir 2025 noch eine Schippe drauf: \nFreut euch auf eine bunte Veranstaltungsreihe von Mitte Juni bis September! Statt nur an einem Wochenende feiern wir den Sommer dieses Jahr flexibel und wetterunabhängig\, immer wieder zu den Öffnungszeiten des fuenfbisneun:\nDonnerstag\, Freitag und Samstag 16–22 Uhr sowie Sonntag 14–20 Uhr \nEuch erwartet ein vielseitiges Programm in entspannter Park-Atmosphäre: \n🎶 Musik & DJ-Sets – zum Mitswingen und Genießen📖 Lesungen & Diskussionen – für Kopf und Herz🎭 Kulturelle & interaktive Aktionen – zum Mitmachen und Staunen🏀 Sport & Spiel – für Groß und Klein☕ Feine Gastronomie – zum Abkühlen und Anstossen \nUnd das Beste: Sollte das Wetter mal nicht mitspielen\, holen wir das Programm einfach an einem anderen Tag nach – so bleibt der Sommer voller Highlights! \nKommt vorbei\, bringt Freund*innen und Familie mit\, schnappt euch eine Decke und genießt die langen Sommerabende.
URL:https://wandelstadt-esslingen.de/event/onkel-oskars-garten-2/2025-06-26/
ORGANIZER;CN="Stadtjugendring Esslingen eV.":MAILTO:info@sjr-es.de
END:VEVENT
BEGIN:VEVENT
DTSTART;TZID=Europe/Berlin:20250626T163000
DTEND;TZID=Europe/Berlin:20250626T183000
DTSTAMP:20260422T101254
CREATED:20250612T082715Z
LAST-MODIFIED:20250612T082715Z
UID:10005647-1750955400-1750962600@wandelstadt-esslingen.de
SUMMARY:Kostenloser Smartphone-Kurs für Senioren
DESCRIPTION:Schülerinnen und Schüler des Mörike-Gymnasiums sind wieder am Start\, um im persönlichen Gespräch alle Fragen rund um die vielfältige Nutzung des Smartphones zu beantworten. Learning by doing lautet die Devise und die jungen Expertinnen und Experten der 9. und 10. Klassen freuen sich auf regen Besuch im Raum H. 1.07\, Anmeldung erwünscht bei bjoern.beyer@esslingen.de oder 0711 3512 2182
URL:https://wandelstadt-esslingen.de/event/kostenloser-smartphone-kurs-fuer-senioren-2/
LOCATION:Mörike-Gymnasium\, Neckarstr. 38\, 73728 Esslingen
CATEGORIES:Infoveranstaltung
ATTACH;FMTTYPE=image/jpeg:https://wandelstadt-esslingen.de/wp-content/uploads/2025/05/Offener-Treff-Smartphone-scaled.jpg
END:VEVENT
BEGIN:VEVENT
DTSTART;TZID=Europe/Berlin:20250626T180000
DTEND;TZID=Europe/Berlin:20250626T200000
DTSTAMP:20260422T101254
CREATED:20250329T050707Z
LAST-MODIFIED:20250329T050707Z
UID:10005103-1750960800-1750968000@wandelstadt-esslingen.de
SUMMARY:Orte des Zuhörens
DESCRIPTION:Donnerstags \n18 : 00 – 20 : 00 Uhr\nOrte des Zuhörens – Caritas-Zentrum Esslingen\n Geschulte haupt- und ehrenamtliche Mitarbeiter:innen nehmen sich Zeit zum\nZuhören. Sie bieten ein offenes Ohr für alle Anliegen in sozialen und finanziellen\nFragen\, Unterstützung bei Anträgen und Bewerbungen sowie Hilfe im Umgang\nmit Behörden. Vertraulich und kostenlos!\nKontakt: Caritas Fils-Neckar-Alb\, Anniko Benedek\,  0711 3969 – 5422
URL:https://wandelstadt-esslingen.de/event/orte-des-zuhoerens/2025-06-26/
LOCATION:Caritas-Zentrum Esslingen\, Mettinger Str. 123\, Esslingen am Neckar\, 73728\, Deutschland
END:VEVENT
BEGIN:VEVENT
DTSTART;TZID=Europe/Berlin:20250626T183000
DTEND;TZID=Europe/Berlin:20250626T203000
DTSTAMP:20260422T101254
CREATED:20250523T133846Z
LAST-MODIFIED:20250523T133846Z
UID:10005501-1750962600-1750969800@wandelstadt-esslingen.de
SUMMARY:Spieglein\, Spieglein an der Wand? Körperbewusstsein im Business
DESCRIPTION:Digitaler Workshop mit Anna Mendel – Autorin\, Speakerin und Sensitivity Readerin\nIn unserer Gesellschaft sind besonders für erfolgreiche Frauen Aussehen und körperliche Attribute wichtige Themen. Nicht\, weil es ihnen wichtig ist\, sondern weil sie sich immer wieder über ihre Kompetenz hinaus beweisen müssen. \n \nDie Strukturen von Körperdiskriminierung und Frauenfeindlichkeit sind eng verknüpft und können oft nicht auf individueller Ebene gelöst werden. Trotzdem wollen wir Frauen uns selbstwirksam fühlen und entsprechend agieren. \nUm hier Möglichkeiten zu finden\, braucht es eine Basis von Verständnis und Wissen um Mechanismen wie Lookismus und Diätkultur. Tipps zu Körpersprache und der “richtigen” Businesskleidung sind hilfreich\, kaschieren die eigentlichen Probleme aber nur. \nDer interaktive Workshop richtet sich an Frauen im Berufsleben. \nAnmeldung unter: https://apps.esslingen.de/Veranstaltungen/Anmeldung?Nr=26
URL:https://wandelstadt-esslingen.de/event/spieglein-spieglein-an-der-wand-koerperbewusstsein-im-business/
LOCATION:via Zoom
CATEGORIES:Workshop
END:VEVENT
BEGIN:VEVENT
DTSTART;TZID=Europe/Berlin:20250626T190000
DTEND;TZID=Europe/Berlin:20250626T190000
DTSTAMP:20260422T101254
CREATED:20240628T160749Z
LAST-MODIFIED:20240629T175416Z
UID:10003615-1750964400-1750964400@wandelstadt-esslingen.de
SUMMARY:Fahrradwerkstatt
DESCRIPTION:Wir unterstützen Dich\, wenn Dein Fahrrad nicht mehr tut was es soll.\nFalls Ihr Interesse und Bedarf an unserer Fahrradwerkstatt habt\, meldet Euch per Mail: info@komma. \nVerantwortlich für die Werkstatt ist der Motorradclub Kuhle Wampe. Sie sind ein basisdemokratisch organisierter Motorradclub mit Sitz im Komma und sie betreiben eine Zweiradwerkstatt. Jeden Donnerstag ist die Fahrradwerkstatt geöffnet – bei gutem Wetter wird möglicherweise auch gegrillt.
URL:https://wandelstadt-esslingen.de/event/fahrrad-werkstatt/2025-06-26/
LOCATION:KOMMA\, Maille 5-9\, Esslingen\, Deutschland
END:VEVENT
BEGIN:VEVENT
DTSTART;TZID=Europe/Berlin:20250626T190000
DTEND;TZID=Europe/Berlin:20250626T210000
DTSTAMP:20260422T101254
CREATED:20250606T151820Z
LAST-MODIFIED:20250606T151820Z
UID:10005574-1750964400-1750971600@wandelstadt-esslingen.de
SUMMARY:Lesung mit Peter Boos am 26.6.2025 um 19 Uhr im Buchladen die Zeitgenossen eG
DESCRIPTION:Peter Boos liest bei uns aus seinem neuen Buch „Max wird beim Nussenklauen erwischt“\, indem er Gerüchten um eine KZ-Außenstelle in seiner Heimatstadt Geislingen an der Steige nachgeht. Dort mussten Jüdinnen Zwangsarbeit für WMF leisten. Einmal mehr stellt sich die Frage\, wie wir mit diesem Teil unserer Vergangenheit umgehen wollen. \nDer Eintritt zu dieser Veranstaltung ist frei \n 
URL:https://wandelstadt-esslingen.de/event/lesung-mit-peter-boos-am-26-6-2025-um-19-uhr-im-buchladen-die-zeitgenossen-eg/
LOCATION:Buchladen Die Zeitgenossen\, Strohstraße 28\, Esslingen\, 73728\, Deutschland
CATEGORIES:Kulturveranstaltung
END:VEVENT
END:VCALENDAR