BEGIN:VCALENDAR
VERSION:2.0
PRODID:-//Wandelstadt Esslingen - ECPv6.15.20//NONSGML v1.0//EN
CALSCALE:GREGORIAN
METHOD:PUBLISH
X-WR-CALNAME:Wandelstadt Esslingen
X-ORIGINAL-URL:https://wandelstadt-esslingen.de
X-WR-CALDESC:Veranstaltungen für Wandelstadt Esslingen
REFRESH-INTERVAL;VALUE=DURATION:PT1H
X-Robots-Tag:noindex
X-PUBLISHED-TTL:PT1H
BEGIN:VTIMEZONE
TZID:Europe/Berlin
BEGIN:DAYLIGHT
TZOFFSETFROM:+0100
TZOFFSETTO:+0200
TZNAME:CEST
DTSTART:20240331T010000
END:DAYLIGHT
BEGIN:STANDARD
TZOFFSETFROM:+0200
TZOFFSETTO:+0100
TZNAME:CET
DTSTART:20241027T010000
END:STANDARD
BEGIN:DAYLIGHT
TZOFFSETFROM:+0100
TZOFFSETTO:+0200
TZNAME:CEST
DTSTART:20250330T010000
END:DAYLIGHT
BEGIN:STANDARD
TZOFFSETFROM:+0200
TZOFFSETTO:+0100
TZNAME:CET
DTSTART:20251026T010000
END:STANDARD
BEGIN:DAYLIGHT
TZOFFSETFROM:+0100
TZOFFSETTO:+0200
TZNAME:CEST
DTSTART:20260329T010000
END:DAYLIGHT
BEGIN:STANDARD
TZOFFSETFROM:+0200
TZOFFSETTO:+0100
TZNAME:CET
DTSTART:20261025T010000
END:STANDARD
END:VTIMEZONE
BEGIN:VEVENT
DTSTART;TZID=Europe/Berlin:20250625T080000
DTEND;TZID=Europe/Berlin:20250625T170000
DTSTAMP:20260422T113503
CREATED:20250614T154308Z
LAST-MODIFIED:20250614T154428Z
UID:10005653-1750838400-1750870800@wandelstadt-esslingen.de
SUMMARY:Wanderung rund um die Burg Teck
DESCRIPTION:Der StadtSeniorenRat lädt zu einer  ca. 9 km (300 Höhenmeter) langen\, mittelscheren Wanderung über den Sattelbogen rund um die Burg Teck ein. Treff um 8 Uhr am Bahnhof ES\, Abfahrt um 8.12 Uhr Gleis 8 mit dem Zug nach Kirchheim und dem Bus Nr. 175 nach Bissingen/Teck. Nach der Wanderung wollen wir in die Pizzeria Da Altobelli einkehren. Anmeldung: Heinz Reutter Handy: 0175 5648445 
URL:https://wandelstadt-esslingen.de/event/wanderung-rund-um-die-burg-teck/
CATEGORIES:Ausflug
ATTACH;FMTTYPE=image/jpeg:https://wandelstadt-esslingen.de/wp-content/uploads/2025/05/Logo-SSR.jpg
END:VEVENT
BEGIN:VEVENT
DTSTART;TZID=Europe/Berlin:20250625T153000
DTEND;TZID=Europe/Berlin:20250625T170000
DTSTAMP:20260422T113503
CREATED:20250324T104448Z
LAST-MODIFIED:20250419T053627Z
UID:10004956-1750865400-1750870800@wandelstadt-esslingen.de
SUMMARY:Chor OMAS GEGEN RECHTS Esslingen
DESCRIPTION:Der Chor von OMAS GEGEN RECHTS Esslingen trifft sich jeden 2. Mittwoch im KOMMA\, Maille 5-9\, 73728 Esslingen (Hintereingang durch den Hof und die Metalltreppe hinauf) \nUnterstützt durch Percussion-Instrumente werden Lieder eingeübt\, die bei Demos oder bei Aktionen als Earcatcher vorgetragen werden.\nDer Chor freut sich über neue – auch ungeübte -Sänger*innen. Notenlesen nicht erforderlich. \nEin Beispiel zum Anhören\nKeine*r wählt hier rechts: https://www.youtube.com/watch?v=n_KnMoZ2S1k \n 
URL:https://wandelstadt-esslingen.de/event/chor-omas-gegen-rechts-esslingen-4/
LOCATION:KOMMA\, Maille 5-9\, Esslingen\, Deutschland
ORGANIZER;CN="OMAS GEGEN RECHTS Esslingen":MAILTO:ogr-esslingen@posteo.de
END:VEVENT
BEGIN:VEVENT
DTSTART;TZID=Europe/Berlin:20250625T180000
DTEND;TZID=Europe/Berlin:20250625T180000
DTSTAMP:20260422T113503
CREATED:20250526T110845Z
LAST-MODIFIED:20250526T110845Z
UID:10005521-1750874400-1750874400@wandelstadt-esslingen.de
SUMMARY:Kino:  Sieben Tage
DESCRIPTION:Mo | 23.06.2025 | 20.00 Uhr\n120 Minuten | FSK 12  | deutsche Originalfassung \nAli Samadi Ahadis emotionaler und brisanter Film – Fluchtthriller\, hochspannendes Roadmovie und Familiendrama – erzählt eine fiktive Geschichte\, ist aber inspiriert vom Leben und Wirken der Nobelpreisträgerin Narges Mohammadi. \nMaryam ist eine inhaftierte Menschenrechtsaktivistin. Nach einem Herzinfarkt wird ihr ein siebentägiger Freigang gewährt. Doch ihr in Hamburg lebender Mann Behnam und ihr Bruder in Teheran haben andere Pläne. Sie haben Maryams Flucht nach Deutschland vorbereitet. Behnam und ihre beiden Kinder reisen Maryam in die türkische Grenzstadt Van entgegen. Dorthin soll sie kommen und – so erhoffen es sich die drei – dann gemeinsam mit ihnen nach Deutschland fahren. Maryam ist zerrissen zwischen ihrer Sehnsucht nach ihrer Familie und dem Bedürfnis\, ihren Kampf aus dem Gefängnis im Iran weiterzuführen.
URL:https://wandelstadt-esslingen.de/event/kino-sieben-tage-2/
LOCATION:Kommunales Kino\, Maille 4-9\, Esslingen\, 73728\, Deutschland
END:VEVENT
BEGIN:VEVENT
DTSTART;TZID=Europe/Berlin:20250625T180000
DTEND;TZID=Europe/Berlin:20250625T180000
DTSTAMP:20260422T113503
CREATED:20250526T112917Z
LAST-MODIFIED:20250526T112917Z
UID:10005523-1750874400-1750874400@wandelstadt-esslingen.de
SUMMARY:Kino:  Sieben Tage
DESCRIPTION:Mo | 23.06.2025 | 20.00 Uhr\n120 Minuten | FSK 12  | deutsche Originalfassung \nAli Samadi Ahadis emotionaler und brisanter Film – Fluchtthriller\, hochspannendes Roadmovie und Familiendrama – erzählt eine fiktive Geschichte\, ist aber inspiriert vom Leben und Wirken der Nobelpreisträgerin Narges Mohammadi. \nMaryam ist eine inhaftierte Menschenrechtsaktivistin. Nach einem Herzinfarkt wird ihr ein siebentägiger Freigang gewährt. Doch ihr in Hamburg lebender Mann Behnam und ihr Bruder in Teheran haben andere Pläne. Sie haben Maryams Flucht nach Deutschland vorbereitet. Behnam und ihre beiden Kinder reisen Maryam in die türkische Grenzstadt Van entgegen. Dorthin soll sie kommen und – so erhoffen es sich die drei – dann gemeinsam mit ihnen nach Deutschland fahren. Maryam ist zerrissen zwischen ihrer Sehnsucht nach ihrer Familie und dem Bedürfnis\, ihren Kampf aus dem Gefängnis im Iran weiterzuführen.
URL:https://wandelstadt-esslingen.de/event/kino-sieben-tage-5/
LOCATION:Kommunales Kino\, Maille 4-9\, Esslingen\, 73728\, Deutschland
END:VEVENT
BEGIN:VEVENT
DTSTART;TZID=Europe/Berlin:20250625T180000
DTEND;TZID=Europe/Berlin:20250625T210000
DTSTAMP:20260422T113503
CREATED:20240628T154510Z
LAST-MODIFIED:20251125T194322Z
UID:10003106-1750874400-1750885200@wandelstadt-esslingen.de
SUMMARY:Kunststoff-Lab
DESCRIPTION:Positiv gegen Kunststoffverschmutzung \nAn einen Alltag ohne Kunststoffe ist nicht mehr zu denken. Das Material hat nach wie vor wertvolle Eigenschaften\, die wir nach dem “Precious-Plastic-Modell“ in einer kleinen Kunststoffrecycling- Manufaktur einsetzen. “Precious-Plastic“ ist ein internationales Projekt. 2012 in den Niederlanden gestartet\, besteht mittlerweile aus einem globalen Netzwerk von Workspaces. Das Komma in Esslingen ist mit dem @preciousplastic_esslingen Teil dieser Bewegung. 2021 bauten wir unsere Werkstatt mit Maschinen zur Plastikverarbeitung auf. Der Mehrwert des Projektes ist es\, die Möglichkeiten und Grenzen des „Selber-Machens“ selbst zu erfahren\, und zwar in einem für die Kreativität und Empowerment sicheren Ort. \nAus Abfall entsteht ein neuer Rohstoff\, aus dem du eigene Werkstücke wie z. B. kleine Möbel\, Lampen\, Taschen und Schmuck kreieren kannst. Schau dir hier an\, was wir 2023 in der Workshopreihe gemacht haben. \nMit und für junge Menschen: Wir können uns nicht mehr anhören\, wie schlecht die Klimakrise ist. Wir wollen was dagegen machen! Was würdest du daraus machen? \n  \nOffene Kunststoffwerkstatt \nAb Mai 2024 steht immer Mittwochs die offene Kunstwerkstatt für die Einführung in die „Precious-Plastic-Welt“\, die Kunststoffverarbeitung und Materialexperimente zur Verfügung. Plastik wird sortiert\, geschreddert und eingeschmolzen. \nHast du es zum letzten Workshop nicht geschafft und wolltest dir immer Schmuck selber machen? Oder einfach mal mehr über die Kunststoffwerkstatt wissen? Oder hast du sogar ein eigenes Projekt im Kopf\, das du mit Kunststoffplatten versuchen möchtest? Dann ist die offene Werkstatt genau richtig für dich. \nSolltest du es unter der Woche nicht schaffen\, gibt es ab Juni 2024 auch immer am  1. Samstag im Monat die offene Werkstatt. Die Nutzung der Werkstatt ist kostenlos. An den genannten Terminen kannst du ohne Anmeldung teilnehmen.  Ausnahmen aufgrund von Komma Veranstaltungen werden über die Internetseite des Mittwochs geteilt. \nMaterial falls nicht selbst gesammelt\, ist auf Spendenbasis verfügbar\, solange Vorrat reicht. Hier findest du ein How-to-collect\, damit du schauen kannst\, was wir in der Werkstatt grundsätzlich verwenden können. \nEinführungen in die Precious-Plastic-Welt sind auf Deutsch\, Englisch und Spanisch möglich. Hast du noch Fragen? Schreib uns gerne eine Nachricht an plastic@komma.info oder komm einfach vorbei! \nDie Teilnahme ist kostenlos\, wir bitten um Anmeldung per Mail an plastic@komma.info. \nKollabs und Netzwerk \nGroßes Potenzial liegt in unserer interdisziplinären Zusammenarbeit – sowohl im Komma-Team als auch in Kooperationen. Wir arbeiten mit Schulen\, Hochschulen\, Designer*innen\, Initiativen\, Werkstätten und andere Precious Plastics Gruppen auf der Welt zusammen. Hast du eine Idee zu einer Kollaboration? Schreib uns gerne an plastic@komma.info. \nFunfäct \n„The Bänk“\, unser erstes Projekt\, hat es in die Endrunde der RoGUILTLESSPLASTIC Awards geschafft und wurde bei der Mailänder Designwoche (Juni 2022) ausgestellt. Wie das gebaut wurde\, findest du im Video. \nTagesaktuelle Informationen und Workshop-Angebote finden sich auf Instagram @preciousplastic_esslingen \n 
URL:https://wandelstadt-esslingen.de/event/https-www-komma-info-precious-plastic/2025-06-25/
LOCATION:KOMMA\, Maille 5-9\, Esslingen\, Deutschland
END:VEVENT
BEGIN:VEVENT
DTSTART;TZID=Europe/Berlin:20250625T200000
DTEND;TZID=Europe/Berlin:20250625T220000
DTSTAMP:20260422T113503
CREATED:20250526T152018Z
LAST-MODIFIED:20250526T152018Z
UID:10005533-1750881600-1750888800@wandelstadt-esslingen.de
SUMMARY:Kein Land - Theater
DESCRIPTION:Du musst dringend zum Friseur.\n\n\n\nEine kleine Insel in den Malediven\, die der Flut nur noch dank des Mülls zu widerstehen vermag – denn sie besteht aus eben diesem Müll. Adrian und Jesolo bauen als die letzten Menschen am Müllberg weiter\, recyceln Brauchbares und verbrennen den Rest. \nDie beiden kennen die Welt nur aus der Perspektive ihres abgelegenen Eilands. Sie führen eine – auch sprachlich – eher kümmerliche\, ja absurde Existenz. Eines Tages findet Jesolo ein „Gummiding“\, ein Gummiboot\, das sich als potentielles Bett nutzen ließe\, das aber auch zum Objekt einer Utopie wird: Man könnte damit nach Amerika reisen. Mit der nächsten Fähre kommt ein verirrtes Touristen-Pärchen an\, das eigentlich nur ein paar Cocktails am Strand der Malediven trinken wollte. Nun wollen sie schleunigst wieder weg. Das gelingt ihnen\, indem sie die Naivität der Inselbewohner mit der touristentypischen Rücksichtslosigkeit ausnutzen\, und damit deren Ressourcen endgültig zerstören. Egoismus und Nachhaltigkeit funktionieren eben nicht nebeneinander. \nDer zweite Teil des Stücks macht einen Zeitsprung: Eine Erlebnis-Ausstellung in naher Zukunft widmet sich der Erinnerung an die Malediven. Ein Guide erläutert einer Besucherin\, wie eine paradiesische Lagune zur größten Müllkippe der Region wurde\, wie das Klima sich veränderte und schließlich das Meer die gesamte Inselgruppe verschluckte. Originale Artefakte zeugen von der damaligen Zeit: Chipstüten\, Rollkoffer\, ein löchriges Gummiboot … \nDie Müllinsel Thilafushi gibt es tatsächlich seit 1992\, sie gilt als größte Müllinsel der Welt. Magdalena Schrefel entwirft mit „Keinland“ eine groteske Welt\, in der die Folgen des Klimawandels und der Umweltverschmutzung bereits Realität geworden sind. Eine Zukunftsvision ohne moralinsauren Naturalismus\, voller Komik und Sprachwitz und ausgesucht schrägen Situationen. \n——— \nDie Esslinger Zeitung schreibt über die Premiere: „Müll\, Meer\, Malediven: Endspiel mit Klimawandel. In Magdalena Schrefels absurdem Realdrama „Keinland“ ist an vielen Stellen der Erde kein Land mehr\, weil der Meeresspiegel gestiegen ist. Laura Tetzlaff hat das auf einer Müllinsel spielende Stück an der Esslinger Landesbühne inszeniert.“ \nDer vollständige Artikel ist in der Online-Ausgabe der Esslinger Zeitung nachzulesen.
URL:https://wandelstadt-esslingen.de/event/kein-land-theater/
LOCATION:Württembergische Landesbühne – Schauspielhaus mit Podium 1 & 2\, Ritterstraße 11\, Esslingen\, Deutschland
CATEGORIES:Kulturveranstaltung
END:VEVENT
BEGIN:VEVENT
DTSTART;TZID=Europe/Berlin:20250625T203000
DTEND;TZID=Europe/Berlin:20250625T203000
DTSTAMP:20260422T113503
CREATED:20250526T110627Z
LAST-MODIFIED:20250526T110627Z
UID:10005518-1750883400-1750883400@wandelstadt-esslingen.de
SUMMARY:Kino: Kein Tier. So wild
DESCRIPTION:Do | 19.06.2025 | 20.30 Uhr\n120 Minuten | FSK nicht geprüft (ab 18 Jahren freigegeben)  | deutsche Originalfassung \nBurhan Qurbani adaptiert nach BERLIN ALEXANDERPLATZ William Shakespeares Richard III. Die Handlung spielt im Berlin von heute. Eine gewagte\, bildgewaltige\, hoch stilisierte und spannende Mischung aus klassischem und modernem Stoff\, Theater und Film. \n„Betrogen durch Geburt um jeden Vorteil\, verformt\, unfertig“: Diese Worte spuckt Rashida York geradezu ihrem Spiegelbild entgegen. Normalerweise gehören die Sätze\, sinngemäß\, Shakespeares „Richard III.“. Anstelle der Häuser York und Lancaster bekriegen sich Clanfamilien\, aus Richard wird Rashida\, und nicht mehr der missgebildete Körper\, sondern die Rolle als Frau ist der Makel der Figur. Die vorgegebene Rangordnung aber will Rashida nicht akzeptieren. Sie beginnt\, gegen die eigene Familie zu intrigieren …
URL:https://wandelstadt-esslingen.de/event/kino-kein-tier-so-wild-3/
LOCATION:Kommunales Kino\, Maille 4-9\, Esslingen\, 73728\, Deutschland
END:VEVENT
END:VCALENDAR