BEGIN:VCALENDAR
VERSION:2.0
PRODID:-//Wandelstadt Esslingen - ECPv6.15.20//NONSGML v1.0//EN
CALSCALE:GREGORIAN
METHOD:PUBLISH
X-WR-CALNAME:Wandelstadt Esslingen
X-ORIGINAL-URL:https://wandelstadt-esslingen.de
X-WR-CALDESC:Veranstaltungen für Wandelstadt Esslingen
REFRESH-INTERVAL;VALUE=DURATION:PT1H
X-Robots-Tag:noindex
X-PUBLISHED-TTL:PT1H
BEGIN:VTIMEZONE
TZID:Europe/Berlin
BEGIN:DAYLIGHT
TZOFFSETFROM:+0100
TZOFFSETTO:+0200
TZNAME:CEST
DTSTART:20240331T010000
END:DAYLIGHT
BEGIN:STANDARD
TZOFFSETFROM:+0200
TZOFFSETTO:+0100
TZNAME:CET
DTSTART:20241027T010000
END:STANDARD
BEGIN:DAYLIGHT
TZOFFSETFROM:+0100
TZOFFSETTO:+0200
TZNAME:CEST
DTSTART:20250330T010000
END:DAYLIGHT
BEGIN:STANDARD
TZOFFSETFROM:+0200
TZOFFSETTO:+0100
TZNAME:CET
DTSTART:20251026T010000
END:STANDARD
BEGIN:DAYLIGHT
TZOFFSETFROM:+0100
TZOFFSETTO:+0200
TZNAME:CEST
DTSTART:20260329T010000
END:DAYLIGHT
BEGIN:STANDARD
TZOFFSETFROM:+0200
TZOFFSETTO:+0100
TZNAME:CET
DTSTART:20261025T010000
END:STANDARD
END:VTIMEZONE
BEGIN:VEVENT
DTSTART;TZID=Europe/Berlin:20250624T073000
DTEND;TZID=Europe/Berlin:20250624T093000
DTSTAMP:20260422T124203
CREATED:20250527T184945Z
LAST-MODIFIED:20250602T181419Z
UID:10005559-1750750200-1750757400@wandelstadt-esslingen.de
SUMMARY:Wiesenmahd - Agendagruppe Streuobstwiesen
DESCRIPTION:Locker und mit Schwung: Eine Wiese mit der Sense mähen \nAnfänger sind besonders willkommen. Die Termine sind an 4 Samstagen im Juni am 07.06 / 14.06. / 21.06. / 28.06. und außerdem dienstags am 10.06. / 17.06. / 24.06. für alle\, die auch unter der Woche Zeit haben. Die Termine beginnen alle um 7 Uhr 30 und dauern bis etwa 9 Uhr 30. Wir treffen uns an der Wiese\, auf der Karte zu finden mit Google Maps unter den Koordinaten 48.74885\, 9.30826. Der Zugang erfolgt über die Mülbergerstraße – Obere Beutau – Wittumhalde. Anmeldung bei Rainer König unter rainer.o.koenig@web.de oder 0151 50742396. Eigene Sensen und Wetzsteine sollten mitgebracht werden. Mehrere Sensen zum Ausleihen sind vorhanden.
URL:https://wandelstadt-esslingen.de/event/wiesenmahd-agendagruppe-streuobstwiesen-6/
ORGANIZER;CN="Agendagruppe Streuobstwiesen":MAILTO:streuobstgruppe@forum-esslingen.de
END:VEVENT
BEGIN:VEVENT
DTSTART;TZID=Europe/Berlin:20250624T180000
DTEND;TZID=Europe/Berlin:20250624T180000
DTSTAMP:20260422T124203
CREATED:20250526T110212Z
LAST-MODIFIED:20250526T110212Z
UID:10005515-1750788000-1750788000@wandelstadt-esslingen.de
SUMMARY:Kino: Yurt
DESCRIPTION:Sa | 21.06.2025 | 18.00 Uhr\n118 Minuten | FSK nicht geprüft (ab 18 Jahren freigegeben)  | OmU \nDer Sundance-Alumni Nehir Tuna ist Regisseur\, Drehbuchautor und Produzent. Seine Arbeit kombiniert soziale Kommentare und eine originelle visuelle Ästhetik\, indem er Geschichten über die komplexen aktuellen Probleme der Türkei erzählt. \nEnde der 1990er Jahre nehmen die Spannungen zwischen religiösen und säkularen Türken zu. Der vierzehnjährige Ahmet wird von seinem frisch konvertierten Vater in ein islamisches Wohnheim – eine „Jurte“ – geschickt\, um muslimische Werte zu erlernen. Ahmet arbeitet hart daran\, ein perfekter Sohn zu sein\, aber er hat Schwierigkeiten\, sich einzufügen und fühlt sich auch in seiner säkularen Tagesschule isoliert\, wo er sein neues Zuhause vor seinen Mitschülern versteckt. Sein einziger Trost ist sein neuer Freund Hakan. Gemeinsam träumen sie davon\, ihre eigenen Entscheidungen zu treffen
URL:https://wandelstadt-esslingen.de/event/kino-yurt-3/
LOCATION:Kommunales Kino\, Maille 4-9\, Esslingen\, 73728\, Deutschland
END:VEVENT
BEGIN:VEVENT
DTSTART;TZID=Europe/Berlin:20250624T191500
DTEND;TZID=Europe/Berlin:20250624T201500
DTSTAMP:20260422T124203
CREATED:20240520T091234Z
LAST-MODIFIED:20260106T174409Z
UID:10005713-1750792500-1750796100@wandelstadt-esslingen.de
SUMMARY:Inklusive Lachyoga-Gruppe
DESCRIPTION:Lachen ist nicht nur gesund\, sondern auch ansteckend. Und genau darum geht es bei Lachyoga. Gemeinsam lachen und sich gut fühlen\, Stress abbauen und entspannen. Zudem stärkt Lachen die Gesundheit. \n\n\n\n\n\nWann:\nDienstags von 19:15 – 20:15 Uhr\nEinstieg jederzeit möglich!\nKeine Anmeldung erforderlich.\n\n\n\nFür wen:\nFür (fast) jeden geeignet\, da Lachyoga keine schwierigen körperlichen Übungen beinhaltet.\n(siehe Details zur Barrierefreiheit)\n\n\nKursleitung:\nSusanne Klaus (Lachyoga Master Trainerin\, Stuttgarter Lachschule)\n\n\nKosten:\nkeine (freiwillige Spendenbasis)\n\n\nMitzubringen:\netwas zum Trinken
URL:https://wandelstadt-esslingen.de/event/inklusive-lachyoga-gruppe/2025-06-24/
LOCATION:Forum Esslingen – Zentrum für Bürgerengagement\, Schelztorstraße 38\, Esslingen\, Deutschland
ATTACH;FMTTYPE=image/jpeg:https://wandelstadt-esslingen.de/wp-content/uploads/2024/05/Lachyoga-Gruppe_Forum-Esslingen_16-9-scaled.jpg
ORGANIZER;CN="InklusivES - Der Esslinger Stammtisch zum Thema Inklusion":MAILTO:c.lira@inklusives.de
END:VEVENT
BEGIN:VEVENT
DTSTART;TZID=Europe/Berlin:20250624T203000
DTEND;TZID=Europe/Berlin:20250624T203000
DTSTAMP:20260422T124203
CREATED:20250526T110528Z
LAST-MODIFIED:20250526T110553Z
UID:10005517-1750797000-1750797000@wandelstadt-esslingen.de
SUMMARY:Kino: Kein Tier. So wild
DESCRIPTION:Do | 19.06.2025 | 20.30 Uhr\n120 Minuten | FSK nicht geprüft (ab 18 Jahren freigegeben)  | deutsche Originalfassung \nBurhan Qurbani adaptiert nach BERLIN ALEXANDERPLATZ William Shakespeares Richard III. Die Handlung spielt im Berlin von heute. Eine gewagte\, bildgewaltige\, hoch stilisierte und spannende Mischung aus klassischem und modernem Stoff\, Theater und Film. \n„Betrogen durch Geburt um jeden Vorteil\, verformt\, unfertig“: Diese Worte spuckt Rashida York geradezu ihrem Spiegelbild entgegen. Normalerweise gehören die Sätze\, sinngemäß\, Shakespeares „Richard III.“. Anstelle der Häuser York und Lancaster bekriegen sich Clanfamilien\, aus Richard wird Rashida\, und nicht mehr der missgebildete Körper\, sondern die Rolle als Frau ist der Makel der Figur. Die vorgegebene Rangordnung aber will Rashida nicht akzeptieren. Sie beginnt\, gegen die eigene Familie zu intrigieren …
URL:https://wandelstadt-esslingen.de/event/kino-kein-tier-so-wild-2/
LOCATION:Kommunales Kino\, Maille 4-9\, Esslingen\, 73728\, Deutschland
END:VEVENT
END:VCALENDAR