BEGIN:VCALENDAR
VERSION:2.0
PRODID:-//Wandelstadt Esslingen - ECPv6.15.20//NONSGML v1.0//EN
CALSCALE:GREGORIAN
METHOD:PUBLISH
X-ORIGINAL-URL:https://wandelstadt-esslingen.de
X-WR-CALDESC:Veranstaltungen für Wandelstadt Esslingen
REFRESH-INTERVAL;VALUE=DURATION:PT1H
X-Robots-Tag:noindex
X-PUBLISHED-TTL:PT1H
BEGIN:VTIMEZONE
TZID:Europe/Berlin
BEGIN:DAYLIGHT
TZOFFSETFROM:+0100
TZOFFSETTO:+0200
TZNAME:CEST
DTSTART:20240331T010000
END:DAYLIGHT
BEGIN:STANDARD
TZOFFSETFROM:+0200
TZOFFSETTO:+0100
TZNAME:CET
DTSTART:20241027T010000
END:STANDARD
BEGIN:DAYLIGHT
TZOFFSETFROM:+0100
TZOFFSETTO:+0200
TZNAME:CEST
DTSTART:20250330T010000
END:DAYLIGHT
BEGIN:STANDARD
TZOFFSETFROM:+0200
TZOFFSETTO:+0100
TZNAME:CET
DTSTART:20251026T010000
END:STANDARD
BEGIN:DAYLIGHT
TZOFFSETFROM:+0100
TZOFFSETTO:+0200
TZNAME:CEST
DTSTART:20260329T010000
END:DAYLIGHT
BEGIN:STANDARD
TZOFFSETFROM:+0200
TZOFFSETTO:+0100
TZNAME:CET
DTSTART:20261025T010000
END:STANDARD
END:VTIMEZONE
BEGIN:VEVENT
DTSTART;TZID=Europe/Berlin:20250621T073000
DTEND;TZID=Europe/Berlin:20250621T093000
DTSTAMP:20260422T124236
CREATED:20250527T184816Z
LAST-MODIFIED:20250602T181354Z
UID:10005558-1750491000-1750498200@wandelstadt-esslingen.de
SUMMARY:Wiesenmahd - Agendagruppe Streuobstwiesen
DESCRIPTION:Locker und mit Schwung: Eine Wiese mit der Sense mähen \nAnfänger sind besonders willkommen. Die Termine sind an 4 Samstagen im Juni am 07.06 / 14.06. / 21.06. / 28.06. und außerdem dienstags am 10.06. / 17.06. / 24.06. für alle\, die auch unter der Woche Zeit haben. Die Termine beginnen alle um 7 Uhr 30 und dauern bis etwa 9 Uhr 30. Wir treffen uns an der Wiese\, auf der Karte zu finden mit Google Maps unter den Koordinaten 48.74885\, 9.30826. Der Zugang erfolgt über die Mülbergerstraße – Obere Beutau – Wittumhalde. Anmeldung bei Rainer König unter rainer.o.koenig@web.de oder 0151 50742396. Eigene Sensen und Wetzsteine sollten mitgebracht werden. Mehrere Sensen zum Ausleihen sind vorhanden.
URL:https://wandelstadt-esslingen.de/event/wiesenmahd-agendagruppe-streuobstwiesen-5/
ORGANIZER;CN="Agendagruppe Streuobstwiesen":MAILTO:streuobstgruppe@forum-esslingen.de
END:VEVENT
BEGIN:VEVENT
DTSTART;TZID=Europe/Berlin:20250621T150000
DTEND;TZID=Europe/Berlin:20250621T190000
DTSTAMP:20260422T124236
CREATED:20250526T152821Z
LAST-MODIFIED:20250526T152821Z
UID:10005538-1750518000-1750532400@wandelstadt-esslingen.de
SUMMARY:CSD Esslingen
DESCRIPTION:Kommt zur Demo!\nDemo Start ist um 15.00 Uhr am Bahnhofsvorplatz\nLaufgruppen sammeln sich ab 14.00\nDemo Ende auf dem Marktplatz \nLasst uns „Nie wieder still – ES bleibt bunt“ unser wahres Selbst feiern\, unsere Rechte einfordern und Stolz auf unsere Identität und Sexualität(en) sein. \nHocketse auf dem Marktplatz\nStart ab 17.00 Uhr am Marktplatz mit Drag Artists\, Musikacts\, Redebeiträgen\, Erfrischungsgetränken und Infoständen
URL:https://wandelstadt-esslingen.de/event/csd-esslingen/
LOCATION:Bahnhofsvorplatz\, Esslingen
CATEGORIES:Demonstration
END:VEVENT
BEGIN:VEVENT
DTSTART;TZID=Europe/Berlin:20250621T160000
DTEND;TZID=Europe/Berlin:20250621T220000
DTSTAMP:20260422T124236
CREATED:20250519T180714Z
LAST-MODIFIED:20250519T180714Z
UID:10005408-1750521600-1750543200@wandelstadt-esslingen.de
SUMMARY:Onkel Oskars Garten
DESCRIPTION:Sommerfreude im Esslinger Merkelpark! ☀️ \nDer Sommer steht vor der Tür – und wir können es kaum erwarten\, den wunderschönen\, historischen Merkelpark wieder mit Leben zu füllen! Nach den Veranstaltungen smashdiggawyld und der Premiere von Ab in … Onkel Oskars Garten im letzten Jahr legen wir 2025 noch eine Schippe drauf: \nFreut euch auf eine bunte Veranstaltungsreihe von Mitte Juni bis September! Statt nur an einem Wochenende feiern wir den Sommer dieses Jahr flexibel und wetterunabhängig\, immer wieder zu den Öffnungszeiten des fuenfbisneun:\nDonnerstag\, Freitag und Samstag 16–22 Uhr sowie Sonntag 14–20 Uhr \nEuch erwartet ein vielseitiges Programm in entspannter Park-Atmosphäre: \n🎶 Musik & DJ-Sets – zum Mitswingen und Genießen📖 Lesungen & Diskussionen – für Kopf und Herz🎭 Kulturelle & interaktive Aktionen – zum Mitmachen und Staunen🏀 Sport & Spiel – für Groß und Klein☕ Feine Gastronomie – zum Abkühlen und Anstossen \nUnd das Beste: Sollte das Wetter mal nicht mitspielen\, holen wir das Programm einfach an einem anderen Tag nach – so bleibt der Sommer voller Highlights! \nKommt vorbei\, bringt Freund*innen und Familie mit\, schnappt euch eine Decke und genießt die langen Sommerabende.
URL:https://wandelstadt-esslingen.de/event/onkel-oskars-garten/2025-06-21/
ORGANIZER;CN="Stadtjugendring Esslingen eV.":MAILTO:info@sjr-es.de
END:VEVENT
BEGIN:VEVENT
DTSTART;TZID=Europe/Berlin:20250621T180000
DTEND;TZID=Europe/Berlin:20250621T180000
DTSTAMP:20260422T124236
CREATED:20250526T100656Z
LAST-MODIFIED:20250526T102831Z
UID:10005513-1750528800-1750528800@wandelstadt-esslingen.de
SUMMARY:Kino: Yurt
DESCRIPTION:Sa | 21.06.2025 | 18.00 Uhr\n118 Minuten | FSK nicht geprüft (ab 18 Jahren freigegeben)  | OmU \nDer Sundance-Alumni Nehir Tuna ist Regisseur\, Drehbuchautor und Produzent. Seine Arbeit kombiniert soziale Kommentare und eine originelle visuelle Ästhetik\, indem er Geschichten über die komplexen aktuellen Probleme der Türkei erzählt. \nEnde der 1990er Jahre nehmen die Spannungen zwischen religiösen und säkularen Türken zu. Der vierzehnjährige Ahmet wird von seinem frisch konvertierten Vater in ein islamisches Wohnheim – eine „Jurte“ – geschickt\, um muslimische Werte zu erlernen. Ahmet arbeitet hart daran\, ein perfekter Sohn zu sein\, aber er hat Schwierigkeiten\, sich einzufügen und fühlt sich auch in seiner säkularen Tagesschule isoliert\, wo er sein neues Zuhause vor seinen Mitschülern versteckt. Sein einziger Trost ist sein neuer Freund Hakan. Gemeinsam träumen sie davon\, ihre eigenen Entscheidungen zu treffen
URL:https://wandelstadt-esslingen.de/event/kino-yurt/
LOCATION:Kommunales Kino\, Maille 4-9\, Esslingen\, 73728\, Deutschland
END:VEVENT
END:VCALENDAR