BEGIN:VCALENDAR
VERSION:2.0
PRODID:-//Wandelstadt Esslingen - ECPv6.15.20//NONSGML v1.0//EN
CALSCALE:GREGORIAN
METHOD:PUBLISH
X-WR-CALNAME:Wandelstadt Esslingen
X-ORIGINAL-URL:https://wandelstadt-esslingen.de
X-WR-CALDESC:Veranstaltungen für Wandelstadt Esslingen
REFRESH-INTERVAL;VALUE=DURATION:PT1H
X-Robots-Tag:noindex
X-PUBLISHED-TTL:PT1H
BEGIN:VTIMEZONE
TZID:Europe/Berlin
BEGIN:DAYLIGHT
TZOFFSETFROM:+0100
TZOFFSETTO:+0200
TZNAME:CEST
DTSTART:20240331T010000
END:DAYLIGHT
BEGIN:STANDARD
TZOFFSETFROM:+0200
TZOFFSETTO:+0100
TZNAME:CET
DTSTART:20241027T010000
END:STANDARD
BEGIN:DAYLIGHT
TZOFFSETFROM:+0100
TZOFFSETTO:+0200
TZNAME:CEST
DTSTART:20250330T010000
END:DAYLIGHT
BEGIN:STANDARD
TZOFFSETFROM:+0200
TZOFFSETTO:+0100
TZNAME:CET
DTSTART:20251026T010000
END:STANDARD
BEGIN:DAYLIGHT
TZOFFSETFROM:+0100
TZOFFSETTO:+0200
TZNAME:CEST
DTSTART:20260329T010000
END:DAYLIGHT
BEGIN:STANDARD
TZOFFSETFROM:+0200
TZOFFSETTO:+0100
TZNAME:CET
DTSTART:20261025T010000
END:STANDARD
END:VTIMEZONE
BEGIN:VEVENT
DTSTART;TZID=Europe/Berlin:20250620T090000
DTEND;TZID=Europe/Berlin:20250620T110000
DTSTAMP:20260422T113504
CREATED:20250530T134504Z
LAST-MODIFIED:20250530T134504Z
UID:10005566-1750410000-1750417200@wandelstadt-esslingen.de
SUMMARY:Freitagssprechstunde
DESCRIPTION:Rufen Sie an! Vorstandsmitglieder vom StadtSeniorenRat haben von 9 bis 11 Uhr ein offenes Ohr für alle Anliegen von Seniorinnen sowie Senioren und vermitteln auch Termine bei der Esslinger Initiative zur Erstellung von Vorsorgepapieren wie Vollmachten und Patientenverfügungen: Telefon 0711 357420
URL:https://wandelstadt-esslingen.de/event/freitagssprechstunde-4/
LOCATION:Forum Esslingen in der Schelztorstraße 38\, 73728 Esslingen\, Schelztorstraße 38\, Esslingen\, 73728\, Deutschland
CATEGORIES:Infoveranstaltung
ATTACH;FMTTYPE=image/jpeg:https://wandelstadt-esslingen.de/wp-content/uploads/2025/05/Telefonieren.jpg
END:VEVENT
BEGIN:VEVENT
DTSTART;TZID=Europe/Berlin:20250620T140000
DTEND;TZID=Europe/Berlin:20250620T160000
DTSTAMP:20260422T113504
CREATED:20250424T162646Z
LAST-MODIFIED:20250424T162714Z
UID:10002530-1750428000-1750435200@wandelstadt-esslingen.de
SUMMARY:Beratung Esslinger Initiative
DESCRIPTION:Das Leben vom guten Ende her denken.\n\n\n\n\n\n\n\n\n\n\n\n\n\n\n\n\n\n\n\n\nFreitags 14 bis 16 Uhr kostenlose Beratungen der Esslinger Initiative e.V.\nAnmeldung; Fr 9-11 Uhr über Tel. 0711/357420 \nJa das ist unangenehm\, wo doch jetzt Leben dran ist. Scheint doch auch logisch zu sein es so anzugehen wie Heinz Erhardt seine Gedichte anfing „Ich fang mal mit dem Anfang an“.\n„Das Leben vom guten Ende her denken“ ist quasi das Motto der Esslinger Initiative um die es hier heute geht. Sie selbst bezeichnet sich als \n„Eine Initiative für die Wahrung von Menschenwürde und Selbstbestimmung im Alter und bei Krankheit“\, ausgehend von der Frage: „ \nWie kann das Selbstbestimmungsrecht im Alter und bei Krankheit – also in schwierigen Lebensphasen – erhalten werden?“. \nDie Esslinger Initiative … \n\nsetzt sich ein für einen menschenwürdigen Umgang mit Schwerstkranken und Sterbenden\nfördert die Verbesserung der medizinischen und pflegerischen Versorgung Schwerstkranker und Sterbender (Palliative Care)\ntritt ein für die Wahrung des Selbstbestimmungsrechts im Gesundheitswesen und in der Altenpflege\nwirbt für ihre Anliegen in öffentlichen Veranstaltungen\nbietet Beratungen zur Vorsorge an\nstellt Formulare zur Vorsorge zur Verfügung\nschult Ehrenamtliche zu kompetenten Beraterinnen und Beratern und bildet diese regelmäßig weiter\nunterstützt die Durchsetzung einer vorsorgenden Gesundheitsplanung (ACP)\n\n  \nDas besondere Angebot der Esslinger Initiative ist eine kostenlose und unabhängige Beratung zur Vorsorge\, abgestimmt auf die ganz persönliche Situation. Beratungsstellen im gesamten Landkreis Esslingen und darüber hinaus bieten diese Hilfe an.\nDas Ende geht alle an – ein Angebot an alle über 18! \nBitte vorab anmelden unter 0711/357420.
URL:https://wandelstadt-esslingen.de/event/beratung-esslinger-initiative-bitte-vorab-anmelden-2/2025-06-20/
LOCATION:Forum Esslingen – Zentrum für Bürgerengagement\, Schelztorstraße 38\, Esslingen\, Deutschland
ORGANIZER;CN="Esslinger Initiative e.V.":MAILTO:news@esslinger-initiative.de
END:VEVENT
BEGIN:VEVENT
DTSTART;TZID=Europe/Berlin:20250620T160000
DTEND;TZID=Europe/Berlin:20250620T220000
DTSTAMP:20260422T113504
CREATED:20250519T180900Z
LAST-MODIFIED:20250519T180900Z
UID:10005461-1750435200-1750456800@wandelstadt-esslingen.de
SUMMARY:Onkel Oskars Garten
DESCRIPTION:Sommerfreude im Esslinger Merkelpark! ☀️ \nDer Sommer steht vor der Tür – und wir können es kaum erwarten\, den wunderschönen\, historischen Merkelpark wieder mit Leben zu füllen! Nach den Veranstaltungen smashdiggawyld und der Premiere von Ab in … Onkel Oskars Garten im letzten Jahr legen wir 2025 noch eine Schippe drauf: \nFreut euch auf eine bunte Veranstaltungsreihe von Mitte Juni bis September! Statt nur an einem Wochenende feiern wir den Sommer dieses Jahr flexibel und wetterunabhängig\, immer wieder zu den Öffnungszeiten des fuenfbisneun:\nDonnerstag\, Freitag und Samstag 16–22 Uhr sowie Sonntag 14–20 Uhr \nEuch erwartet ein vielseitiges Programm in entspannter Park-Atmosphäre: \n🎶 Musik & DJ-Sets – zum Mitswingen und Genießen📖 Lesungen & Diskussionen – für Kopf und Herz🎭 Kulturelle & interaktive Aktionen – zum Mitmachen und Staunen🏀 Sport & Spiel – für Groß und Klein☕ Feine Gastronomie – zum Abkühlen und Anstossen \nUnd das Beste: Sollte das Wetter mal nicht mitspielen\, holen wir das Programm einfach an einem anderen Tag nach – so bleibt der Sommer voller Highlights! \nKommt vorbei\, bringt Freund*innen und Familie mit\, schnappt euch eine Decke und genießt die langen Sommerabende.
URL:https://wandelstadt-esslingen.de/event/onkel-oskars-garten-3/2025-06-20/
ORGANIZER;CN="Stadtjugendring Esslingen eV.":MAILTO:info@sjr-es.de
END:VEVENT
BEGIN:VEVENT
DTSTART;TZID=Europe/Berlin:20250620T180000
DTEND;TZID=Europe/Berlin:20250620T180000
DTSTAMP:20260422T113504
CREATED:20221010T204011Z
LAST-MODIFIED:20221010T204011Z
UID:10005582-1750442400-1750442400@wandelstadt-esslingen.de
SUMMARY:Critical Mass
DESCRIPTION:Critical Mass ist eine weltweite Fahrrad­bewegung\, um eine Alternative zum motorisi­erten Individual­verkehr aufzu­zeigen. Grundlage bildet Paragraph 27 der Straßenverkehrs-Ordnung. \nBei der Critical Mass Esslingen treffen sich jeden 3. Freitag im Monat Radfahrerinnen und Radfahrer zur gemeinsamen Fahrrad­ausfahrt durch Esslingen. Treffpunkt ist um 18:00 Uhr auf dem Bahnhofsvorplatz. Im Anschluss findet oft noch ein Erfahrungsaustausch beim „Radlerstammtisch“ statt.
URL:https://wandelstadt-esslingen.de/event/critical-mass-2/2025-06-20/
LOCATION:Bahnhofsvorplatz\, Esslingen
ORGANIZER;CN="Critical Mass":MAILTO:schugra@posteo.de
END:VEVENT
BEGIN:VEVENT
DTSTART;TZID=Europe/Berlin:20250620T180000
DTEND;TZID=Europe/Berlin:20250620T180000
DTSTAMP:20260422T113504
CREATED:20250526T113652Z
LAST-MODIFIED:20250526T113655Z
UID:10005527-1750442400-1750442400@wandelstadt-esslingen.de
SUMMARY:Kino:  Save our Souls
DESCRIPTION:Fr | 20.06.2025 | 18.00 Uhr\n95 Minuten | FSK 12  | OmU Specials > Film & Talk \nEinführung & Talk im Anschluss mit Katharina Bergmann (M.A. Interkulturalität und Integration)\, Emily Selz (Sozialarbeiterin) | Moderation: Kurt Hilsenbeck (Kirchlich diakonische Flüchtlingsarbeit)\, Bibiana Sigel (Sozialarbeiterin Caritas) | in Zusammenarbeit mit Offene Aktionsgruppe Migration & Integration\, Kreisdiakonieverband Esslingen\, Caritas Fils-Neckar-Alb \nBonnet begleitete 6 Wochen lang die bewegende Reise von Geflüchteten und Seenotretter:innen der „Ocean Viking“. Mit eindringlichen Bildern zeigt er die geduldige Wachsamkeit der Crew\, die Anspannung bei jeder Rettung und die Momente der Hoffnung\, wenn das Schiff endlich einen europäischen Hafen erreicht. Doch es sind vor allem die Stimmen der Geretteten\, die berühren\, ihre Geschichten von Flucht\, Verlust und Sehnsucht nach Sicherheit.
URL:https://wandelstadt-esslingen.de/event/kino-save-our-souls/
LOCATION:Kommunales Kino\, Maille 4-9\, Esslingen\, 73728\, Deutschland
END:VEVENT
BEGIN:VEVENT
DTSTART;TZID=Europe/Berlin:20250620T180000
DTEND;TZID=Europe/Berlin:20250620T190000
DTSTAMP:20260422T113504
CREATED:20250427T082145Z
LAST-MODIFIED:20250427T082816Z
UID:10005386-1750442400-1750446000@wandelstadt-esslingen.de
SUMMARY:Critical Mass Esslingen
DESCRIPTION:Jeden 3. Freitag im Monat treffen sich nette Leute zum gemeinsamen Cruisen durch Esslingen\, in der Tradition der weltweiten Critical Mass-Bewegung.\nBei der Genusstour mit Musik tanzen wir auf unseren Fahrrädern durch Esslingen.\nNach ca. 10km enden wir an einem schönen Ort der Stadt\, wo wir Getränk\, eine gute Zeit und interessanten Austausch genießen.
URL:https://wandelstadt-esslingen.de/event/critical-mass-esslingen-im-april-schon-am-gruendonnerstag-4/
LOCATION:Bahnhofsvorplatz\, Esslingen
CATEGORIES:Beteiligung,Demonstration,Gemütliches Treffen,Kulturveranstaltung,Vernetzungsveranstaltung
ATTACH;FMTTYPE=image/jpeg:https://wandelstadt-esslingen.de/wp-content/uploads/2025/04/CM-Logo-ohne-Termin-1.jpg
END:VEVENT
BEGIN:VEVENT
DTSTART;TZID=Europe/Berlin:20250620T183000
DTEND;TZID=Europe/Berlin:20250620T203000
DTSTAMP:20260422T113504
CREATED:20250523T134801Z
LAST-MODIFIED:20250523T134801Z
UID:10005502-1750444200-1750451400@wandelstadt-esslingen.de
SUMMARY:Regenbogenempfang der Stadt Esslingen am Neckar
DESCRIPTION:Wir laden Sie herzlich zum Regenbogenempfang der Stadt Esslingen am Neckar ein. \nAm Vorabend des Christopher Street Day möchten wir gemeinsam mit Ihnen ein Zeichen für Vielfalt\, Akzeptanz und Sichtbarkeit setzen: für eine Stadtgesellschaft\, in der queere Lebensweisen selbstverständlich dazugehören. \nDer Abend bietet Raum für Begegnung\, Austausch und kulturelle Beiträge im Zeichen der Offenheit. \nFreuen Sie sich auf: \n\nSektempfang\nGrußworte des Kulturbürgemeisters Yalcin Bayraktar und von QueerES e. V.\n(Ch)orale Gesangfreu(n)de – der queere Chor aus Stuttgart\nDrag Performances von Veronica Mont Royal und Alpine Ski\nMusik: DJ Bently Bentäga\n\nUm Anmeldung unter https://apps.esslingen.de/Veranstaltungen/Anmeldung?Nr=67 wird gebeten.
URL:https://wandelstadt-esslingen.de/event/regenbogenempfang-der-stadt-esslingen-am-neckar/
LOCATION:Fischbrunnenstr. 4\, 73728 Esslingen am Neckar
CATEGORIES:Gemütliches Treffen,Kulturveranstaltung,Vernetzungsveranstaltung
END:VEVENT
END:VCALENDAR