BEGIN:VCALENDAR
VERSION:2.0
PRODID:-//Wandelstadt Esslingen - ECPv6.15.20//NONSGML v1.0//EN
CALSCALE:GREGORIAN
METHOD:PUBLISH
X-WR-CALNAME:Wandelstadt Esslingen
X-ORIGINAL-URL:https://wandelstadt-esslingen.de
X-WR-CALDESC:Veranstaltungen für Wandelstadt Esslingen
REFRESH-INTERVAL;VALUE=DURATION:PT1H
X-Robots-Tag:noindex
X-PUBLISHED-TTL:PT1H
BEGIN:VTIMEZONE
TZID:Europe/Berlin
BEGIN:DAYLIGHT
TZOFFSETFROM:+0100
TZOFFSETTO:+0200
TZNAME:CEST
DTSTART:20240331T010000
END:DAYLIGHT
BEGIN:STANDARD
TZOFFSETFROM:+0200
TZOFFSETTO:+0100
TZNAME:CET
DTSTART:20241027T010000
END:STANDARD
BEGIN:DAYLIGHT
TZOFFSETFROM:+0100
TZOFFSETTO:+0200
TZNAME:CEST
DTSTART:20250330T010000
END:DAYLIGHT
BEGIN:STANDARD
TZOFFSETFROM:+0200
TZOFFSETTO:+0100
TZNAME:CET
DTSTART:20251026T010000
END:STANDARD
BEGIN:DAYLIGHT
TZOFFSETFROM:+0100
TZOFFSETTO:+0200
TZNAME:CEST
DTSTART:20260329T010000
END:DAYLIGHT
BEGIN:STANDARD
TZOFFSETFROM:+0200
TZOFFSETTO:+0100
TZNAME:CET
DTSTART:20261025T010000
END:STANDARD
END:VTIMEZONE
BEGIN:VEVENT
DTSTART;TZID=Europe/Berlin:20250619T150000
DTEND;TZID=Europe/Berlin:20250619T170000
DTSTAMP:20260422T113503
CREATED:20250329T050120Z
LAST-MODIFIED:20250329T050120Z
UID:10005010-1750345200-1750352400@wandelstadt-esslingen.de
SUMMARY:Gesprächskreis Aktuelles Zeitgeschehen
DESCRIPTION:Jeden Donnerstag von 15 : 00 – 17 : 00 Uhr\nOffener Treff – Gesprächskreis Aktuelles Zeitgeschehen\n In lockerer Runde und in einer Atmosphäre der gegenseitigen Toleranz und\ndes Respekts tauschen wir unsere Meinungen und Fragen hinsichtlich aktueller\nThemen (Politik\, Gesellschaft etc.) aus\, wobei wir offen für jedes Alter und jede\nKultur sind.\nVerschiedene Referent:innen und Gastteilnehmende klären zudem in unregel\nmäßigen Abständen zu speziellen Themen auf. Ebenso fließen Haltungen und\nMeinungen verschiedenster Alters- und Bevölkerungsgruppen ein.\nDiskutieren Sie mit uns – wir freuen uns auf Sie!\n Kontakt:\n Matthias Pallmert\,  gaz@mgh-es.de\nOrt: Mehrgenerationen- und Bürgerhaus\, Weilstr. 8
URL:https://wandelstadt-esslingen.de/event/gespraechskreis-aktuelles-zeitgeschehen/2025-06-19/
LOCATION:Mehrgenerationenhaus Esslingen\, Weilstraße 8\, Esslingen
END:VEVENT
BEGIN:VEVENT
DTSTART;TZID=Europe/Berlin:20250619T153000
DTEND;TZID=Europe/Berlin:20250619T153000
DTSTAMP:20260422T113503
CREATED:20250526T164939Z
LAST-MODIFIED:20250526T164939Z
UID:10005551-1750347000-1750347000@wandelstadt-esslingen.de
SUMMARY:Plakate malen für den CSD
DESCRIPTION:Unser CSD ist nicht nur eine Party\, sondern vor allem eine politische Demonstration! Um unsere Forderungen noch sichtbarer und deutlicher zu machen\, wollen wir gemeinsam Demoschilder basteln. Einen Teil des Materials stellen wir bringt aber gerne auch selbst Farben und Karton mit. \nbarrierefreier Zugang über Zehentgasse 1\, 73728 Esslingen am Neckar
URL:https://wandelstadt-esslingen.de/event/plakate-csd-25/
LOCATION:Modehaus Kögel
CATEGORIES:Workshop
END:VEVENT
BEGIN:VEVENT
DTSTART;TZID=Europe/Berlin:20250619T153000
DTEND;TZID=Europe/Berlin:20250619T153000
DTSTAMP:20260422T113503
CREATED:20250526T165946Z
LAST-MODIFIED:20250526T165946Z
UID:10005553-1750347000-1750347000@wandelstadt-esslingen.de
SUMMARY:Regenbogenempfang
DESCRIPTION:Wir freuen uns\, dass die Stadt Esslingen zum zweiten Mal zum Regenbogenempfang. Es wird einen Sektempfang sowie ein Grußwort geben. Nach dem Empfang machen wir gemeinsam ein Gruppenfoto. Wir freuen uns auf einen schönen Abend.
URL:https://wandelstadt-esslingen.de/event/regenbogenempfang/
LOCATION:Modehaus Kögel
CATEGORIES:Vernetzungsveranstaltung
END:VEVENT
BEGIN:VEVENT
DTSTART;TZID=Europe/Berlin:20250619T160000
DTEND;TZID=Europe/Berlin:20250619T220000
DTSTAMP:20260422T113503
CREATED:20250519T180826Z
LAST-MODIFIED:20250519T180826Z
UID:10005435-1750348800-1750370400@wandelstadt-esslingen.de
SUMMARY:Onkel Oskars Garten
DESCRIPTION:Sommerfreude im Esslinger Merkelpark! ☀️ \nDer Sommer steht vor der Tür – und wir können es kaum erwarten\, den wunderschönen\, historischen Merkelpark wieder mit Leben zu füllen! Nach den Veranstaltungen smashdiggawyld und der Premiere von Ab in … Onkel Oskars Garten im letzten Jahr legen wir 2025 noch eine Schippe drauf: \nFreut euch auf eine bunte Veranstaltungsreihe von Mitte Juni bis September! Statt nur an einem Wochenende feiern wir den Sommer dieses Jahr flexibel und wetterunabhängig\, immer wieder zu den Öffnungszeiten des fuenfbisneun:\nDonnerstag\, Freitag und Samstag 16–22 Uhr sowie Sonntag 14–20 Uhr \nEuch erwartet ein vielseitiges Programm in entspannter Park-Atmosphäre: \n🎶 Musik & DJ-Sets – zum Mitswingen und Genießen📖 Lesungen & Diskussionen – für Kopf und Herz🎭 Kulturelle & interaktive Aktionen – zum Mitmachen und Staunen🏀 Sport & Spiel – für Groß und Klein☕ Feine Gastronomie – zum Abkühlen und Anstossen \nUnd das Beste: Sollte das Wetter mal nicht mitspielen\, holen wir das Programm einfach an einem anderen Tag nach – so bleibt der Sommer voller Highlights! \nKommt vorbei\, bringt Freund*innen und Familie mit\, schnappt euch eine Decke und genießt die langen Sommerabende.
URL:https://wandelstadt-esslingen.de/event/onkel-oskars-garten-2/2025-06-19/
ORGANIZER;CN="Stadtjugendring Esslingen eV.":MAILTO:info@sjr-es.de
END:VEVENT
BEGIN:VEVENT
DTSTART;TZID=Europe/Berlin:20250619T180000
DTEND;TZID=Europe/Berlin:20250619T180000
DTSTAMP:20260422T113503
CREATED:20250526T110824Z
LAST-MODIFIED:20250526T110828Z
UID:10005520-1750356000-1750356000@wandelstadt-esslingen.de
SUMMARY:Kino:  Sieben Tage
DESCRIPTION:Mo | 23.06.2025 | 20.00 Uhr\n120 Minuten | FSK 12  | deutsche Originalfassung \nAli Samadi Ahadis emotionaler und brisanter Film – Fluchtthriller\, hochspannendes Roadmovie und Familiendrama – erzählt eine fiktive Geschichte\, ist aber inspiriert vom Leben und Wirken der Nobelpreisträgerin Narges Mohammadi. \nMaryam ist eine inhaftierte Menschenrechtsaktivistin. Nach einem Herzinfarkt wird ihr ein siebentägiger Freigang gewährt. Doch ihr in Hamburg lebender Mann Behnam und ihr Bruder in Teheran haben andere Pläne. Sie haben Maryams Flucht nach Deutschland vorbereitet. Behnam und ihre beiden Kinder reisen Maryam in die türkische Grenzstadt Van entgegen. Dorthin soll sie kommen und – so erhoffen es sich die drei – dann gemeinsam mit ihnen nach Deutschland fahren. Maryam ist zerrissen zwischen ihrer Sehnsucht nach ihrer Familie und dem Bedürfnis\, ihren Kampf aus dem Gefängnis im Iran weiterzuführen.
URL:https://wandelstadt-esslingen.de/event/kino-sieben-tage/
LOCATION:Kommunales Kino\, Maille 4-9\, Esslingen\, 73728\, Deutschland
END:VEVENT
BEGIN:VEVENT
DTSTART;TZID=Europe/Berlin:20250619T180000
DTEND;TZID=Europe/Berlin:20250619T200000
DTSTAMP:20260422T113503
CREATED:20250329T050707Z
LAST-MODIFIED:20250329T050707Z
UID:10005102-1750356000-1750363200@wandelstadt-esslingen.de
SUMMARY:Orte des Zuhörens
DESCRIPTION:Donnerstags \n18 : 00 – 20 : 00 Uhr\nOrte des Zuhörens – Caritas-Zentrum Esslingen\n Geschulte haupt- und ehrenamtliche Mitarbeiter:innen nehmen sich Zeit zum\nZuhören. Sie bieten ein offenes Ohr für alle Anliegen in sozialen und finanziellen\nFragen\, Unterstützung bei Anträgen und Bewerbungen sowie Hilfe im Umgang\nmit Behörden. Vertraulich und kostenlos!\nKontakt: Caritas Fils-Neckar-Alb\, Anniko Benedek\,  0711 3969 – 5422
URL:https://wandelstadt-esslingen.de/event/orte-des-zuhoerens/2025-06-19/
LOCATION:Caritas-Zentrum Esslingen\, Mettinger Str. 123\, Esslingen am Neckar\, 73728\, Deutschland
END:VEVENT
BEGIN:VEVENT
DTSTART;TZID=Europe/Berlin:20250619T190000
DTEND;TZID=Europe/Berlin:20250619T190000
DTSTAMP:20260422T113503
CREATED:20240628T160749Z
LAST-MODIFIED:20240629T175416Z
UID:10003614-1750359600-1750359600@wandelstadt-esslingen.de
SUMMARY:Fahrradwerkstatt
DESCRIPTION:Wir unterstützen Dich\, wenn Dein Fahrrad nicht mehr tut was es soll.\nFalls Ihr Interesse und Bedarf an unserer Fahrradwerkstatt habt\, meldet Euch per Mail: info@komma. \nVerantwortlich für die Werkstatt ist der Motorradclub Kuhle Wampe. Sie sind ein basisdemokratisch organisierter Motorradclub mit Sitz im Komma und sie betreiben eine Zweiradwerkstatt. Jeden Donnerstag ist die Fahrradwerkstatt geöffnet – bei gutem Wetter wird möglicherweise auch gegrillt.
URL:https://wandelstadt-esslingen.de/event/fahrrad-werkstatt/2025-06-19/
LOCATION:KOMMA\, Maille 5-9\, Esslingen\, Deutschland
END:VEVENT
BEGIN:VEVENT
DTSTART;TZID=Europe/Berlin:20250619T203000
DTEND;TZID=Europe/Berlin:20250619T203000
DTSTAMP:20260422T113503
CREATED:20250526T110431Z
LAST-MODIFIED:20250526T110442Z
UID:10005516-1750365000-1750365000@wandelstadt-esslingen.de
SUMMARY:Kino: Kein Tier. So wild
DESCRIPTION:Do | 19.06.2025 | 20.30 Uhr\n120 Minuten | FSK nicht geprüft (ab 18 Jahren freigegeben)  | deutsche Originalfassung \nBurhan Qurbani adaptiert nach BERLIN ALEXANDERPLATZ William Shakespeares Richard III. Die Handlung spielt im Berlin von heute. Eine gewagte\, bildgewaltige\, hoch stilisierte und spannende Mischung aus klassischem und modernem Stoff\, Theater und Film. \n„Betrogen durch Geburt um jeden Vorteil\, verformt\, unfertig“: Diese Worte spuckt Rashida York geradezu ihrem Spiegelbild entgegen. Normalerweise gehören die Sätze\, sinngemäß\, Shakespeares „Richard III.“. Anstelle der Häuser York und Lancaster bekriegen sich Clanfamilien\, aus Richard wird Rashida\, und nicht mehr der missgebildete Körper\, sondern die Rolle als Frau ist der Makel der Figur. Die vorgegebene Rangordnung aber will Rashida nicht akzeptieren. Sie beginnt\, gegen die eigene Familie zu intrigieren …
URL:https://wandelstadt-esslingen.de/event/kino-kein-tier-so-wild/
LOCATION:Kommunales Kino\, Maille 4-9\, Esslingen\, 73728\, Deutschland
END:VEVENT
END:VCALENDAR