BEGIN:VCALENDAR
VERSION:2.0
PRODID:-//Wandelstadt Esslingen - ECPv6.15.20//NONSGML v1.0//EN
CALSCALE:GREGORIAN
METHOD:PUBLISH
X-ORIGINAL-URL:https://wandelstadt-esslingen.de
X-WR-CALDESC:Veranstaltungen für Wandelstadt Esslingen
REFRESH-INTERVAL;VALUE=DURATION:PT1H
X-Robots-Tag:noindex
X-PUBLISHED-TTL:PT1H
BEGIN:VTIMEZONE
TZID:Europe/Berlin
BEGIN:DAYLIGHT
TZOFFSETFROM:+0100
TZOFFSETTO:+0200
TZNAME:CEST
DTSTART:20240331T010000
END:DAYLIGHT
BEGIN:STANDARD
TZOFFSETFROM:+0200
TZOFFSETTO:+0100
TZNAME:CET
DTSTART:20241027T010000
END:STANDARD
BEGIN:DAYLIGHT
TZOFFSETFROM:+0100
TZOFFSETTO:+0200
TZNAME:CEST
DTSTART:20250330T010000
END:DAYLIGHT
BEGIN:STANDARD
TZOFFSETFROM:+0200
TZOFFSETTO:+0100
TZNAME:CET
DTSTART:20251026T010000
END:STANDARD
BEGIN:DAYLIGHT
TZOFFSETFROM:+0100
TZOFFSETTO:+0200
TZNAME:CEST
DTSTART:20260329T010000
END:DAYLIGHT
BEGIN:STANDARD
TZOFFSETFROM:+0200
TZOFFSETTO:+0100
TZNAME:CET
DTSTART:20261025T010000
END:STANDARD
END:VTIMEZONE
BEGIN:VEVENT
DTSTART;VALUE=DATE:20250614
DTEND;VALUE=DATE:20250615
DTSTAMP:20260422T124235
CREATED:20250526T115347Z
LAST-MODIFIED:20250606T075545Z
UID:10005531-1749859200-1749945599@wandelstadt-esslingen.de
SUMMARY:Tag der Klimademokratie - Bundestag\, wir müssen reden!
DESCRIPTION:Mach mit beim Tag der Klimademokratie\nam 14. Juni 2025 \n+++ Wir starten den größten Klimadialog mit dem neuen Bundestag +++ Persönliche\, moderierte Gruppengespräche mit so vielen Politiker:innen wie noch nie +++ Online per Video dabei sein +++ Brennende Klimafragen stellen +++ \nHallo neuer Bundestag\, wir müssen reden! \nMitreden und Gehörtwerden ist urdemokratisch: Was bewegt die Bürger:innen nach der Wahl? Welche Pläne der Politiker:innen passen in den nächsten vier Jahren dazu? Im Dialog suchen wir die gemeinsamen Wege aus der Klimakrise.\nMotto 2025:\nWelche #KlimaZukunft machen wir gemeinsam möglich? \nWir fragen persönlich nach: Wer setzt echten\, gut finanzierten und sozial gerechten Klimaschutz um? Mit welchen konkreten Maßnahmen beenden wir die Abhängigkeit von Kohle\, Öl und Gas? Wir brechen auf in eine bessere #KlimaZukunft und reden miteinander über faire Lösungen für alle.\nDeine brennende Frage:\nBring sie mit zum Tag der Klimademokratie! \nAm 14. Juni 2025 geht es ums Mitmachen. Ob Du aktiv mitredest oder in den moderierten Gesprächsrunden zuhörst\, kannst Du später entscheiden. Wichtig ist\, dass Du Dich jetzt schon anmeldest\, um dabei zu sein. Zusammen sind wir viele!
URL:https://wandelstadt-esslingen.de/event/tag-der-klimademokratie/
LOCATION:online
CATEGORIES:Beteiligung
ORGANIZER;CN="Together for Future e.V.":MAILTO:kontakt@togetherforfuture.net
END:VEVENT
BEGIN:VEVENT
DTSTART;VALUE=DATE:20250614
DTEND;VALUE=DATE:20250615
DTSTAMP:20260422T124235
CREATED:20250627T222453Z
LAST-MODIFIED:20250627T222453Z
UID:10005994-1749859200-1749945599@wandelstadt-esslingen.de
SUMMARY:Linux-Café
DESCRIPTION:Dein PC oder Laptop soll im Elektroschrott landen\, nur weil das vorinstallierte Betriebssystem von Microsoft\, Apple oder Google nicht mehr länger mit Sicherheitsupdates versorgt wird?\nWir unterstützen dich beim Umstieg auf Linux\, das freie\, quelloffene\, sichere und kostenlose Betriebssystem! \nMehr Infos zum Linux-Café\, zum Ablauf der Neuinstallation\, zu den nötigen und empfohlenen Vorbereitungen und ganz allgemein zu Freier Software findest du hier: \nwww.reparaturcafe-esslingen.de/linuxcafe
URL:https://wandelstadt-esslingen.de/event/linux-cafe-2/2025-06-14/
LOCATION:Makers Inn\, Küferstraße 46\, Esslingen
ATTACH;FMTTYPE=image/jpeg:https://wandelstadt-esslingen.de/wp-content/uploads/2024/10/241010_linuxcafe_logo_hoch_2-scaled.jpg
END:VEVENT
BEGIN:VEVENT
DTSTART;TZID=Europe/Berlin:20250614T073000
DTEND;TZID=Europe/Berlin:20250614T093000
DTSTAMP:20260422T124235
CREATED:20250527T173453Z
LAST-MODIFIED:20250602T181243Z
UID:10005556-1749886200-1749893400@wandelstadt-esslingen.de
SUMMARY:Wiesenmahd - Agendagruppe Streuobstwiesen
DESCRIPTION:Locker und mit Schwung: Eine Wiese mit der Sense mähen \nAnfänger sind besonders willkommen. Die Termine sind an 4 Samstagen im Juni am 07.06 / 14.06. / 21.06. / 28.06. und außerdem dienstags am 10.06. / 17.06. / 24.06. für alle\, die auch unter der Woche Zeit haben. Die Termine beginnen alle um 7 Uhr 30 und dauern bis etwa 9 Uhr 30. Wir treffen uns an der Wiese\, auf der Karte zu finden mit Google Maps unter den Koordinaten 48.74885\, 9.30826. Der Zugang erfolgt über die Mülbergerstraße – Obere Beutau – Wittumhalde. Anmeldung bei Rainer König unter rainer.o.koenig@web.de oder 0151 50742396. Eigene Sensen und Wetzsteine sollten mitgebracht werden. Mehrere Sensen zum Ausleihen sind vorhanden.
URL:https://wandelstadt-esslingen.de/event/wiesenmahd-agendagruppe-streuobstwiesen-3/
ORGANIZER;CN="Agendagruppe Streuobstwiesen":MAILTO:streuobstgruppe@forum-esslingen.de
END:VEVENT
BEGIN:VEVENT
DTSTART;TZID=Europe/Berlin:20250614T140000
DTEND;TZID=Europe/Berlin:20250614T150000
DTSTAMP:20260422T124235
CREATED:20250526T154114Z
LAST-MODIFIED:20250526T154114Z
UID:10005540-1749909600-1749913200@wandelstadt-esslingen.de
SUMMARY:Queerbeet-Lesung: Zwei Papas für Tango
DESCRIPTION:Die Königin höchstpersönlich\, Queen Henni\, gewährt Audienz im ehemaligen Modehaus Kögel in der Zehentgasse 1/ Rathausplatz 14. Die Drag Queen liest aus dem Kinderbuch „Zwei Papas für Tango“ von Edith Schreiber-Wicke für Kinder zwischen 4 bis 12 Jahren. In dieser Geschichte\, die sich so im Zoo von New York wirklich zugetragen hat\, bauen die beiden Pinguin-Jungs Roy und Silo gemeinsam ein Nest\, ganz ohne Weibchen. „Das wird nie was“\, denken sich ihre Tierpfleger … bis ihnen eines Tages ein kleines Wunder namens Tango entgegen tschilpt. \nQUEERBEET ist die neue Literaturreihe in der Esslinger Innenstadt: Vom 13. bis 15. Juni finden an drei Tagen drei Veranstaltungen zu queerer Literatur für verschiedene Altersgruppen statt. Die Veranstalter:innen QueerES e. V.\, Poppinski und Stadtbücherei Esslingen möchten mit diesen kostenfreien Lesungen die diverse Stadtgesellschaft sichtbar machen und den Stimmen marginalisierter Gruppen eine Bühne bieten. \n\n\n\nPreis:\nkostenfrei\n\n\nDauer:\n1h\n\n\nHinweis:\nkeine Anmeldung nötig\, empfohlen ab 4 Jahren
URL:https://wandelstadt-esslingen.de/event/queerbeet-lesung-zwei-papas-fuer-tango/
LOCATION:Modehaus Kögel
END:VEVENT
BEGIN:VEVENT
DTSTART;TZID=Europe/Berlin:20250614T160000
DTEND;TZID=Europe/Berlin:20250614T220000
DTSTAMP:20260422T124235
CREATED:20250519T180714Z
LAST-MODIFIED:20250519T180714Z
UID:10005407-1749916800-1749938400@wandelstadt-esslingen.de
SUMMARY:Onkel Oskars Garten
DESCRIPTION:Sommerfreude im Esslinger Merkelpark! ☀️ \nDer Sommer steht vor der Tür – und wir können es kaum erwarten\, den wunderschönen\, historischen Merkelpark wieder mit Leben zu füllen! Nach den Veranstaltungen smashdiggawyld und der Premiere von Ab in … Onkel Oskars Garten im letzten Jahr legen wir 2025 noch eine Schippe drauf: \nFreut euch auf eine bunte Veranstaltungsreihe von Mitte Juni bis September! Statt nur an einem Wochenende feiern wir den Sommer dieses Jahr flexibel und wetterunabhängig\, immer wieder zu den Öffnungszeiten des fuenfbisneun:\nDonnerstag\, Freitag und Samstag 16–22 Uhr sowie Sonntag 14–20 Uhr \nEuch erwartet ein vielseitiges Programm in entspannter Park-Atmosphäre: \n🎶 Musik & DJ-Sets – zum Mitswingen und Genießen📖 Lesungen & Diskussionen – für Kopf und Herz🎭 Kulturelle & interaktive Aktionen – zum Mitmachen und Staunen🏀 Sport & Spiel – für Groß und Klein☕ Feine Gastronomie – zum Abkühlen und Anstossen \nUnd das Beste: Sollte das Wetter mal nicht mitspielen\, holen wir das Programm einfach an einem anderen Tag nach – so bleibt der Sommer voller Highlights! \nKommt vorbei\, bringt Freund*innen und Familie mit\, schnappt euch eine Decke und genießt die langen Sommerabende.
URL:https://wandelstadt-esslingen.de/event/onkel-oskars-garten/2025-06-14/
ORGANIZER;CN="Stadtjugendring Esslingen eV.":MAILTO:info@sjr-es.de
END:VEVENT
END:VCALENDAR